BEGIN:VCALENDAR
VERSION:2.0
PRODID:-//Karlinem.cz - ECPv6.2.0.1//NONSGML v1.0//EN
CALSCALE:GREGORIAN
METHOD:PUBLISH
X-ORIGINAL-URL:https://karlinem.cz
X-WR-CALDESC:Akce na Karlinem.cz
REFRESH-INTERVAL;VALUE=DURATION:PT1H
X-Robots-Tag:noindex
X-PUBLISHED-TTL:PT1H
BEGIN:VTIMEZONE
TZID:Europe/Prague
BEGIN:DAYLIGHT
TZOFFSETFROM:+0100
TZOFFSETTO:+0200
TZNAME:CEST
DTSTART:20230326T010000
END:DAYLIGHT
BEGIN:STANDARD
TZOFFSETFROM:+0200
TZOFFSETTO:+0100
TZNAME:CET
DTSTART:20231029T010000
END:STANDARD
END:VTIMEZONE
BEGIN:VEVENT
DTSTART;TZID=Europe/Prague:20230718T180000
DTEND;TZID=Europe/Prague:20230718T220000
DTSTAMP:20260424T034933
CREATED:20230716T134421Z
LAST-MODIFIED:20230716T134421Z
UID:10000060-1689703200-1689717600@karlinem.cz
SUMMARY:Afro Sunset Party at River Rink Karlín
DESCRIPTION:Přitančete do Karlína na Afro Sunset Party s Sani Pragkizerem! Oblíbená taneční party v afro rytmech pod širým nebem pokračuje i letos! Čeká na vás pozitivní vibe\, poznávání nových lidí\, vyladěné drinky a #chillureky.
URL:https://karlinem.cz/event/afro-sunset-party-at-river-rink-karlin/
LOCATION:River Rink Karlín\, Karolínská 8\, Karlín\, 18600\, Česká republika
CATEGORIES:Tanec
ATTACH;FMTTYPE=image/jpeg:https://karlinem.cz/wp-content/uploads/2023/07/350537536_907971980498627_2149296049821966068_n-1.jpg
END:VEVENT
END:VCALENDAR