BEGIN:VCALENDAR
VERSION:2.0
PRODID:-//Karlinem.cz - ECPv6.2.0.1//NONSGML v1.0//EN
CALSCALE:GREGORIAN
METHOD:PUBLISH
X-ORIGINAL-URL:https://karlinem.cz
X-WR-CALDESC:Akce na Karlinem.cz
REFRESH-INTERVAL;VALUE=DURATION:PT1H
X-Robots-Tag:noindex
X-PUBLISHED-TTL:PT1H
BEGIN:VTIMEZONE
TZID:Europe/Prague
BEGIN:DAYLIGHT
TZOFFSETFROM:+0100
TZOFFSETTO:+0200
TZNAME:CEST
DTSTART:20240331T010000
END:DAYLIGHT
BEGIN:STANDARD
TZOFFSETFROM:+0200
TZOFFSETTO:+0100
TZNAME:CET
DTSTART:20241027T010000
END:STANDARD
END:VTIMEZONE
BEGIN:VEVENT
DTSTART;TZID=Europe/Prague:20240315T193000
DTEND;TZID=Europe/Prague:20240315T213000
DTSTAMP:20260424T174342
CREATED:20240229T090620Z
LAST-MODIFIED:20240229T090620Z
UID:10000426-1710531000-1710538200@karlinem.cz
SUMMARY:Lavabo
DESCRIPTION:Pohy­bová insce­nace s prvky nového cirkusu. \nInsce­nace je výzkumem fyz­ick­ého i duševního očistění\, pře­chodovým prožitím vlast­ního těla a těch okamžiků\, kdy se ocitáme jen sami se sebou. Kde končí lid­ské tělo a začíná mysl? Obličej je jed­iná část těla\, kter­ou na sobě nikdy neu­vidíme. To\, co z něj můžeme vidět\, je vždy jen jeho repro­dukce nebo jeho obraz.
URL:https://karlinem.cz/event/lavabo-3/
LOCATION:Kasárna Karlín\, Prvního pluku 2\, Karlín\, 18600\, Česká republika
CATEGORIES:Divadlo
ATTACH;FMTTYPE=image/jpeg:https://karlinem.cz/wp-content/uploads/2024/02/428457097_325378893823334_8354328016610709904_n.jpeg
END:VEVENT
END:VCALENDAR