BEGIN:VCALENDAR
VERSION:2.0
PRODID:-//Karlinem.cz - ECPv6.2.0.1//NONSGML v1.0//EN
CALSCALE:GREGORIAN
METHOD:PUBLISH
X-WR-CALNAME:Karlinem.cz
X-ORIGINAL-URL:https://karlinem.cz
X-WR-CALDESC:Akce na Karlinem.cz
REFRESH-INTERVAL;VALUE=DURATION:PT1H
X-Robots-Tag:noindex
X-PUBLISHED-TTL:PT1H
BEGIN:VTIMEZONE
TZID:Europe/Prague
BEGIN:DAYLIGHT
TZOFFSETFROM:+0100
TZOFFSETTO:+0200
TZNAME:CEST
DTSTART:20230326T010000
END:DAYLIGHT
BEGIN:STANDARD
TZOFFSETFROM:+0200
TZOFFSETTO:+0100
TZNAME:CET
DTSTART:20231029T010000
END:STANDARD
BEGIN:DAYLIGHT
TZOFFSETFROM:+0100
TZOFFSETTO:+0200
TZNAME:CEST
DTSTART:20240331T010000
END:DAYLIGHT
BEGIN:STANDARD
TZOFFSETFROM:+0200
TZOFFSETTO:+0100
TZNAME:CET
DTSTART:20241027T010000
END:STANDARD
BEGIN:DAYLIGHT
TZOFFSETFROM:+0100
TZOFFSETTO:+0200
TZNAME:CEST
DTSTART:20250330T010000
END:DAYLIGHT
BEGIN:STANDARD
TZOFFSETFROM:+0200
TZOFFSETTO:+0100
TZNAME:CET
DTSTART:20251026T010000
END:STANDARD
END:VTIMEZONE
BEGIN:VEVENT
DTSTART;TZID=Europe/Prague:20250123T173000
DTEND;TZID=Europe/Prague:20250123T200000
DTSTAMP:20260422T235652
CREATED:20241219T135841Z
LAST-MODIFIED:20241219T140122Z
UID:10000571-1737653400-1737662400@karlinem.cz
SUMMARY:FFP: Detox – jak se odpojit od toxinů
DESCRIPTION:Jak se odpojit od toxinů\nVe druhém večeru FutureFood Prague otevíráme téma\, které v začátku roku rezonuje více než jindy. Právě zimní období\, kdy naše těla čelí sníženému příjmu čerstvých potravin\, omezenému pohybu a zvýšené zátěži metabolismu\, je ideálním časem pro revizi našeho přístupu k detoxikaci.\nNaším průvodcem bude Dušan Plichta\, zakladatel Powerlogy a respektovaný expert v oblasti biohackingu. Jeho jedinečný přístup spojuje vědecké poznání s praktickou aplikací přírodních principů. Jako někdo\, kdo sám prošel cestou od vrcholového sportu k holistickému pojetí zdraví\, přináší Dušan autentický vhled do světa funkčních potravin a jejich role v přirozené detoxikaci.\nVečer se zaměříme na sílu zelených superpotravin a jejich správnou implementaci do každodenního života. Odkryjeme vědecky podložené principy detoxikace\, zbavené marketingových příslibů a mýtů. Dozvíte se\, jak vytvořit udržitelné návyky\, které podporují přirozenou schopnost těla obnovovat rovnováhu.\nSoučástí večera bude i praktická ukázka aplikace těchto principů. Ve spolupráci s Powerlogy a Vibe Bistro jsme připravili speciální ochutnávkové menu. Dušan osobně představí jednotlivé produkty a vysvětlí jejich praktické využití. Každý účastník si navíc odnese domů balíček vzorků pro vlastní experimentování.\nSetkání proběhne v inspirativním prostoru Scott.Weber Workspace (Boudníkova 2538/13\, Praha 8)\, kde se v komorní atmosféře potkáte s podobně smýšlejícími lidmi. Těšit se můžete na večer plný objevných informací\, kvalitního jídla a podnětných konverzací.\nVstupenky jsou dostupné na GoOut (odkaz níže)\nhttps://goout.net/cs/ffp-detox-jak-se-odpojit-od-toxinu/szcvmox/
URL:https://karlinem.cz/event/ffp-detox-jak-se-odpojit-od-toxinu/
LOCATION:DOCK in Five .- Scott.Weber\, oudníkova 2538/13\, 180 00 Praha 8\, Dock in Five\, Praha 8\, 18000
ATTACH;FMTTYPE=image/jpeg:https://karlinem.cz/wp-content/uploads/2024/12/2.jpg
ORGANIZER;CN="FuturFoodPrague":MAILTO:daniela@futurefoodprague.cz
END:VEVENT
BEGIN:VEVENT
DTSTART;TZID=Europe/Prague:20240709T203000
DTEND;TZID=Europe/Prague:20240709T223000
DTSTAMP:20260422T235652
CREATED:20240621T114248Z
LAST-MODIFIED:20240621T114248Z
UID:10000570-1720557000-1720564200@karlinem.cz
SUMMARY:gogolák+grasse: Urbanismus a návsi
DESCRIPTION:Večery +\, o urbanismu a jeho překryvech. Dramaturgie každého večera je zacílená na rozdílná témata. Gogolák+Grasse tak ve spolupráci s Přístav 18600 chtějí poukázat na různé aspekty urbanismu\, plánování měst a jejich dopad na naše prostředí.\nDruhý večer desátého ročníku je zaměřen na „návsi“ a urbanismus.\nNávsi jsou protipólem náměstí – hlavními uzly vesnického prostředí. V rámci jejich urbandesignu – tedy řešení urbanistického detailu v podobě prostředí\, se podíváme zejména na různorodost těchto prostranství a vstupů do nich. Od skupin objektů a jejich prostranství až po doplňování a rozšiřování systému jejich prostranství\, případně reminiscencí na ně. Dnešní život i využití vesnic a drobných sídel je zásadní otázkou pro Českou republiku s ohledem na jejich množství a různorodost.\nJaký má dnes význam náves v rámci vesnice a urbanismu? Jak pojmout současné přístupy? Jaké pojmou pobývání a charakter vesnice v urbanismu?
URL:https://karlinem.cz/event/gogolakgrasse-urbanismus-a-navsi/
LOCATION:Přístav 18600\, Rohanský ostrov 8\, Karlín\, 18600\, Česká republika
CATEGORIES:Přednáška
ATTACH;FMTTYPE=image/jpeg:https://karlinem.cz/wp-content/uploads/2024/06/448316009_969401144982169_7159020987260015337_n.jpg
END:VEVENT
BEGIN:VEVENT
DTSTART;TZID=Europe/Prague:20240301T160000
DTEND;TZID=Europe/Prague:20240301T180000
DTSTAMP:20260422T235652
CREATED:20240225T174321Z
LAST-MODIFIED:20240225T174321Z
UID:10000414-1709308800-1709316000@karlinem.cz
SUMMARY:PŘÍBĚHY NAŠICH SOUSEDŮ
DESCRIPTION:Zveme vás na slavnos­t­ní prezentaci pamět­nick­ých příběhů\, které objevili žáci z Prahy 8 a stu­den­ti střed­ních škol. Můžete se těšit na příběhy pamět­níků\, kteří zažili konec II. svě­tové války\, vyrůstali v Kuva­j­tu či se podíleli na obnově Libeňské synagogy.
URL:https://karlinem.cz/event/pribehy-nasich-sousedu/
LOCATION:Kasárna Karlín\, Prvního pluku 2\, Karlín\, 18600\, Česká republika
CATEGORIES:Přednáška
ORGANIZER;CN="Kas%C3%A1rna%20Karl%C3%ADn":MAILTO:info@​kasarnakarlin.​cz
END:VEVENT
BEGIN:VEVENT
DTSTART;TZID=Europe/Prague:20240226T180000
DTEND;TZID=Europe/Prague:20240226T200000
DTSTAMP:20260422T235652
CREATED:20240225T173951Z
LAST-MODIFIED:20240225T173951Z
UID:10000412-1708970400-1708977600@karlinem.cz
SUMMARY:LOS PEREGRINOS
DESCRIPTION:Stře­doškol­ský stu­dentský doku­men­tární film\, který vznikl jako matu­rit­ní pro­jekt. Doku­ment se zabývá pout­ní ces­tou Camino de San­ti­a­go a snaží se jí při­blížit ostat­ním\, kteří by o ní chtěli vědět více. Uvidíte jak osob­ní zážitky stu­den­tů z průběhu poutě\, ale i rozhovory s ostat­ní­mi pout­níky\, co ces­tu také pod­nikli. V rozhovorech se dozvíte napřík­lad proč zrov­na oni se rozhodli ces­tu jít a další zajímavosti. \nDoku­ment je dlouhý cca 30 min je převážně česky. Obsahu­je však rozhovory s pout­níky\, které jsou v jiných jazy­cích\, ale mají české titulky. \nZačátek akce v 18:00. Promí­taní začne v 18:30\, po kterém bude násle­dovat pros­tor na otázky.\nVstup­né je dobrovolné.
URL:https://karlinem.cz/event/los-peregrinos/
LOCATION:Kasárna Karlín\, Prvního pluku 2\, Karlín\, 18600\, Česká republika
CATEGORIES:Kino
ATTACH;FMTTYPE=image/webp:https://karlinem.cz/wp-content/uploads/2024/02/img_4649.jpeg.webp
END:VEVENT
BEGIN:VEVENT
DTSTART;TZID=Europe/Prague:20231122T190000
DTEND;TZID=Europe/Prague:20231122T210000
DTSTAMP:20260422T235652
CREATED:20231118T162528Z
LAST-MODIFIED:20231118T162528Z
UID:10000255-1700679600-1700686800@karlinem.cz
SUMMARY:BLIX NOT BOMBS + debata
DESCRIPTION:BLIX NOT BOMBS\nGre­ta Stock­las­sa — Česko / Německo / Švéd­sko — 2023 — 85 min — CZ titulky \nHans Blix si dnes užívá klid­ný důchod. Na začátku milé­nia ale sehrál klíčovou roli ve válce pro­ti teroru. V rozhovoru s režisérk­ou Gre­tou Stock­las­sa se zamýšlí nad svou kar­iérou i odkazem\, který zanechá příštím gen­er­acím. ​„Proč se nám nedaří žít v míru?“ ptá se švéd­sko-česká režisér­ka Gre­ta Stock­las­sa v osob­ně laděném úvo­du svého nového doku­men­tu. Odpověď hledá spolu s Hansem Blix­em\, někde­jším šéfem zbro­jních inspek­torů Rady bezpečnos­ti OSN. V otevřeném reka­pit­u­lačním rozhovoru se Stock­las­sa zaměřu­je přede­vším na hledání zbraní hro­mad­ného ničení po 11. září 2001. Ačko­liv neby­ly nikdy nalezeny\, poslouži­ly jako zámin­ka k amer­ické invazi do Iráku. Když dojde na otázku osob­ní zod­pověd­nos­ti za válku a další katas­tro­fy\, mění se Blix z vlíd­ného švéd­ského senio­ra v rázného diplo­ma­ta\, který o určitých témat­e­ch odmítá disku­to­vat. Jeho portrét je zároveň pronikavou rozpravou o lim­itech diplo­ma­cie a empatie. \nPo pro­jek­ci bude násle­dovat deba­ta moderovaná nov­inářk­ou Tere­zou Engelovou za účasti nov­ináře a ana­lyti­ka Břetisla­va Tureč­ka a spiso­vatelky a reportérky Pavly Jazairi­ové. Disku­to­vat budeme o nov­inářské odpověd­nos­ti při repor­tování o válečných kon­flik­tech\, roli OSN\, o lim­itech diplo­ma­cie a o všem dalším\, co vás k fil­mu bude zajímat. \nPOZOR\, HRA­JEME V NOVÉM SÁLE VZADU NAHOŘE!
URL:https://karlinem.cz/event/blix-not-bombs-debata/
LOCATION:Kasárna Karlín\, Prvního pluku 2\, Karlín\, 18600\, Česká republika
CATEGORIES:Kino
ATTACH;FMTTYPE=image/jpeg:https://karlinem.cz/wp-content/uploads/2023/11/398023707_266203329750367_3431055608006009374_n.jpeg
ORGANIZER;CN="Kas%C3%A1rna%20Karl%C3%ADn":MAILTO:info@​kasarnakarlin.​cz
END:VEVENT
END:VCALENDAR