BEGIN:VCALENDAR
VERSION:2.0
PRODID:-//Karlinem.cz - ECPv6.2.0.1//NONSGML v1.0//EN
CALSCALE:GREGORIAN
METHOD:PUBLISH
X-WR-CALNAME:Karlinem.cz
X-ORIGINAL-URL:https://karlinem.cz
X-WR-CALDESC:Akce na Karlinem.cz
REFRESH-INTERVAL;VALUE=DURATION:PT1H
X-Robots-Tag:noindex
X-PUBLISHED-TTL:PT1H
BEGIN:VTIMEZONE
TZID:Europe/Prague
BEGIN:DAYLIGHT
TZOFFSETFROM:+0100
TZOFFSETTO:+0200
TZNAME:CEST
DTSTART:20230326T010000
END:DAYLIGHT
BEGIN:STANDARD
TZOFFSETFROM:+0200
TZOFFSETTO:+0100
TZNAME:CET
DTSTART:20231029T010000
END:STANDARD
END:VTIMEZONE
BEGIN:VEVENT
DTSTART;TZID=Europe/Prague:20230824T190000
DTEND;TZID=Europe/Prague:20230824T210000
DTSTAMP:20260422T235642
CREATED:20230819T101823Z
LAST-MODIFIED:20230819T101823Z
UID:10000105-1692903600-1692910800@karlinem.cz
SUMMARY:Valentina Sandoval (ARG) + Malála (CZ/PE): koncert/DJs
DESCRIPTION:Přijďte do Přístavu za večerem plným hudby a španělštiny!\n𝕍𝕒𝕝𝕖𝕟𝕥𝕚𝕟𝕒 𝕊𝕒𝕟𝕕𝕠𝕧𝕒𝕝\nArgentinská hudebnice žijící v Praze. Svými písněmi vás zve\, abyste se nechali unášet zasněnými melodiemi o lásce a poezii\, v nichž se mísí rock s alternativním popem.\nValentina představí své album s celou kapelou. Vystoupí s hudebníky Pablem Rulosem na kytaru\, Roksanem Mandelem na klávesy/syntezátory\, Guillermem Acostou na standup bass a Adamem Urbanem na bicí.\n🇬🇧 Valentina Sandoval is an Argentinian musician based in Prague. With her songs\, she invites you to let yourself go on dreamy melodies about love and poetry\, mixing up rock with alternative pop. Valentina will be presenting her album with a full band\, performing with musicians Pablo Rulos on the guitar\, Roksan Mandel on keys/synths\, Guillermo Acosta on the standup bass and Adam Urban on drums.\nlinktr.ee/valentina.sandxval\n𝕄𝕒𝕝𝕒́𝕝𝕒\nSpojení jihoamerických pulzujících rytmů a hloubky basové\, analogové syntézy českého tvůrce\, takový je projekt Malála… Cezar Chunk producent a Dj z Peru\, dlouhodobě žijící v Praze\, spojuje síly s českým tvůrcem\, muzikantem Sursum Cordou (Broňa). Vzniká třeskutá a zvukově rozhodně netradiční digitálně analogová smršť\, kombinace digitální produkce Cezar Chunka (Ableton) a analogového systému Broni (Live Bass Guitar\, Moog\, Akai Mpc). Mimochodem – Malála je jméno nejmladší držitelky Nobelovy ceny míru\, tribut tvůrců silám ženské energie!!!\nhttps://www.facebook.com/SursumCordaTune\n#bronapoe\nhttps://www.facebook.com/CesarChunkDj\n🇬🇧 The combination of South American pulsating rhythms and the depth of bass\, analogue synthesis of a Czech artist\, that is Malala… Cezar Chunk producer and Dj from Peru\, living in Prague\, joins forces with Czech creator\, musician Sursum Corda (Broňa). The result is a banging and sonically unconventional digital-analogue whirlwind\, a combination of Cezar Chunk’s digital production (Ableton) and Broňa’s analogue system (Live Bass Guitar\, Moog\, Akai Mpc). By the way – Malala is the name of the youngest Nobel Peace Prize winner\, as a tribute by the creators to the forces of female energy!!!\nStage pod stromem.\nVstupné dobrovolné na místě/ v předprodeji na GoOut.
URL:https://karlinem.cz/event/valentina-sandoval-arg-malala-cz-pe-koncert-djs/
LOCATION:Přístav 18600\, Rohanský ostrov 8\, Karlín\, 18600\, Česká republika
CATEGORIES:Koncert
ATTACH;FMTTYPE=image/jpeg:https://karlinem.cz/wp-content/uploads/2023/08/Pristav-18600-2021-Facebook-cover-1920x1080-kopie.pptx-600x338-1.jpg
END:VEVENT
BEGIN:VEVENT
DTSTART;TZID=Europe/Prague:20230823T193000
DTEND;TZID=Europe/Prague:20230823T210000
DTSTAMP:20260422T235642
CREATED:20230819T101826Z
LAST-MODIFIED:20230819T101826Z
UID:10000109-1692819000-1692824400@karlinem.cz
SUMMARY:Jazz v Kasárnách: Sépie z hor
DESCRIPTION:Jaz­zové léto v Kasárnách: Sépie z hor \nSépie z hor je mod­erní ​„jaz­zová“ kapela čtyř sehraných kamarádů a zkušených hudeb­níků\, která se for­movala v průběhu posled­ních pěti let hraním na českých fes­ti­valech\, v klubech a na berlín­ských ulicích. V posled­ních dvou letech se kapela ustálila ve složení basky­tara\, sax­o­fon\, housle a bicí. Hud­ba je založe­na na improvizaci\, exper­i­men­tování a pro­pra­cov­ání opaku­jících se motivů. Živá vys­toupení výborně sehraných muzikan­tů vyza­řu­jí živel­nou energii a inspiraci. V roce 2022 vydala kapela své první album s názvem Děj se vůle soží\, které se setka­lo s úspěchem u fanouškovské zák­lad­ny kape­ly\, ale i u lidí\, kteří kapelu nikdy neslyšeli. \n—Předprodej GoOut: 150\,-\n—Na místě: 200\,-\n—Zvýhodněná permice na celou sezónu: 600\,-  \nKon­cert se koná na venkovním pódiu Kasárny Karlín. \nZa pod­poru děku­jeme MČ Pra­ha 8 a OSA.
URL:https://karlinem.cz/event/jazz-v-kasarnach-sepie-z-hor/
LOCATION:Kasárna Karlín\, Prvního pluku 2\, Karlín\, 18600\, Česká republika
CATEGORIES:Koncert
ATTACH;FMTTYPE=image/jpeg:https://karlinem.cz/wp-content/uploads/2023/08/347880023_264985392611106_795456448463880877_n.jpeg
ORGANIZER;CN="Kas%C3%A1rna%20Karl%C3%ADn":MAILTO:info@kasarnakarlin.cz
END:VEVENT
BEGIN:VEVENT
DTSTART;TZID=Europe/Prague:20230822T193000
DTEND;TZID=Europe/Prague:20230822T210000
DTSTAMP:20260422T235642
CREATED:20230819T101825Z
LAST-MODIFIED:20230819T101825Z
UID:10000108-1692732600-1692738000@karlinem.cz
SUMMARY:Jazz v Kasárnách: Kristina Barta Quartet
DESCRIPTION:Pianist­ka Kristi­na Bar­ta je mez­inárod­ní umělkyní – vys­tupu­je nejen v České repub­lice\, ale i v Německu a dalších evrop­ských státech. Deb­u­tovou desku EMA29 vydala v Rak­ousku\, ste­jně tak tomu bylo s jejím posled­ním albem Love and Pas­sion. Získala něko­lik zahraničních ocenění a je držitelk­ou Ceny OSA za nejlepší jaz­zovou kom­pozi­ci roku 2016. Za svůj největší zahraniční úspěch považu­je vys­toupení na svě­tovém jaz­zovém veletrhu a show­case fes­ti­valu Jaz­za­head! v Brémách. V součas­né době vys­tupu­je se svým kvartetem\, se kterým natoči­la nové album ve spoluprá­ci s tenor sax­o­fon­is­tou svě­tového for­má­tu Jure Puk­lem (Slovinsko/​USA). \n—Předprodej GoOut: 150\,-\n—Na místě: 200\,-\n—Zvýhodněná permice na celou sezónu: 600\,-  \nKRISTI­NA BAR­TA QUARTET: \nKristi­na Bar­ta – klavír\nJan Kyn­cl – saxofon\nPeter Kor­man – kontrabas\nMarek Urbánek – bicí\nZa pod­poru děku­jeme MČ Pra­ha 8 a OSA.
URL:https://karlinem.cz/event/jazz-v-kasarnach-kristina-barta-quartet/
LOCATION:Kasárna Karlín\, Prvního pluku 2\, Karlín\, 18600\, Česká republika
CATEGORIES:Koncert
ATTACH;FMTTYPE=image/jpeg:https://karlinem.cz/wp-content/uploads/2023/08/347560619_800583004606778_7912144763514550006_n.jpeg
ORGANIZER;CN="Kas%C3%A1rna%20Karl%C3%ADn":MAILTO:info@kasarnakarlin.cz
END:VEVENT
BEGIN:VEVENT
DTSTART;TZID=Europe/Prague:20230822T180000
DTEND;TZID=Europe/Prague:20230822T220000
DTSTAMP:20260422T235642
CREATED:20230819T101828Z
LAST-MODIFIED:20230819T101828Z
UID:10000122-1692727200-1692741600@karlinem.cz
SUMMARY:Afro Sunset Party at River Rink Karlín
DESCRIPTION:Afro Sunset Party v River Rinku!☀️\nKaždé úterý 18 – 22\nPřitančete do Karlína na Afro Sunset Party s Sani Pragkizerem! Oblíbená taneční party v afro rytmech pod širým nebem pokračuje i letos! Čeká na vás pozitivní vibe\, poznávání nových lidí\, vyladěné drinky a #chillureky.\nVidíme se na parketu!🔥\n// VSTUPNÉ //\nVstupné do baru: ZDARMA\nPárty: 100Kč\nPárty + lekce: 200Kč\n📍Karolinská 8\, Praha 8 \n[ENG]\nAfro Sunset Party at River Rink Karlín!☀️\nEvery Tuesday 18 – 22\nAfro Sunset party with the one and only Sani Pragkizere is back! Come with friends and family and meet new and lovely people as we dance in a beautiful and a relaxed atmosphere with positive vibes.\nSee You soon!🔥\n// ENTRY //\nBar entry: FREE\nParty: 100Kč\nParty + lesson: 200Kč\n📍Karolinská 8\, Praha 8
URL:https://karlinem.cz/event/afro-sunset-party-at-river-rink-karlin-2/2023-08-22/
LOCATION:River Rink Karlín\, Karolínská 8\, Karlín\, 18600\, Česká republika
CATEGORIES:Party
ATTACH;FMTTYPE=image/jpeg:https://karlinem.cz/wp-content/uploads/2023/08/350537536_907971980498627_2149296049821966068_n.jpeg
END:VEVENT
BEGIN:VEVENT
DTSTART;TZID=Europe/Prague:20230822T110000
DTEND;TZID=Europe/Prague:20230822T120000
DTSTAMP:20260422T235642
CREATED:20230819T101825Z
LAST-MODIFIED:20230819T101825Z
UID:10000112-1692702000-1692705600@karlinem.cz
SUMMARY:Indiánské muzikohrátky pro děti
DESCRIPTION:Zpívání\, rytmus a tanečky pro rodiče a děti\, se zaměřením na živlové\, léčivé a lidové písně\, které přirozenou formou rozvíjejí vnímání přírody a vyšší lidskou inteligenci. \nDoporučeno pro chodící děti. \nTěší se na vás Mgr. Arnoštka Berousková
URL:https://karlinem.cz/event/indianske-muzikohratky-pro-deti/2023-08-22/
LOCATION:A centrum\, Vítkova 10\, Praha 8-Karlín\, 180 00
CATEGORIES:Pro děti,Workshop
ATTACH;FMTTYPE=image/jpeg:https://karlinem.cz/wp-content/uploads/2023/08/28_mini.jpeg
ORGANIZER;CN="A%20centrum":MAILTO:info@acentrum.eu
END:VEVENT
BEGIN:VEVENT
DTSTART;TZID=Europe/Prague:20230821T190000
DTEND;TZID=Europe/Prague:20230821T210000
DTSTAMP:20260422T235642
CREATED:20230819T101828Z
LAST-MODIFIED:20230819T101828Z
UID:10000107-1692644400-1692651600@karlinem.cz
SUMMARY:Sólo v Kasárnách— Purplefox Village
DESCRIPTION:Pur­ple­fox Town je pražská kapela s roz­man­i­tou tvor­bou\, ve které se pro­tká­va­jí šedesátkové koře­ny s mod­erní­mi vlivy a vznika­jí tím neotřelé hudeb­ní počiny v rám­ci kon­cepčních alb. Ten­tokrát se klu­ci před­staví jako Pur­ple­fox Vil­lage\, tedy v novém pojetí aku­stick­ého dua\, kdy zahra­jí staré známé pís­ně i něko­lik takových\, co si pro ten­to typ kon­certů speciál­ně šetřili. \nVstupné dobrovolné.
URL:https://karlinem.cz/event/solo-v-kasarnach-purplefox-village/
LOCATION:Kasárna Karlín\, Prvního pluku 2\, Karlín\, 18600\, Česká republika
CATEGORIES:Koncert
ATTACH;FMTTYPE=image/jpeg:https://karlinem.cz/wp-content/uploads/2023/08/363982040_665263368960105_3875212636783460115_n.jpeg
ORGANIZER;CN="Kas%C3%A1rna%20Karl%C3%ADn":MAILTO:info@kasarnakarlin.cz
END:VEVENT
BEGIN:VEVENT
DTSTART;TZID=Europe/Prague:20230818T193000
DTEND;TZID=Europe/Prague:20230818T203000
DTSTAMP:20260422T235642
CREATED:20230816T170310Z
LAST-MODIFIED:20230816T172447Z
UID:10000100-1692387000-1692390600@karlinem.cz
SUMMARY:Antiguma v Přístavu
DESCRIPTION:Autorská inscenace\, kde se diváci napřímo setkají s bizarnostmi umělé inteligence. Dovedla by AI řídit divadlo a pochopit potřebné emoce? Všechno je jen slovo a myšlenka. \nTragikomický příběh režiséra Marka a herce Petra\, kterým jde jen o jedno. Udělat dobré divadlo. Antigonu. Během divadelní zkoušky však hlavní postavy zjišťují\, kolik překážek se objeví. Nová ředitelka\, nedostatek financí a 18 600 postav pro jednoho herce. Dokáže režisér zinscenovat Antigonu tak\, jak ji ještě nikdo nikdy neviděl? Dokáže herec zahrát Antigonu tak\, jak ji ještě nikdo nikdy nezahrál? Dozvíte se po reklamních sloganech…
URL:https://karlinem.cz/event/antiguma-v-pristavu/
LOCATION:Přístav 18600\, Rohanský ostrov 8\, Karlín\, 18600\, Česká republika
CATEGORIES:Divadlo,Koncert,Meet Up,Party,Tanec
ATTACH;FMTTYPE=image/jpeg:https://karlinem.cz/wp-content/uploads/2023/08/IMG_3919.jpeg
END:VEVENT
BEGIN:VEVENT
DTSTART;TZID=Europe/Prague:20230707T190000
DTEND;TZID=Europe/Prague:20230707T210000
DTSTAMP:20260422T235642
CREATED:20230620T141418Z
LAST-MODIFIED:20230621T085240Z
UID:10000044-1688756400-1688763600@karlinem.cz
SUMMARY:Antiguma (Karlínská zahrada)
DESCRIPTION:Autorská inscenace\, kde se napřímo setkáváme s bizarnostmi umělé inteligence. Dovedla by AI. Řídit divadlo a pochopit potřebné emoce?\nVšechno je jen slovo a myšlenka.\n\,\,Není většího utrpení\, než když se mi myšlenka nevyvede ve slovech.“\nobčas nebo vlastně často přemýšlím nahlas. A nebo potichu? Já nevím… \nSledujeme tragikomický příběh režiséra Marka a herce Petra\, kterým jde jen o jedno. Udělat dobrý divadlo. Antigonu. Během divadelní zkoušky\, však hlavní postavy zjišťují\, kolik překážek se objeví. Nová ředitelka\, nedostatek financí a 18 600 postav pro jednoho herce.\nDokáže režisér zinscenovat Antigonu tak\, jak ji ještě nikdo nikdy neviděl?\nDokáže herec zahrát Antigonu tak\, jak ji ještě nikdo nikdy nezahrál?\nDozvíte se po reklamních sloganech.
URL:https://karlinem.cz/event/antiguma-karlinska-zahrada/
LOCATION:vítkova 244/8 Praha\, Vítkova 244/8\, Karlín\, 18600\, Česká republika
CATEGORIES:Divadlo
ATTACH;FMTTYPE=image/jpeg:https://karlinem.cz/wp-content/uploads/2023/06/IMG_3919.jpeg
END:VEVENT
BEGIN:VEVENT
DTSTART;TZID=Europe/Prague:20230630T140000
DTEND;TZID=Europe/Prague:20230701T040000
DTSTAMP:20260422T235642
CREATED:20230625T111319Z
LAST-MODIFIED:20230625T111350Z
UID:10000045-1688133600-1688184000@karlinem.cz
SUMMARY:STUDENT FEST 2023: Hudební noc
DESCRIPTION:Těšíme se na konci června v Kasárnách Karlín !\nprago union / i love you honey bunny / fumar mata / stříbrný rafael / gondor flames / treska jednoskvrnná / časovač / mořskej svět / jajáda / evžen hromosvod / the interlude / low key / kaya / maggi gang / shodawgs / lil input / night art expo / franklin & lil yput / emotionally spoonfed / gufrau / never go out / drum`n`rap / the overlings / loudout / tanya lupin / zabij mě líp / sv. miki / františka / antonie / drunken strings / arnot / šaty s vlečkou / pasar bomba / kačka hronová / matouš (9kg přibral/a) / excebtric b2b meldaboi / votox / idyla \nlístky v předprodeji >>>>\nhttps://bit.ly/listky_StudentFest23 \n___________________________________\nCelý program Student.festu\n21/6 ⚡️ den pro kapely\nhttps://fb.me/e/1f4maVbEL\n25/6 ⚡️ blešák + sportovky\nhttps://fb.me/e/94Upn1Da3\n26/6 ⚡️ vernisáž\nhttps://fb.me/e/HDkfpeIu\n27/6 ⚡️ (ne)bojovka\nhttps://fb.me/e/2YulrLl9w\n28/6 ⚡️ divadelní noc\nhttps://fb.me/e/4FHgVWsyI\n29/6 ⚡️ letní kino: aftersun\nhttps://fb.me/e/2FeHY1FjV\n30/6 ⚡️ hudební noc\nhttps://fb.me/e/35Dm1OMV0\nlístky v předprodeji >>>>\nhttps://bit.ly/listky_StudentFest23\n___________________________________\n► UKAŽ SE\nprogram festivalu pro mladé talenty\nMáš kapelu? Jsi DJ\, malíř\, básník nebo ? Sháníme hudební\, vizuální a performativní umělce všeho druhu. Student Fest tě hledá! Necháš se najít?\nkontakt: ukazse@studentfest.cz\nformulář: bit.ly/opencall_SF\n► STAŇ SE AMBASADOREM STUDENT FESTU\nJsi aktivní a rád/a se podílíš na zajímavých projektech? Chceš získat první zkušenosti s organizací většího festivalu? Sháníme mladé šikovné lidi\, kteří by nám chtěli pomoct s propagací Student Festu.\nkontakt: ambasadori@studentfest.cz\nfomulář: bit.ly/chci_byt_ambasador__SF22\n__________________________________\nFestival vzniká za podpory: MHMP\, MČ P8\nPartner: Rekola\, Bageterie Boulevard\, Free Cinema\nMediální partner: Hey Fomo\, Klubovna\nakci pořádá občanské sdružení Nerudný Fest.cz\, z.s.\nwww.nerudnyfest.cz\nvíce informací na www.studentfest.cz
URL:https://karlinem.cz/event/student-fest-2023-hudebni-noc/
LOCATION:Kasárna Karlín\, Prvního pluku 2\, Karlín\, 18600\, Česká republika
CATEGORIES:Festival,Koncert
ATTACH;FMTTYPE=image/jpeg:https://karlinem.cz/wp-content/uploads/2023/06/230630-Student-fest-2023.jpg
END:VEVENT
END:VCALENDAR