BEGIN:VCALENDAR
VERSION:2.0
PRODID:-//Karlinem.cz - ECPv6.2.0.1//NONSGML v1.0//EN
CALSCALE:GREGORIAN
METHOD:PUBLISH
X-WR-CALNAME:Karlinem.cz
X-ORIGINAL-URL:https://karlinem.cz
X-WR-CALDESC:Akce na Karlinem.cz
REFRESH-INTERVAL;VALUE=DURATION:PT1H
X-Robots-Tag:noindex
X-PUBLISHED-TTL:PT1H
BEGIN:VTIMEZONE
TZID:Europe/Prague
BEGIN:DAYLIGHT
TZOFFSETFROM:+0100
TZOFFSETTO:+0200
TZNAME:CEST
DTSTART:20230326T010000
END:DAYLIGHT
BEGIN:STANDARD
TZOFFSETFROM:+0200
TZOFFSETTO:+0100
TZNAME:CET
DTSTART:20231029T010000
END:STANDARD
END:VTIMEZONE
BEGIN:VEVENT
DTSTART;TZID=Europe/Prague:20230714T080000
DTEND;TZID=Europe/Prague:20230714T180000
DTSTAMP:20260421T205722
CREATED:20230526T132111Z
LAST-MODIFIED:20230625T112313Z
UID:10000036-1689321600-1689357600@karlinem.cz
SUMMARY:Farmářské trhy
DESCRIPTION:V průběhu roku se u nás můžete potkávat s mnoha prodejci s nabídkou toho nejlepšího celoročního i sezonního zboží. Například: \n🥕Ovoce a zelenina Švestka\n🥖Náš chléb – řemeslná pekárna\n🌸Květiny Bystrý – květiny a sadba\n🍗Maďarské lahůdky od Zsoltiho – farmářské výpěstky a výrobky z Maďarska\n🍰Pekárna Louskáček – koláče a quiche\n🥛Farma Zedníček – mléčné bio produkty a maso\n🥚Farma Bačina – vejce\n🐝Medařství Prokešovi – med a medovina\n🫑Zelenina Součková\n🍓Kunratické jahody\n🍒Litoměřické sady – třešně\n🧀Bačova salaš – sýry\n🍺Pivovar u Přeška – pivo\, uzeniny a obědová menu\n🐟Rybí zahrada – rybí filety\, bylinky a obědová menu\n🍖Arménský šašlik – obědová menu a cukrářské výrobky\n🍷Vinařství Machových – víno\n🪴Canna Roomz – CBD výrobky\n🦴Psí pamlsky Parůžkov\n🧴Bylineo – kosmetika\n🪑Dřevotéka – výrobky ze dřeva\n📚Antikvariát Kačur – knihy \nProdejci se mohou v průběhu roku obměňovat dle sezony a aktuální nabídky.\nPodpořte vaše lokální trhy svou návštěvou a uvidíte\, že si je zamilujete❤️\nTěšíme se na vás.
URL:https://karlinem.cz/event/farmarske-trhy/2023-07-14/
LOCATION:Karlínské náměstí\, Karlínské náměstí\, Karlín
CATEGORIES:Jídlo a pití
ATTACH;FMTTYPE=image/jpeg:https://karlinem.cz/wp-content/uploads/2023/05/Farmarske-trhy-scaled.jpg
END:VEVENT
BEGIN:VEVENT
DTSTART;TZID=Europe/Prague:20230707T080000
DTEND;TZID=Europe/Prague:20230707T180000
DTSTAMP:20260421T205722
CREATED:20230526T132111Z
LAST-MODIFIED:20230625T112313Z
UID:10000035-1688716800-1688752800@karlinem.cz
SUMMARY:Farmářské trhy
DESCRIPTION:V průběhu roku se u nás můžete potkávat s mnoha prodejci s nabídkou toho nejlepšího celoročního i sezonního zboží. Například: \n🥕Ovoce a zelenina Švestka\n🥖Náš chléb – řemeslná pekárna\n🌸Květiny Bystrý – květiny a sadba\n🍗Maďarské lahůdky od Zsoltiho – farmářské výpěstky a výrobky z Maďarska\n🍰Pekárna Louskáček – koláče a quiche\n🥛Farma Zedníček – mléčné bio produkty a maso\n🥚Farma Bačina – vejce\n🐝Medařství Prokešovi – med a medovina\n🫑Zelenina Součková\n🍓Kunratické jahody\n🍒Litoměřické sady – třešně\n🧀Bačova salaš – sýry\n🍺Pivovar u Přeška – pivo\, uzeniny a obědová menu\n🐟Rybí zahrada – rybí filety\, bylinky a obědová menu\n🍖Arménský šašlik – obědová menu a cukrářské výrobky\n🍷Vinařství Machových – víno\n🪴Canna Roomz – CBD výrobky\n🦴Psí pamlsky Parůžkov\n🧴Bylineo – kosmetika\n🪑Dřevotéka – výrobky ze dřeva\n📚Antikvariát Kačur – knihy \nProdejci se mohou v průběhu roku obměňovat dle sezony a aktuální nabídky.\nPodpořte vaše lokální trhy svou návštěvou a uvidíte\, že si je zamilujete❤️\nTěšíme se na vás.
URL:https://karlinem.cz/event/farmarske-trhy/2023-07-07/
LOCATION:Karlínské náměstí\, Karlínské náměstí\, Karlín
CATEGORIES:Jídlo a pití
ATTACH;FMTTYPE=image/jpeg:https://karlinem.cz/wp-content/uploads/2023/05/Farmarske-trhy-scaled.jpg
END:VEVENT
BEGIN:VEVENT
DTSTART;TZID=Europe/Prague:20230630T080000
DTEND;TZID=Europe/Prague:20230630T180000
DTSTAMP:20260421T205722
CREATED:20230526T132111Z
LAST-MODIFIED:20230625T112313Z
UID:10000034-1688112000-1688148000@karlinem.cz
SUMMARY:Farmářské trhy
DESCRIPTION:V průběhu roku se u nás můžete potkávat s mnoha prodejci s nabídkou toho nejlepšího celoročního i sezonního zboží. Například: \n🥕Ovoce a zelenina Švestka\n🥖Náš chléb – řemeslná pekárna\n🌸Květiny Bystrý – květiny a sadba\n🍗Maďarské lahůdky od Zsoltiho – farmářské výpěstky a výrobky z Maďarska\n🍰Pekárna Louskáček – koláče a quiche\n🥛Farma Zedníček – mléčné bio produkty a maso\n🥚Farma Bačina – vejce\n🐝Medařství Prokešovi – med a medovina\n🫑Zelenina Součková\n🍓Kunratické jahody\n🍒Litoměřické sady – třešně\n🧀Bačova salaš – sýry\n🍺Pivovar u Přeška – pivo\, uzeniny a obědová menu\n🐟Rybí zahrada – rybí filety\, bylinky a obědová menu\n🍖Arménský šašlik – obědová menu a cukrářské výrobky\n🍷Vinařství Machových – víno\n🪴Canna Roomz – CBD výrobky\n🦴Psí pamlsky Parůžkov\n🧴Bylineo – kosmetika\n🪑Dřevotéka – výrobky ze dřeva\n📚Antikvariát Kačur – knihy \nProdejci se mohou v průběhu roku obměňovat dle sezony a aktuální nabídky.\nPodpořte vaše lokální trhy svou návštěvou a uvidíte\, že si je zamilujete❤️\nTěšíme se na vás.
URL:https://karlinem.cz/event/farmarske-trhy/2023-06-30/
LOCATION:Karlínské náměstí\, Karlínské náměstí\, Karlín
CATEGORIES:Jídlo a pití
ATTACH;FMTTYPE=image/jpeg:https://karlinem.cz/wp-content/uploads/2023/05/Farmarske-trhy-scaled.jpg
END:VEVENT
BEGIN:VEVENT
DTSTART;TZID=Europe/Prague:20230623T080000
DTEND;TZID=Europe/Prague:20230623T180000
DTSTAMP:20260421T205722
CREATED:20230526T132111Z
LAST-MODIFIED:20230625T112313Z
UID:10000033-1687507200-1687543200@karlinem.cz
SUMMARY:Farmářské trhy
DESCRIPTION:V průběhu roku se u nás můžete potkávat s mnoha prodejci s nabídkou toho nejlepšího celoročního i sezonního zboží. Například: \n🥕Ovoce a zelenina Švestka\n🥖Náš chléb – řemeslná pekárna\n🌸Květiny Bystrý – květiny a sadba\n🍗Maďarské lahůdky od Zsoltiho – farmářské výpěstky a výrobky z Maďarska\n🍰Pekárna Louskáček – koláče a quiche\n🥛Farma Zedníček – mléčné bio produkty a maso\n🥚Farma Bačina – vejce\n🐝Medařství Prokešovi – med a medovina\n🫑Zelenina Součková\n🍓Kunratické jahody\n🍒Litoměřické sady – třešně\n🧀Bačova salaš – sýry\n🍺Pivovar u Přeška – pivo\, uzeniny a obědová menu\n🐟Rybí zahrada – rybí filety\, bylinky a obědová menu\n🍖Arménský šašlik – obědová menu a cukrářské výrobky\n🍷Vinařství Machových – víno\n🪴Canna Roomz – CBD výrobky\n🦴Psí pamlsky Parůžkov\n🧴Bylineo – kosmetika\n🪑Dřevotéka – výrobky ze dřeva\n📚Antikvariát Kačur – knihy \nProdejci se mohou v průběhu roku obměňovat dle sezony a aktuální nabídky.\nPodpořte vaše lokální trhy svou návštěvou a uvidíte\, že si je zamilujete❤️\nTěšíme se na vás.
URL:https://karlinem.cz/event/farmarske-trhy/2023-06-23/
LOCATION:Karlínské náměstí\, Karlínské náměstí\, Karlín
CATEGORIES:Jídlo a pití
ATTACH;FMTTYPE=image/jpeg:https://karlinem.cz/wp-content/uploads/2023/05/Farmarske-trhy-scaled.jpg
END:VEVENT
BEGIN:VEVENT
DTSTART;TZID=Europe/Prague:20230616T080000
DTEND;TZID=Europe/Prague:20230616T180000
DTSTAMP:20260421T205722
CREATED:20230526T132111Z
LAST-MODIFIED:20230625T112313Z
UID:10000032-1686902400-1686938400@karlinem.cz
SUMMARY:Farmářské trhy
DESCRIPTION:V průběhu roku se u nás můžete potkávat s mnoha prodejci s nabídkou toho nejlepšího celoročního i sezonního zboží. Například: \n🥕Ovoce a zelenina Švestka\n🥖Náš chléb – řemeslná pekárna\n🌸Květiny Bystrý – květiny a sadba\n🍗Maďarské lahůdky od Zsoltiho – farmářské výpěstky a výrobky z Maďarska\n🍰Pekárna Louskáček – koláče a quiche\n🥛Farma Zedníček – mléčné bio produkty a maso\n🥚Farma Bačina – vejce\n🐝Medařství Prokešovi – med a medovina\n🫑Zelenina Součková\n🍓Kunratické jahody\n🍒Litoměřické sady – třešně\n🧀Bačova salaš – sýry\n🍺Pivovar u Přeška – pivo\, uzeniny a obědová menu\n🐟Rybí zahrada – rybí filety\, bylinky a obědová menu\n🍖Arménský šašlik – obědová menu a cukrářské výrobky\n🍷Vinařství Machových – víno\n🪴Canna Roomz – CBD výrobky\n🦴Psí pamlsky Parůžkov\n🧴Bylineo – kosmetika\n🪑Dřevotéka – výrobky ze dřeva\n📚Antikvariát Kačur – knihy \nProdejci se mohou v průběhu roku obměňovat dle sezony a aktuální nabídky.\nPodpořte vaše lokální trhy svou návštěvou a uvidíte\, že si je zamilujete❤️\nTěšíme se na vás.
URL:https://karlinem.cz/event/farmarske-trhy/2023-06-16/
LOCATION:Karlínské náměstí\, Karlínské náměstí\, Karlín
CATEGORIES:Jídlo a pití
ATTACH;FMTTYPE=image/jpeg:https://karlinem.cz/wp-content/uploads/2023/05/Farmarske-trhy-scaled.jpg
END:VEVENT
BEGIN:VEVENT
DTSTART;TZID=Europe/Prague:20230611T110000
DTEND;TZID=Europe/Prague:20230611T200000
DTSTAMP:20260421T205722
CREATED:20230611T102912Z
LAST-MODIFIED:20230625T112313Z
UID:10000041-1686481200-1686513600@karlinem.cz
SUMMARY:Karlínský Food Truck festival
DESCRIPTION:Srdečně vás všechny zveme na Karlínský food truck festival\, který proběhne v neděli 11.6. od 11:00 – 20:00 na Karlínském náměstí. Těšit se můžete na ty nejkrásnější food trucky a přívěsy\, která vám nabídnou to nejlepší z moderní gastronomie. K tomu všemu vám celý den bude hrát DJ Hlava a čeká vás parádní vystoupení kapely Screwballs Rockabilly. Pro děti budeme mít jako vždy připraveny kreativní dílny a další doprovodný program. Bude to parádní den plný skvělého jídla\, pití a zábavy pro celou rodinu. Těšíme se na vás.
URL:https://karlinem.cz/event/karlinsky-food-truck-festival-2/
LOCATION:Karlínské náměstí\, Karlínské náměstí\, Karlín
CATEGORIES:Jídlo a pití
ATTACH;FMTTYPE=image/jpeg:https://karlinem.cz/wp-content/uploads/2023/06/230611-Food-truck-festival.jpg
END:VEVENT
BEGIN:VEVENT
DTSTART;TZID=Europe/Prague:20230609T080000
DTEND;TZID=Europe/Prague:20230609T180000
DTSTAMP:20260421T205722
CREATED:20230526T132111Z
LAST-MODIFIED:20230625T112313Z
UID:10000031-1686297600-1686333600@karlinem.cz
SUMMARY:Farmářské trhy
DESCRIPTION:V průběhu roku se u nás můžete potkávat s mnoha prodejci s nabídkou toho nejlepšího celoročního i sezonního zboží. Například: \n🥕Ovoce a zelenina Švestka\n🥖Náš chléb – řemeslná pekárna\n🌸Květiny Bystrý – květiny a sadba\n🍗Maďarské lahůdky od Zsoltiho – farmářské výpěstky a výrobky z Maďarska\n🍰Pekárna Louskáček – koláče a quiche\n🥛Farma Zedníček – mléčné bio produkty a maso\n🥚Farma Bačina – vejce\n🐝Medařství Prokešovi – med a medovina\n🫑Zelenina Součková\n🍓Kunratické jahody\n🍒Litoměřické sady – třešně\n🧀Bačova salaš – sýry\n🍺Pivovar u Přeška – pivo\, uzeniny a obědová menu\n🐟Rybí zahrada – rybí filety\, bylinky a obědová menu\n🍖Arménský šašlik – obědová menu a cukrářské výrobky\n🍷Vinařství Machových – víno\n🪴Canna Roomz – CBD výrobky\n🦴Psí pamlsky Parůžkov\n🧴Bylineo – kosmetika\n🪑Dřevotéka – výrobky ze dřeva\n📚Antikvariát Kačur – knihy \nProdejci se mohou v průběhu roku obměňovat dle sezony a aktuální nabídky.\nPodpořte vaše lokální trhy svou návštěvou a uvidíte\, že si je zamilujete❤️\nTěšíme se na vás.
URL:https://karlinem.cz/event/farmarske-trhy/2023-06-09/
LOCATION:Karlínské náměstí\, Karlínské náměstí\, Karlín
CATEGORIES:Jídlo a pití
ATTACH;FMTTYPE=image/jpeg:https://karlinem.cz/wp-content/uploads/2023/05/Farmarske-trhy-scaled.jpg
END:VEVENT
BEGIN:VEVENT
DTSTART;TZID=Europe/Prague:20230602T080000
DTEND;TZID=Europe/Prague:20230602T180000
DTSTAMP:20260421T205722
CREATED:20230526T132111Z
LAST-MODIFIED:20230625T112313Z
UID:10000030-1685692800-1685728800@karlinem.cz
SUMMARY:Farmářské trhy
DESCRIPTION:V průběhu roku se u nás můžete potkávat s mnoha prodejci s nabídkou toho nejlepšího celoročního i sezonního zboží. Například: \n🥕Ovoce a zelenina Švestka\n🥖Náš chléb – řemeslná pekárna\n🌸Květiny Bystrý – květiny a sadba\n🍗Maďarské lahůdky od Zsoltiho – farmářské výpěstky a výrobky z Maďarska\n🍰Pekárna Louskáček – koláče a quiche\n🥛Farma Zedníček – mléčné bio produkty a maso\n🥚Farma Bačina – vejce\n🐝Medařství Prokešovi – med a medovina\n🫑Zelenina Součková\n🍓Kunratické jahody\n🍒Litoměřické sady – třešně\n🧀Bačova salaš – sýry\n🍺Pivovar u Přeška – pivo\, uzeniny a obědová menu\n🐟Rybí zahrada – rybí filety\, bylinky a obědová menu\n🍖Arménský šašlik – obědová menu a cukrářské výrobky\n🍷Vinařství Machových – víno\n🪴Canna Roomz – CBD výrobky\n🦴Psí pamlsky Parůžkov\n🧴Bylineo – kosmetika\n🪑Dřevotéka – výrobky ze dřeva\n📚Antikvariát Kačur – knihy \nProdejci se mohou v průběhu roku obměňovat dle sezony a aktuální nabídky.\nPodpořte vaše lokální trhy svou návštěvou a uvidíte\, že si je zamilujete❤️\nTěšíme se na vás.
URL:https://karlinem.cz/event/farmarske-trhy/2023-06-02/
LOCATION:Karlínské náměstí\, Karlínské náměstí\, Karlín
CATEGORIES:Jídlo a pití
ATTACH;FMTTYPE=image/jpeg:https://karlinem.cz/wp-content/uploads/2023/05/Farmarske-trhy-scaled.jpg
END:VEVENT
BEGIN:VEVENT
DTSTART;TZID=Europe/Prague:20230526T080000
DTEND;TZID=Europe/Prague:20230526T180000
DTSTAMP:20260421T205722
CREATED:20230526T132111Z
LAST-MODIFIED:20230625T112313Z
UID:10000029-1685088000-1685124000@karlinem.cz
SUMMARY:Farmářské trhy
DESCRIPTION:V průběhu roku se u nás můžete potkávat s mnoha prodejci s nabídkou toho nejlepšího celoročního i sezonního zboží. Například: \n🥕Ovoce a zelenina Švestka\n🥖Náš chléb – řemeslná pekárna\n🌸Květiny Bystrý – květiny a sadba\n🍗Maďarské lahůdky od Zsoltiho – farmářské výpěstky a výrobky z Maďarska\n🍰Pekárna Louskáček – koláče a quiche\n🥛Farma Zedníček – mléčné bio produkty a maso\n🥚Farma Bačina – vejce\n🐝Medařství Prokešovi – med a medovina\n🫑Zelenina Součková\n🍓Kunratické jahody\n🍒Litoměřické sady – třešně\n🧀Bačova salaš – sýry\n🍺Pivovar u Přeška – pivo\, uzeniny a obědová menu\n🐟Rybí zahrada – rybí filety\, bylinky a obědová menu\n🍖Arménský šašlik – obědová menu a cukrářské výrobky\n🍷Vinařství Machových – víno\n🪴Canna Roomz – CBD výrobky\n🦴Psí pamlsky Parůžkov\n🧴Bylineo – kosmetika\n🪑Dřevotéka – výrobky ze dřeva\n📚Antikvariát Kačur – knihy \nProdejci se mohou v průběhu roku obměňovat dle sezony a aktuální nabídky.\nPodpořte vaše lokální trhy svou návštěvou a uvidíte\, že si je zamilujete❤️\nTěšíme se na vás.
URL:https://karlinem.cz/event/farmarske-trhy/2023-05-26/
LOCATION:Karlínské náměstí\, Karlínské náměstí\, Karlín
CATEGORIES:Jídlo a pití
ATTACH;FMTTYPE=image/jpeg:https://karlinem.cz/wp-content/uploads/2023/05/Farmarske-trhy-scaled.jpg
END:VEVENT
BEGIN:VEVENT
DTSTART;TZID=Europe/Prague:20230521T110000
DTEND;TZID=Europe/Prague:20230521T180000
DTSTAMP:20260421T205722
CREATED:20230518T081918Z
LAST-MODIFIED:20230625T112313Z
UID:10000026-1684666800-1684692000@karlinem.cz
SUMMARY:Pivo a burger fest
DESCRIPTION:Vážení přátelé srdečně Vás zveme na oslavu svátku svrchně kvašených piv a šťavnatých burgerů. Festival se koná již tradičně na Karlínském náměstí a přilehlém okolí v neděli 21.5.2023 od 11 hodin.\n………………………………………………………………………………..\nDear friends we cordially invite you to celebrate the event of top-fermented beers and juicy burgers. The festival is traditionally held on Karlínské náměstí and the surrounding area on Sunday 21 May 2023 from 11 am.
URL:https://karlinem.cz/event/pivo-a-burger-fest/
LOCATION:Karlínské náměstí\, Karlínské náměstí\, Karlín
CATEGORIES:Jídlo a pití
ATTACH;FMTTYPE=image/jpeg:https://karlinem.cz/wp-content/uploads/2023/05/pivo-a-burger-fest-Karlin.jpg
END:VEVENT
BEGIN:VEVENT
DTSTART;TZID=Europe/Prague:20230514T110000
DTEND;TZID=Europe/Prague:20230514T190000
DTSTAMP:20260421T205722
CREATED:20230508T145407Z
LAST-MODIFIED:20230625T112313Z
UID:10000017-1684062000-1684090800@karlinem.cz
SUMMARY:Karlínský street food festival
DESCRIPTION:Všechny vás srdečně zveme na Karlínský street food festival na Karlínském náměstí\, který se uskuteční v neděli 14. května od 11:00 – 19:00. Těšit se můžete jak na vaše oblíbené prodejce\, tak dorazí i několik nováčků s nabídkou moderní street food gastronomie. Bude to stát opravdu za to\, tak si to nenechte rozhodně ujít. I tentokrát bude skvělá muzika a čekají vás dokonce dva živé koncerty. Od 12:00 – 14:00 pro vás zahraje skvělá kapela Dobré Ráno Blues Band\,\nod 14:30 – 16:30 vystoupí charismatický Iby Pop a nebude chybět ani váš oblíbený DJ Hlava. Děti si užijí spousty zábavy na trampolínách a kreativních dílnách. Tak vemte celou rodinu a doražte za námi.\nTěšíme se na vás.
URL:https://karlinem.cz/event/karlinsky-street-food-festival/
LOCATION:Karlínské náměstí\, Karlínské náměstí\, Karlín
CATEGORIES:Jídlo a pití
ATTACH;FMTTYPE=image/jpeg:https://karlinem.cz/wp-content/uploads/2023/05/337414321_653732679910436_2853458854356330281_n.jpg
END:VEVENT
BEGIN:VEVENT
DTSTART;TZID=Europe/Prague:20230416T100000
DTEND;TZID=Europe/Prague:20230416T180000
DTSTAMP:20260421T205722
CREATED:20230321T071244Z
LAST-MODIFIED:20230625T112313Z
UID:10000011-1681639200-1681668000@karlinem.cz
SUMMARY:Karlínský festival kávy
DESCRIPTION:V neděli 16. dubna od 10:00 – 18:00 bude Karlínské náměstí doslova provoněné kávou. Karlínského festivalu kávy se zúčastní ty nejlepší pražírny a kavárny\, které vám představí jak klasickou přípravu kávy\, tak i různé alternativní způsoby nebo třeba i kávové rituály. Nebude chybět ani tolik oblíbené Cold brew a mnoho dalšího. Jako vždy se můžete těšit i na skvělou nabídku jídel\, která uspokojí i ty největší gurmány.\nVe 13:00 vystoupí kapela The Brownies a celý den pro vás bude hrát DJ Hlava. Pro děti i pro dospělé bude připraven bohatý doprovodný program a tematické workshopy.\nČeká na vás nevšední zážitek\, který si rozhodně nesmíte nechat ujít.\nTěšíme se na vás.
URL:https://karlinem.cz/event/karlinsky-festival-kavy/
LOCATION:Karlínské náměstí\, Karlínské náměstí\, Karlín
CATEGORIES:Jídlo a pití,Koncert
ATTACH;FMTTYPE=image/jpeg:https://karlinem.cz/wp-content/uploads/2023/03/336579339_537785765151809_1006284043936436570_n.jpg
END:VEVENT
BEGIN:VEVENT
DTSTART;TZID=Europe/Prague:20230402T110000
DTEND;TZID=Europe/Prague:20230402T180000
DTSTAMP:20260421T205722
CREATED:20230321T070038Z
LAST-MODIFIED:20230625T112313Z
UID:10000010-1680433200-1680458400@karlinem.cz
SUMMARY:Karlínský Food Truck festival
DESCRIPTION:Srdečně vás zveme na další parádní Karlínský Food Truck festival\, který proběhne v neděli 2. dubna na Karlínském náměstí. Čeká vás skvělá nabídka jídel a pití od těch nejlepších gastronomických profesionálů. Mexicali Taco truck\, Mácova kára\, Take Eat EZ\, Nabu sandwich\, WoW bar nebo třeba MATE´S Pizza truck. To je jen malá ochutnávka toho\, na to se můžete těšit.\nJako třešnička na dortu bude od 13:00 živé vystoupení kapely Circus Brothers a celý den pro vás bude hrát váš DJ Hlava. Děti si užijí zábavu na trampolínách a nebudou chybět ani kreativní dílny.\nParádní nedělní odpoledne na Karlínském náměstí je záruka😉\nTěšíme se na vás.
URL:https://karlinem.cz/event/karlinsky-food-truck-festival/
LOCATION:Karlínské náměstí\, Karlínské náměstí\, Karlín
CATEGORIES:Jídlo a pití
ATTACH;FMTTYPE=image/jpeg:https://karlinem.cz/wp-content/uploads/2023/03/330005392_2151831275006681_6572563125603595738_n.jpg
END:VEVENT
BEGIN:VEVENT
DTSTART;TZID=Europe/Prague:20230319T110000
DTEND;TZID=Europe/Prague:20230319T180000
DTSTAMP:20260421T205722
CREATED:20230222T215935Z
LAST-MODIFIED:20230625T112313Z
UID:10000009-1679223600-1679248800@karlinem.cz
SUMMARY:Karlínský street food festival
DESCRIPTION:Všechny vás srdečně zveme na první letošní Karlínský street food festival na Karlínském náměstí.\nTěšit se můžete jak na vaše oblíbené prodejce\, tak dorazí i několik nováčků s nabídkou moderní street food gastronomie.\nBude to stát opravdu za to\, tak si to nenechte rozhodně ujít. I tentokrát bude skvělá muzika.\nPoprvé u nás vystoupí kapela Brass Avenue. Dechový showband\, který se svými covery světových hitů roztančí každého! Nebude chybět ani váš oblíbený DJ Hlava.\nDěti si užijí spousty zábavy na trampolínách a kreativních dílnách.\nTak vemte celou rodinu a doražte za námi.
URL:https://karlinem.cz/event/asdfe/
LOCATION:Karlínské náměstí\, Karlínské náměstí\, Karlín
CATEGORIES:Jídlo a pití
ATTACH;FMTTYPE=image/jpeg:https://karlinem.cz/wp-content/uploads/2023/02/19.3.23.jpg
END:VEVENT
END:VCALENDAR