BEGIN:VCALENDAR
VERSION:2.0
PRODID:-//Karlinem.cz - ECPv6.2.0.1//NONSGML v1.0//EN
CALSCALE:GREGORIAN
METHOD:PUBLISH
X-WR-CALNAME:Karlinem.cz
X-ORIGINAL-URL:https://karlinem.cz
X-WR-CALDESC:Akce na Karlinem.cz
REFRESH-INTERVAL;VALUE=DURATION:PT1H
X-Robots-Tag:noindex
X-PUBLISHED-TTL:PT1H
BEGIN:VTIMEZONE
TZID:Europe/Prague
BEGIN:DAYLIGHT
TZOFFSETFROM:+0100
TZOFFSETTO:+0200
TZNAME:CEST
DTSTART:20230326T010000
END:DAYLIGHT
BEGIN:STANDARD
TZOFFSETFROM:+0200
TZOFFSETTO:+0100
TZNAME:CET
DTSTART:20231029T010000
END:STANDARD
END:VTIMEZONE
BEGIN:VEVENT
DTSTART;TZID=Europe/Prague:20230917T100000
DTEND;TZID=Europe/Prague:20230917T180000
DTSTAMP:20260423T074516
CREATED:20230827T143602Z
LAST-MODIFIED:20230827T143602Z
UID:10000128-1694944800-1694973600@karlinem.cz
SUMMARY:Karlínský festival kávy
DESCRIPTION:V neděli 17. září bude Karlínské náměstí opět provoněné kávou. Karlínského festivalu kávy se zúčastní ty nejlepší pražírny a kavárny\, které vám představí jak klasickou přípravu kávy\, tak i různé alternativní způsoby nebo třeba i kávové rituály. Nebude chybět ani tolik oblíbené Cold brew a mnoho dalšího. Jako vždy se můžete těšit i na skvělou nabídku jídel\, která uspokojí i ty největší gurmány.\nŽivá muzika i DJ Hlava jsou samozřejmostí. Pro děti i pro dospělé bude připraven bohatý doprovodný program a tematické workshopy. Památku na celý život vám vytvoří umělci z tetovacího salónu Ink culture a Henna Helena ozdobí vaše těla voňavou hennou. Čeká na vás nevšední zážitek\, který si rozhodně nesmíte nechat ujít. Těšíme se na vás od 10:00 – 18:00.
URL:https://karlinem.cz/event/karlinsky-festival-kavy-2/
LOCATION:Karlínské náměstí\, Karlínské náměstí\, Karlín
CATEGORIES:Festival,Jídlo a pití
ATTACH;FMTTYPE=image/jpeg:https://karlinem.cz/wp-content/uploads/2023/08/Pristav-18600-2021-Facebook-cover-1920x1080-kopie.pptx-600x338-1.jpeg
END:VEVENT
END:VCALENDAR