BEGIN:VCALENDAR
VERSION:2.0
PRODID:-//Karlinem.cz - ECPv6.2.0.1//NONSGML v1.0//EN
CALSCALE:GREGORIAN
METHOD:PUBLISH
X-ORIGINAL-URL:https://karlinem.cz
X-WR-CALDESC:Akce na Karlinem.cz
REFRESH-INTERVAL;VALUE=DURATION:PT1H
X-Robots-Tag:noindex
X-PUBLISHED-TTL:PT1H
BEGIN:VTIMEZONE
TZID:Europe/Prague
BEGIN:DAYLIGHT
TZOFFSETFROM:+0100
TZOFFSETTO:+0200
TZNAME:CEST
DTSTART:20240331T010000
END:DAYLIGHT
BEGIN:STANDARD
TZOFFSETFROM:+0200
TZOFFSETTO:+0100
TZNAME:CET
DTSTART:20241027T010000
END:STANDARD
END:VTIMEZONE
BEGIN:VEVENT
DTSTART;TZID=Europe/Prague:20240103T190000
DTEND;TZID=Europe/Prague:20240103T203000
DTSTAMP:20260426T004825
CREATED:20240102T072022Z
LAST-MODIFIED:20240102T072022Z
UID:10000311-1704308400-1704313800@karlinem.cz
SUMMARY:Kino v Kasárnách:  Láska nebeská
DESCRIPTION:Richard Cur­tis — Velká Británie / USA / Fran­cie — 2003 — 135 min — Anglicky CZ titulky \nAutoři filmů Not­ting Hill a Deník Brid­get Jonesové uvádí jedineč­nou romantick­ou komedii. Veleúspěšný fil­mový hit s hvězd­ným hereck­ým obsazením a úžas­ným sound­track­em. Lás­ka nebeská s vtipem odhalu­je citová vzplanutí i chlad­nutí v období vánočních svátků. Milen­ci a milenky\, manželé a manželky\, tátové a syn­ové\, rock­ové hvězdy a jejich man­ažeři\, ti všich­ni proží­va­jí né jed­nu Lásku nebesk­ou\, ale hned deset jejích různých podob. (Bon­ton­film)
URL:https://karlinem.cz/event/kino-v-kasarnach-laska-nebeska-2/
LOCATION:Kasárna Karlín\, Prvního pluku 2\, Karlín\, 18600\, Česká republika
CATEGORIES:Kino
ATTACH;FMTTYPE=image/jpeg:https://karlinem.cz/wp-content/uploads/2024/01/411048908_737718168381291_2479688791494043025_n.jpeg
ORGANIZER;CN="Kas%C3%A1rna%20Karl%C3%ADn":MAILTO:info@​kasarnakarlin.​cz
END:VEVENT
BEGIN:VEVENT
DTSTART;TZID=Europe/Prague:20240105T190000
DTEND;TZID=Europe/Prague:20240105T203000
DTSTAMP:20260426T004825
CREATED:20240102T072653Z
LAST-MODIFIED:20240102T072653Z
UID:10000313-1704481200-1704486600@karlinem.cz
SUMMARY:Kino v Kasárnách: Caravaggiův stín
DESCRIPTION:Michele Placido — Itálie / Fran­cie — 2022 — 120 min — Ital­sky CZ titulky \nItálie roku 1600. Michelan­ge­lo Merisi – známý spíš jako Car­avag­gio – je geniál­ní umělec\, který se odmítá podřídit přís­ným pravidlům Tri­dentského kon­cilu\, upravu­jícího zobra­zování sakrál­ních námětů. Když se papež Pavel V. dozví\, že Car­avag­gio používá pro své sakrál­ní obrazy jako mod­e­ly pros­ti­tutky\, zlodě­je a tuláky\, pověří tajného vatikán­ského agen­ta\, aby provedl důk­lad­né šetření. Agent má rozhod­nout\, zda bude malíři uděle­na milost\, o kter­ou požá­dal\, když byl odsouzen k trestu smr­ti za to\, že zabil v soubo­ji jed­no­ho ze svých soků v lásce. ​„Stín“ začíná v uta­jení vyšetřo­vat malíře\, který svým živ­otem i uměním fascin­u­je\, znek­lidňu­je\, rozvrací… a má v ruk­ou nad osu­dem génia abso­lut­ní moc. Michele Placido – scenárista\, režisér i herec toho­to fil­mu – přichází po padesáti letech kar­iéry a čtyřech letech práce na tom­to pro­jek­tu se svým čtrnác­tým reži­jním filmem. Film zobrazu­je složitý a dobro­družný živ­ot Michelan­gela Merisi­ho alias Car­avaggia a odhalu­je jeho složité vnitřní roz­pory a hluboká tem­ná muka. Vzpurný a nepoko­jný\, zbožný a pobuřu­jící\, nezávis­lý a společen­ské hran­ice překraču­jící Car­avag­gio\, jak ho Placido zobrazu­je\, je prokletý umělec s abso­lut­ním tal­en­tem\, ale přede­vším rock­ová hvěz­da v době\, kdy ještě žád­né neby­ly\, rebel bez příčiny\, který musí čelit znepoko­jivým důsled­kům svého bezohled­ného živ­ota – se vše­mi svý­mi žena­mi a vnitřní­mi démo­ny –\, v němž vedle sebe sto­jí geniali­ta a nezkrot­nost. Placido nám tak Car­avaggia před­stavu­je jako nadčasovou postavu\, napros­to fascin­u­jící a uni­verzál­ní ikonu. (Film Europe)
URL:https://karlinem.cz/event/kino-v-kasarnach-caravaggiuv-stin/
LOCATION:Kasárna Karlín\, Prvního pluku 2\, Karlín\, 18600\, Česká republika
CATEGORIES:Kino
ATTACH;FMTTYPE=image/jpeg:https://karlinem.cz/wp-content/uploads/2024/01/411011829_737723625047412_7258712354581998988_n.jpeg
END:VEVENT
BEGIN:VEVENT
DTSTART;TZID=Europe/Prague:20240106T150000
DTEND;TZID=Europe/Prague:20240106T223000
DTSTAMP:20260426T004825
CREATED:20240102T073239Z
LAST-MODIFIED:20240102T073239Z
UID:10000315-1704553200-1704580200@karlinem.cz
SUMMARY:Kino v Kasárnách: Nolanův Batman – triple feature
DESCRIPTION:Christo­pher Nolan — 450 min — Anglicky CZ titulky \nBat­manovská trilo­gie od leg­endárního tvůrce Christo­phera Nolana – Bat­man začíná\, Tem­ný rytíř\, Tem­ný rytíř povstal. Více než sedm hodin strhu­jící podí­vané\, taková bude první sob­o­ta roku 2024 v Kasárnách Kar­lín. Rez­ervu­jte si včas svo­je mís­to\, kapaci­ta je omezená!
URL:https://karlinem.cz/event/kino-v-kasarnach-nolanuv-batman-triple-feature/
LOCATION:Kasárna Karlín\, Prvního pluku 2\, Karlín\, 18600\, Česká republika
CATEGORIES:Kino
ATTACH;FMTTYPE=image/jpeg:https://karlinem.cz/wp-content/uploads/2024/01/411023344_737725341713907_651734898743367123_n.jpeg
ORGANIZER;CN="Kas%C3%A1rna%20Karl%C3%ADn":MAILTO:info@kasarnakarlin.cz
END:VEVENT
BEGIN:VEVENT
DTSTART;TZID=Europe/Prague:20240107T190000
DTEND;TZID=Europe/Prague:20240107T220000
DTSTAMP:20260426T004825
CREATED:20240102T073455Z
LAST-MODIFIED:20240102T073455Z
UID:10000316-1704654000-1704664800@karlinem.cz
SUMMARY:Temná neděle: Constantine + 23
DESCRIPTION:Tem­ná neděle: Con­stan­tine + 23\n209 min — Anglicky CZ titulky \nPrvní neděle roku bude v Kasárnách Kar­lín věnová­na mys­ter­iózním snímkům. Kul­tovního Con­stan­ti­na doplní zapadlý thriller 23\, kde v hlavní roli excelu­je Jim Car­rey. Jestli se chcete při­jít pří­jem­ně bát\, rez­ervu­jte si včas mís­ta\, kapaci­ta sálu je omezená!
URL:https://karlinem.cz/event/temna-nedele-constantine-23/
LOCATION:Kasárna Karlín\, Prvního pluku 2\, Karlín\, 18600\, Česká republika
CATEGORIES:Kino
ATTACH;FMTTYPE=image/jpeg:https://karlinem.cz/wp-content/uploads/2024/01/411062026_737727278380380_3645855457873830254_n.jpeg
END:VEVENT
BEGIN:VEVENT
DTSTART;TZID=Europe/Prague:20240108T190000
DTEND;TZID=Europe/Prague:20240108T203000
DTSTAMP:20260426T004825
CREATED:20240104T184027Z
LAST-MODIFIED:20240104T184027Z
UID:10000318-1704740400-1704745800@karlinem.cz
SUMMARY:Kino v Kasárnách: Rozsviť světlo\, ať je vidět
DESCRIPTION:Rozsviť svět­lo\, ať je vidět\nVáclav Kučera\, Radim Špaček — Česko — 2023 — 93 min — Česky \nTěžko byste hledali v Čechách dvo­ji­ci\, jejichž člen­ové by měli na kon­tě jak České lvy\, tak vys­toupení ve více než 40 zemích\, přes 3000 kon­certů nebo nespočet zor­ga­ni­zo­vaných výs­tav. Rozsviť svět­lo\, ať je vidět je portrét Mirosla­va Wane­ka\, zak­la­datele kape­ly Už jsme doma\, a Mar­ti­na Velíš­ka\, výt­varní­ka a nehra­jícího čle­na UjD\, který této kapele vdechl vizuál­ní podobu. Ukazu­je třicetileté přá­tel­ství těch­to osob­nos­tí a noří se jak do jejich úspěchů\, tak i do syrovosti démonů\, který­mi byli zmítáni. Wanek a Velíšek zfor­movali tvůrčí part­ner­ství\, které defi­no­va­lo nejen česk­ou nezávis­lou hudeb­ní scénu\, ale dalo ráz fil­movým klasikám jako Fim­fárum. Stačí se tedy s nimi vydat na ces­tu. Z Teplic\, přes Žižkov až na konec svě­ta. (Aero­films)
URL:https://karlinem.cz/event/kino-v-kasarnach-rozsvit-svetlo-at-je-videt/
LOCATION:Kasárna Karlín\, Prvního pluku 2\, Karlín\, 18600\, Česká republika
CATEGORIES:Kino
ATTACH;FMTTYPE=image/jpeg:https://karlinem.cz/wp-content/uploads/2024/01/412714662_737729931713448_3836673985251689770_n.jpeg
ORGANIZER;CN="Kas%C3%A1rna%20Karl%C3%ADn":MAILTO:info@​kasarnakarlin.​cz
END:VEVENT
BEGIN:VEVENT
DTSTART;TZID=Europe/Prague:20240109T190000
DTEND;TZID=Europe/Prague:20240109T203000
DTSTAMP:20260426T004825
CREATED:20240104T184209Z
LAST-MODIFIED:20240104T184209Z
UID:10000319-1704826800-1704832200@karlinem.cz
SUMMARY:Kino v Kasárnách: Létání pro začátečníky
DESCRIPTION:Létání pro začátečníky\nHaf­steinn Gun­nar Sig­urðs­son — Island/​Velká Británie/​Německo — 2023 — 97 min — Anglicky CZ titulky \nBojíte se létat? Oni taky\, ale rozhodli se to řešit. Přepra­co­v­aná pod­nikatel­ka\, válečný vet­erán a výstřed­ní influ­encer­ka se svým zakřiknutým part­nerem se pod odborným dohle­dem vydá­va­jí pokořit svůj stra­ch z létání. Na kon­ci špičkového kurzu měl účast­níky čekat krátký let\, mís­to toho se však vydá­va­jí na Island. Odložený let\, náhrad­ní nezkušený lek­tor\, tur­bu­lence a záva­da na leta­dle jsou pak jen začátkem ces­ty lemované šla­mastyka­mi. Když je nesourodá skupina nakonec donu­ce­na strávit noc v luxu­s­ním hotelu uprostřed island­ské pustiny\, začíná při­tuho­vat a stra­ch z létání se stává tím nej­menším prob­lémem. Tur­bu­lent­ní kome­die Létání pro začátečníky odhalu­je ty nejbláznivější lid­ské vlast­nos­ti\, které se ukážou vždy\, když se to člověku nejméně hodí. (Aero­films)
URL:https://karlinem.cz/event/kino-v-kasarnach-letani-pro-zacatecniky/
LOCATION:Kasárna Karlín\, Prvního pluku 2\, Karlín\, 18600\, Česká republika
CATEGORIES:Kino
ATTACH;FMTTYPE=image/jpeg:https://karlinem.cz/wp-content/uploads/2024/01/411015789_737731441713297_8419471516141219575_n.jpeg
END:VEVENT
BEGIN:VEVENT
DTSTART;TZID=Europe/Prague:20240111T190000
DTEND;TZID=Europe/Prague:20240111T203000
DTSTAMP:20260426T004825
CREATED:20240104T184523Z
LAST-MODIFIED:20240104T184523Z
UID:10000321-1704999600-1705005000@karlinem.cz
SUMMARY:Kino v Kasárnách: To se mi snad zdá
DESCRIPTION:To se mi snad zdá\nKristof­fer Bor­gli — USA — 2023 — 100 min — Anglicky CZ titulky \nNená­pad­ný vysokoškol­ský pro­fe­sor Paul (Nico­las Cage) se ze dne na den začne objevo­vat ve snech mil­ionů lidí po celém světě a stane se tak globál­ní celebri­tou. Rázem se mu zač­nou plnit všech­na jeho přání\, ale také pozná\, jak vysoká je cena slávy. Nico­las Cage podává živ­ot­ní herecký výkon v dokonale zábavné společen­ské satiře. (Aero­films)
URL:https://karlinem.cz/event/kino-v-kasarnach-to-se-mi-snad-zda/
LOCATION:Kasárna Karlín\, Prvního pluku 2\, Karlín\, 18600\, Česká republika
CATEGORIES:Kino
ATTACH;FMTTYPE=image/jpeg:https://karlinem.cz/wp-content/uploads/2024/01/412693567_737732968379811_41083107350746131_n.jpeg
END:VEVENT
BEGIN:VEVENT
DTSTART;TZID=Europe/Prague:20240112T190000
DTEND;TZID=Europe/Prague:20240112T220000
DTSTAMP:20260426T004825
CREATED:20240104T184702Z
LAST-MODIFIED:20240104T184702Z
UID:10000322-1705086000-1705096800@karlinem.cz
SUMMARY:Tim Burton double feature: Mrtvá nevěsta Tima Burtona + Beetlejuice
DESCRIPTION:Tim Bur­ton uvádí\nBeetle­juice + Mrtvá nevěsta\nTim Bur­ton — 166 min — Anglicky CZ titulky \nBeetle­juice\, Beetle­juice\, Beetle­juice! Co zbývá manžel­ské­mu páru duchů (Geena Davis a Alec Bald­win)\, když se do jejich obrovského domu v Nové Anglii nastěhu­jí mód­ní Newyorčané? Samozře­jmě naj­mout ​“bio-exor­cis­tu” na vol­né noze\, aby vetřelce vyděsil. A hned na to se ponoříme ještě hlouběji do podsvětí s Mrtvou nevěs­tou. Při­jďte si do Kasáren Kar­lín užít večer plný duchařiny. Rez­ervu­jte si včas svo­je mís­to\, kapaci­ta sálu je omezená!
URL:https://karlinem.cz/event/tim-burton-double-feature-mrtva-nevesta-tima-burtona-beetlejuice/
LOCATION:Kasárna Karlín\, Prvního pluku 2\, Karlín\, 18600\, Česká republika
CATEGORIES:Kino
ATTACH;FMTTYPE=image/jpeg:https://karlinem.cz/wp-content/uploads/2024/01/411045519_737734818379626_1228605352991402745_n.jpeg
END:VEVENT
BEGIN:VEVENT
DTSTART;TZID=Europe/Prague:20240114T170000
DTEND;TZID=Europe/Prague:20240114T183000
DTSTAMP:20260426T004825
CREATED:20240104T184914Z
LAST-MODIFIED:20240104T184914Z
UID:10000323-1705251600-1705257000@karlinem.cz
SUMMARY:Kino v Kasárnách:  Chlapec a volavka
DESCRIPTION:Chlapec a volavka\nHajao Mijaza­ki — Japon­sko — 2023 — 125 min — Česky \nDospí­va­jící chlapec Mahi­to se s tatínkem přestěhu­je na venkovské síd­lo daleko od hek­tick­ého Tokia. V novém domově se seznámí se svéráz­nou mlu­vící volavk­ou\, která ho láká k prozk­oumání záhad­né opuštěné věže. V ní Mahi­to objeví mag­ický svět\, jemuž vládne tajem­ný stařec. Na ces­tě za poznáním se potká se stateč­nou dívk­ou Himi\, armá­dou papoušků i roz­tomilý­mi stvoření­mi Warawara. Mis­tr ani­mace Hajao Mijaza­ki (Můj soused Totoro\, Ces­ta do fan­tazie a Princez­na Mononoke) se ve svém posled­ním fil­mu opět vydává za hran­ice fan­tazie a snů. (Aero­films)
URL:https://karlinem.cz/event/kino-v-kasarnach-chlapec-a-volavka/
LOCATION:Kasárna Karlín\, Prvního pluku 2\, Karlín\, 18600\, Česká republika
CATEGORIES:Kino
ATTACH;FMTTYPE=image/jpeg:https://karlinem.cz/wp-content/uploads/2024/01/411051888_737736888379419_1711743811478639115_n.jpeg
END:VEVENT
BEGIN:VEVENT
DTSTART;TZID=Europe/Prague:20240114T200000
DTEND;TZID=Europe/Prague:20240114T213000
DTSTAMP:20260426T004825
CREATED:20240104T185048Z
LAST-MODIFIED:20240104T185048Z
UID:10000324-1705262400-1705267800@karlinem.cz
SUMMARY:Kino v Kasárnách: Otec a syn
DESCRIPTION:Otec a syn\nMath­ieu Vade­pied — Fran­cie — 2022 — 99 min — Fran­couzsky CZ titulky \nPíše se rok 1917. Bakary Dial­lo (Omar Sy) naruku­je do fran­couzské armády\, aby se připo­jil ke své­mu sedm­nác­tileté­mu syn­ovi Thier­novi (Alas­sane Diong)\, který byl odvlečen do armády násilím. Otec a syn jsou posláni na fron­tu\, aby se společně postavili válce. Thier­no\, povzbuzen nadšením svého velícího důs­to­jní­ka\, který ho chce vzít do samého ohniska boje\, se osamostat­ní a naučí se být mužem\, zatím­co Bakary dělá vše pro to\, aby ho vytáhl z bojů a přivedl živého a zdravého zpět domů. (Pilot Film)
URL:https://karlinem.cz/event/kino-v-kasarnach-otec-a-syn/
LOCATION:Kasárna Karlín\, Prvního pluku 2\, Karlín\, 18600\, Česká republika
CATEGORIES:Kino
ATTACH;FMTTYPE=image/jpeg:https://karlinem.cz/wp-content/uploads/2024/01/412824564_737739605045814_5138709367748423110_n.jpeg
ORGANIZER;CN="Kas%C3%A1rna%20Karl%C3%ADn":MAILTO:info@​kasarnakarlin.​cz
END:VEVENT
BEGIN:VEVENT
DTSTART;TZID=Europe/Prague:20240115T190000
DTEND;TZID=Europe/Prague:20240115T210000
DTSTAMP:20260426T004825
CREATED:20240111T073008Z
LAST-MODIFIED:20240111T073008Z
UID:10000331-1705345200-1705352400@karlinem.cz
SUMMARY:Kino v Kasárnách:  To se mi snad zdá
DESCRIPTION:To se mi snad zdá\nKristof­fer Bor­gli — USA — 2023 — 100 min — Anglicky CZ titulky \nNená­pad­ný vysokoškol­ský pro­fe­sor Paul (Nico­las Cage) se ze dne na den začne objevo­vat ve snech mil­ionů lidí po celém světě a stane se tak globál­ní celebri­tou. Rázem se mu zač­nou plnit všech­na jeho přání\, ale také pozná\, jak vysoká je cena slávy. Nico­las Cage podává živ­ot­ní herecký výkon v dokonale zábavné společen­ské satiře. (Aero­films)
URL:https://karlinem.cz/event/kino-v-kasarnach-to-se-mi-snad-zda-2/
LOCATION:Kasárna Karlín\, Prvního pluku 2\, Karlín\, 18600\, Česká republika
CATEGORIES:Kino
ATTACH;FMTTYPE=image/jpeg:https://karlinem.cz/wp-content/uploads/2024/01/415181557_745180650968376_1514349993372659715_n.jpeg
ORGANIZER;CN="Kas%C3%A1rna%20Karl%C3%ADn":MAILTO:info@kasarnakarlin.cz
END:VEVENT
BEGIN:VEVENT
DTSTART;TZID=Europe/Prague:20240118T190000
DTEND;TZID=Europe/Prague:20240118T210000
DTSTAMP:20260426T004825
CREATED:20240111T073210Z
LAST-MODIFIED:20240111T073210Z
UID:10000332-1705604400-1705611600@karlinem.cz
SUMMARY:Kino v Kasárnách: Svět pod zemí
DESCRIPTION:Svět pod zemí\nMark Verk­erk— Nizozem­sko 2023— 80 min— anglicky s český­mi titulky \nSvět pod zemí je prostředí neustá­va­jícího pohy­bu\, zrození a smr­ti\, vzniku a roz­padu. Film se makro záběry noří do toho­to málo známého a málo vní­maného svě­ta\, který se skrývá pří­mo pod lid­ský­ma nohama. Půda je nepostra­datel­ný přírod­ní zdroj\, na kterém jsou všich­ni závis­lí. Její fun­gování závisí na bohatých společen­stvech organ­is­mů. Ty jsou ale ohrožovány lid­sk­ou čin­nos­tí\, zejmé­na inten­zivním zeměděl­stvím. Film zachy­cu­je příběhy lidí\, kteří pod­poru­jí ochranu a obnovu půdy\, a z různých úhlů pohle­du sle­du­jí pestrost druhů a výz­nam jejich vztahů. Snímek získal mno­há ocenění a svým pozoruhod­ným estet­ick­ým zpra­cov­áním zau­jal také mez­inárod­ní poro­tu soutěže Prague Sci­ence Film Festival.
URL:https://karlinem.cz/event/kino-v-kasarnach-svet-pod-zemi/
LOCATION:Kasárna Karlín\, Prvního pluku 2\, Karlín\, 18600\, Česká republika
CATEGORIES:Kino
ATTACH;FMTTYPE=image/jpeg:https://karlinem.cz/wp-content/uploads/2024/01/415187148_745182020968239_2650173457427591120_n.jpeg
END:VEVENT
BEGIN:VEVENT
DTSTART;TZID=Europe/Prague:20240122T190000
DTEND;TZID=Europe/Prague:20240122T210000
DTSTAMP:20260426T004825
CREATED:20240111T073725Z
LAST-MODIFIED:20240111T073725Z
UID:10000334-1705950000-1705957200@karlinem.cz
SUMMARY:Kino v Kasárnách: První den mého života
DESCRIPTION:První den mého života\nPao­lo Gen­ovese — Itálie — 2023 — 121 min — Ital­sky CZ titulky \nČtyři lidé z různých společen­ských vrstev spo­ju­je jed­iné – ztratili naději\, že budou ještě šťast­ní. Ve chvíli\, kdy se oci­ta­jí na dně\, se setka­jí s tajem­ným mužem\, který jim nabídne doho­du: jeden týden na to\, aby zjis­tili\, jaký by byl svět bez nich\, a získali tak druhou šan­ci. Každý z nich se vydá nočním Římem na svou intim­ní ces­tu živ­otem. Naj­dou navz­do­ry tomu\, že se kolem nich všech­no hroutí\, sílu začít znovu? Naj­dou nový smysl živ­ota a dokážou si ho znovu zamilo­vat? (Film Europe)
URL:https://karlinem.cz/event/kino-v-kasarnach-prvni-den-meho-zivota/
LOCATION:Kasárna Karlín\, Prvního pluku 2\, Karlín\, 18600\, Česká republika
CATEGORIES:Kino
ATTACH;FMTTYPE=image/jpeg:https://karlinem.cz/wp-content/uploads/2024/01/416015495_745183370968104_4734980594488619240_n.jpeg
ORGANIZER;CN="Kas%C3%A1rna%20Karl%C3%ADn":MAILTO:info@kasarnakarlin.cz
END:VEVENT
BEGIN:VEVENT
DTSTART;TZID=Europe/Prague:20240123T190000
DTEND;TZID=Europe/Prague:20240123T210000
DTSTAMP:20260426T004825
CREATED:20240111T073956Z
LAST-MODIFIED:20240111T073956Z
UID:10000335-1706036400-1706043600@karlinem.cz
SUMMARY:Kino v Kasárnách: Hotel Palace
DESCRIPTION:Hotel Palace\nRoman Polańs­ki — Itálie / Švý­carsko / Pol­sko / Fran­cie — 2023 — 100 min — Anglicky CZ titulky \nKdysi dávno byl\, a dodnes je… Hotel Palace. Neobyče­jný zámek uprostřed zas­něženého údolí má gotick­ou a pohád­kovou atmos­féru a scháze­jí se tu bohatí a požitkářští hosté z celého svě­ta. Letos je všech­ny spo­ji­la jedinečná událost: sil­ve­stro­vský večírek roku 2000. Jejich extrav­a­gant­ní poža­davky se snaží plnit houf číšníků\, poslíčků\, kuchařů a recepčních. S blížícím se úsvitem nového tisí­ciletí Han­sueli\, obě­tavý padesátiletý ředi­tel luxu­s­ního hotelu\, s téměř vojen­sk­ou přes­nos­tí dohlíží na per­son­ál ještě před pří­cho­dem hostů na večírek a ujišťu­je je\, že to neb­ude konec svě­ta. Ve vzduchu však visí Y2K a panu­jí obavy i nadě­je\, že úderem půl­no­ci může dojít k nečekaným výkyvům na účtech velkých finančníků v důsled­ku zhroucení svě­tových počí­tačových sys­témů. Ve skutečnos­ti je však čeká bit­va vedená s extrav­a­gancí a výstřed­nos­tí hotelových hostů. Psi a tučňá­ci s lid­ský­mi potře­ba­mi a lidé se zvířecí­mi touha­mi. Jejich příběhy dáva­jí živ­ot absurd­ní a pro­voka­tivní komedii. Je konec roku 1999: nejen závěr sto­letí\, ale konec celého kon­tro­verzního tisí­ciletí. (Pilot Film)
URL:https://karlinem.cz/event/kino-v-kasarnach-hotel-palace/
LOCATION:Kasárna Karlín\, Prvního pluku 2\, Karlín\, 18600\, Česká republika
CATEGORIES:Kino
ATTACH;FMTTYPE=image/jpeg:https://karlinem.cz/wp-content/uploads/2024/01/416074061_745188744300900_4071622980726012669_n.jpeg
END:VEVENT
BEGIN:VEVENT
DTSTART;TZID=Europe/Prague:20240125T190000
DTEND;TZID=Europe/Prague:20240125T210000
DTSTAMP:20260426T004825
CREATED:20240121T075424Z
LAST-MODIFIED:20240121T075424Z
UID:10000340-1706209200-1706216400@karlinem.cz
SUMMARY:Kino v Kasárnách: Chlapec a volavka
DESCRIPTION:Chlapec a volavka\nHajao Mijaza­ki — Japon­sko — 2023 — 125 min — Česky \nDospí­va­jící chlapec Mahi­to se s tatínkem přestěhu­je na venkovské síd­lo daleko od hek­tick­ého Tokia. V novém domově se seznámí se svéráz­nou mlu­vící volavk­ou\, která ho láká k prozk­oumání záhad­né opuštěné věže. V ní Mahi­to objeví mag­ický svět\, jemuž vládne tajem­ný stařec. Na ces­tě za poznáním se potká se stateč­nou dívk­ou Himi\, armá­dou papoušků i roz­tomilý­mi stvoření­mi Warawara. Mis­tr ani­mace Hajao Mijaza­ki (Můj soused Totoro\, Ces­ta do fan­tazie a Princez­na Mononoke) se ve svém posled­ním fil­mu opět vydává za hran­ice fan­tazie a snů. (Aero­films)
URL:https://karlinem.cz/event/kino-v-kasarnach-chlapec-a-volavka-2/
LOCATION:Kasárna Karlín\, Prvního pluku 2\, Karlín\, 18600\, Česká republika
CATEGORIES:Kino
ATTACH;FMTTYPE=image/jpeg:https://karlinem.cz/wp-content/uploads/2024/01/415163588_745190037634104_4484653372194112609_n.jpeg
END:VEVENT
BEGIN:VEVENT
DTSTART;TZID=Europe/Prague:20240129T190000
DTEND;TZID=Europe/Prague:20240129T210000
DTSTAMP:20260426T004825
CREATED:20240121T080822Z
LAST-MODIFIED:20240121T080822Z
UID:10000345-1706554800-1706562000@karlinem.cz
SUMMARY:Kino v Kasárnách: Bastard
DESCRIPTION:Bas­tard\nNiko­laj Arcel — Dán­sko / Švéd­sko / Norsko / Německo — 2023 — 127 min — Dán­sky CZ titulky \nV roce 1755 se zchudlý kapitán Lud­vig von Kahlen (Mads Mikkelsen) vydává dobýt drsné\, neoby­vatel­né dán­ské vřeso­viště se zdán­livě nemožným cílem: vybu­dovat zde jménem krále kolonii. Výmě­nou za to získá pro sebe tolik vytoužené královské jméno. Jed­iný vlád­ce na tom­to území\, nemilos­rd­ný Fred­erik de Schinkel (Simon Ben­neb­jerg)\, se však aro­gant­ně dom­nívá\, že mu tato země patří. Když se de Schinkel dozví\, že služeb­ná Ann Bar­bara (Aman­da Collin) a její manžel sluha utek­li do úkry­tu ke Kahlen­ovi\, zlomyslný vlád­ce přísahá pom­stu a udělá vše\, co je v jeho silách\, aby kapitá­na vyh­nal. Kahlen se nenechá zas­trašit a pustí se do nerovného boje – risku­je nejen svůj živ­ot\, ale i živ­ot rodiny přistěho­val­ců\, která se kolem něj zformovala.
URL:https://karlinem.cz/event/kino-v-kasarnach-bastard/
LOCATION:Kasárna Karlín\, Prvního pluku 2\, Karlín\, 18600\, Česká republika
CATEGORIES:Kino
ATTACH;FMTTYPE=image/jpeg:https://karlinem.cz/wp-content/uploads/2024/01/416015838_745191267633981_2058709847758974824_n.jpeg
END:VEVENT
END:VCALENDAR