BEGIN:VCALENDAR
VERSION:2.0
PRODID:-//Karlinem.cz - ECPv6.2.0.1//NONSGML v1.0//EN
CALSCALE:GREGORIAN
METHOD:PUBLISH
X-ORIGINAL-URL:https://karlinem.cz
X-WR-CALDESC:Akce na Karlinem.cz
REFRESH-INTERVAL;VALUE=DURATION:PT1H
X-Robots-Tag:noindex
X-PUBLISHED-TTL:PT1H
BEGIN:VTIMEZONE
TZID:Europe/Prague
BEGIN:DAYLIGHT
TZOFFSETFROM:+0100
TZOFFSETTO:+0200
TZNAME:CEST
DTSTART:20240331T010000
END:DAYLIGHT
BEGIN:STANDARD
TZOFFSETFROM:+0200
TZOFFSETTO:+0100
TZNAME:CET
DTSTART:20241027T010000
END:STANDARD
END:VTIMEZONE
BEGIN:VEVENT
DTSTART;TZID=Europe/Prague:20240125T190000
DTEND;TZID=Europe/Prague:20240125T210000
DTSTAMP:20260426T021524
CREATED:20240121T075424Z
LAST-MODIFIED:20240121T075424Z
UID:10000340-1706209200-1706216400@karlinem.cz
SUMMARY:Kino v Kasárnách: Chlapec a volavka
DESCRIPTION:Chlapec a volavka\nHajao Mijaza­ki — Japon­sko — 2023 — 125 min — Česky \nDospí­va­jící chlapec Mahi­to se s tatínkem přestěhu­je na venkovské síd­lo daleko od hek­tick­ého Tokia. V novém domově se seznámí se svéráz­nou mlu­vící volavk­ou\, která ho láká k prozk­oumání záhad­né opuštěné věže. V ní Mahi­to objeví mag­ický svět\, jemuž vládne tajem­ný stařec. Na ces­tě za poznáním se potká se stateč­nou dívk­ou Himi\, armá­dou papoušků i roz­tomilý­mi stvoření­mi Warawara. Mis­tr ani­mace Hajao Mijaza­ki (Můj soused Totoro\, Ces­ta do fan­tazie a Princez­na Mononoke) se ve svém posled­ním fil­mu opět vydává za hran­ice fan­tazie a snů. (Aero­films)
URL:https://karlinem.cz/event/kino-v-kasarnach-chlapec-a-volavka-2/
LOCATION:Kasárna Karlín\, Prvního pluku 2\, Karlín\, 18600\, Česká republika
CATEGORIES:Kino
ATTACH;FMTTYPE=image/jpeg:https://karlinem.cz/wp-content/uploads/2024/01/415163588_745190037634104_4484653372194112609_n.jpeg
END:VEVENT
END:VCALENDAR