BEGIN:VCALENDAR
VERSION:2.0
PRODID:-//Karlinem.cz - ECPv6.2.0.1//NONSGML v1.0//EN
CALSCALE:GREGORIAN
METHOD:PUBLISH
X-WR-CALNAME:Karlinem.cz
X-ORIGINAL-URL:https://karlinem.cz
X-WR-CALDESC:Akce na Karlinem.cz
REFRESH-INTERVAL;VALUE=DURATION:PT1H
X-Robots-Tag:noindex
X-PUBLISHED-TTL:PT1H
BEGIN:VTIMEZONE
TZID:Europe/Prague
BEGIN:DAYLIGHT
TZOFFSETFROM:+0100
TZOFFSETTO:+0200
TZNAME:CEST
DTSTART:20240331T010000
END:DAYLIGHT
BEGIN:STANDARD
TZOFFSETFROM:+0200
TZOFFSETTO:+0100
TZNAME:CET
DTSTART:20241027T010000
END:STANDARD
END:VTIMEZONE
BEGIN:VEVENT
DTSTART;TZID=Europe/Prague:20240201T190000
DTEND;TZID=Europe/Prague:20240201T210000
DTSTAMP:20260426T021427
CREATED:20240122T145228Z
LAST-MODIFIED:20240122T145228Z
UID:10000347-1706814000-1706821200@karlinem.cz
SUMMARY:Kino v Kasárnách - EOS: Příběhy umění z Tokia
DESCRIPTION:David Bick­er­staff — Velká Británie — 2023 — 90 min — Anglicky CZ titulky \nPříběhy umění z Tokia mapu­jí skrze výs­tavu v oxford­ském Ash­moleově muzeu 400 let neu­věřitel­ně dynam­ick­ého a pestrého umění japon­ské metro­pole – od jem­ných dřevo­tisků Hoku­saie a Hiroši­ga\, až po pop artové plaká­ty\, součas­nou fotografii\, man­gu\, film a nová pouliční díla. Režisér David Bick­er­staff využívá tuto úspěš­nou výs­tavu jako odra­zový můstek k násled­né ces­tě pří­mo do Tokia a hlubší­mu prozk­oumání tam­ního umění. Film tak detail­ně zachy­cu­je měs­to\, které se za posled­ních 400 let své nes­mírně bohaté\, ale čas­to i bolestivé his­to­rie sta­lo jed­ním z nejživějších a nejza­jí­mavějších měst na této plan­etě. (Pan­non­ia Ent.)
URL:https://karlinem.cz/event/kino-v-kasarnach-eos-pribehy-umeni-z-tokia/
LOCATION:Kasárna Karlín\, Prvního pluku 2\, Karlín\, 18600\, Česká republika
CATEGORIES:Kino
ATTACH;FMTTYPE=image/jpeg:https://karlinem.cz/wp-content/uploads/2024/01/1229268-800.jpeg
END:VEVENT
END:VCALENDAR