BEGIN:VCALENDAR
VERSION:2.0
PRODID:-//Karlinem.cz - ECPv6.2.0.1//NONSGML v1.0//EN
CALSCALE:GREGORIAN
METHOD:PUBLISH
X-WR-CALNAME:Karlinem.cz
X-ORIGINAL-URL:https://karlinem.cz
X-WR-CALDESC:Akce na Karlinem.cz
REFRESH-INTERVAL;VALUE=DURATION:PT1H
X-Robots-Tag:noindex
X-PUBLISHED-TTL:PT1H
BEGIN:VTIMEZONE
TZID:Europe/Prague
BEGIN:DAYLIGHT
TZOFFSETFROM:+0100
TZOFFSETTO:+0200
TZNAME:CEST
DTSTART:20240331T010000
END:DAYLIGHT
BEGIN:STANDARD
TZOFFSETFROM:+0200
TZOFFSETTO:+0100
TZNAME:CET
DTSTART:20241027T010000
END:STANDARD
END:VTIMEZONE
BEGIN:VEVENT
DTSTART;TZID=Europe/Prague:20240202T190000
DTEND;TZID=Europe/Prague:20240202T210000
DTSTAMP:20260426T004819
CREATED:20240122T145528Z
LAST-MODIFIED:20240122T145528Z
UID:10000349-1706900400-1706907600@karlinem.cz
SUMMARY:Kino v Kasárnách: Mamacruz
DESCRIPTION:Patri­cia Orte­ga — Španěl­sko — 2023 — 84 min — Španěl­sky CZ titulky \nOdd­aná katolič­ka Cruz proži­la celý živ­ot podle pravidel\, která jí vnu­ti­la rigid­ní španěl­ská společnost. Den­ně chodí do kostela\, uza­vírá své tělo do korze­tu\, stará se o svého nem­lu­vného manžela\, peču­je o vnučku a stra­chu­je se o dceru\, která se snaží prosa­dit ve Víd­ni jako tanečnice. Stačí ale jeden náhod­ný klik na inter­ne­tu a její živ­ot nabere úplně nový směr. Pornos­tránky\, které zpočátku zděšeně ukrývá pod polštář\, jsou začátkem ces­ty ke svo­bodě – těla\, emocí\, myšlení. (AČFK)
URL:https://karlinem.cz/event/kino-v-kasarnach-mamacruz/
LOCATION:Kasárna Karlín\, Prvního pluku 2\, Karlín\, 18600\, Česká republika
CATEGORIES:Kino
ATTACH;FMTTYPE=image/webp:https://karlinem.cz/wp-content/uploads/2024/01/1674464820424_1409x1005_0x0x0x0_1679272733603.jpg.webp
END:VEVENT
END:VCALENDAR