BEGIN:VCALENDAR
VERSION:2.0
PRODID:-//Karlinem.cz - ECPv6.2.0.1//NONSGML v1.0//EN
CALSCALE:GREGORIAN
METHOD:PUBLISH
X-WR-CALNAME:Karlinem.cz
X-ORIGINAL-URL:https://karlinem.cz
X-WR-CALDESC:Akce na Karlinem.cz
REFRESH-INTERVAL;VALUE=DURATION:PT1H
X-Robots-Tag:noindex
X-PUBLISHED-TTL:PT1H
BEGIN:VTIMEZONE
TZID:Europe/Prague
BEGIN:DAYLIGHT
TZOFFSETFROM:+0100
TZOFFSETTO:+0200
TZNAME:CEST
DTSTART:20240331T010000
END:DAYLIGHT
BEGIN:STANDARD
TZOFFSETFROM:+0200
TZOFFSETTO:+0100
TZNAME:CET
DTSTART:20241027T010000
END:STANDARD
END:VTIMEZONE
BEGIN:VEVENT
DTSTART;TZID=Europe/Prague:20240211T170000
DTEND;TZID=Europe/Prague:20240211T190000
DTSTAMP:20260426T051748
CREATED:20240130T130136Z
LAST-MODIFIED:20240130T130136Z
UID:10000385-1707670800-1707678000@karlinem.cz
SUMMARY:Kino v Kasárnách: Howlův kráčející hrad
DESCRIPTION:Hajao Mijaza­ki — Japon­sko — 2004 — 118 min — Česky \nI v poko­jném anglick­ém městečku se mohou dít čáry a kou­zla. Mladá a skrom­ná Sofie\, nejlepší kloboučnice v salonu\, vůbec neví\, čím si zaslouži­la\, že ji jed­no­ho dne na uli­ci zachrání před dotěrný­mi vojáky krás­ný čar­o­děj. Vezme ji pod svou ochranu a udi­vená Sofie najed­nou ztrácí půdu pod nohama\, stoupa­jí spolu nad městečko\, letí jako ptá­ci… Jenže pak ji čeká trest v podobě zlé čar­o­dějnice. Sofie při­jde o své mládí i krá­su a dál se musí prot­loukat světem jako staře­na. Její jedi­nou nadějí je ten krás­ný mladý čar­o­děj Howl\, který ve svém zámku na muřích nohách obchází kra­jem. Pohád­kový příběh dívky Sofie a mladého čar­o­dě­je Howla vypráví přede­vším o lid­ské svo­bodě a síle lásky. Film získal řadu mez­inárod­ních ocenění\, včet­ně nom­i­nace na Oscara za nejlepší celovečerní ani­movaný film. (Aero­films)
URL:https://karlinem.cz/event/kino-v-kasarnach-howluv-kracejici-hrad/
LOCATION:Kasárna Karlín\, Prvního pluku 2\, Karlín\, 18600\, Česká republika
CATEGORIES:Kino
ATTACH;FMTTYPE=image/jpeg:https://karlinem.cz/wp-content/uploads/2024/01/420073905_757339079752533_789099841291861654_n.jpeg
END:VEVENT
END:VCALENDAR