BEGIN:VCALENDAR
VERSION:2.0
PRODID:-//Karlinem.cz - ECPv6.2.0.1//NONSGML v1.0//EN
CALSCALE:GREGORIAN
METHOD:PUBLISH
X-WR-CALNAME:Karlinem.cz
X-ORIGINAL-URL:https://karlinem.cz
X-WR-CALDESC:Akce na Karlinem.cz
REFRESH-INTERVAL;VALUE=DURATION:PT1H
X-Robots-Tag:noindex
X-PUBLISHED-TTL:PT1H
BEGIN:VTIMEZONE
TZID:Europe/Prague
BEGIN:DAYLIGHT
TZOFFSETFROM:+0100
TZOFFSETTO:+0200
TZNAME:CEST
DTSTART:20240331T010000
END:DAYLIGHT
BEGIN:STANDARD
TZOFFSETFROM:+0200
TZOFFSETTO:+0100
TZNAME:CET
DTSTART:20241027T010000
END:STANDARD
END:VTIMEZONE
BEGIN:VEVENT
DTSTART;TZID=Europe/Prague:20240218T170000
DTEND;TZID=Europe/Prague:20240218T183000
DTSTAMP:20260426T021425
CREATED:20240211T111509Z
LAST-MODIFIED:20240211T111509Z
UID:10000397-1708275600-1708281000@karlinem.cz
SUMMARY:Kino v Kasárnách: Porco Rosso
DESCRIPTION:Hajao Mijaza­ki — Japon­sko — 1992 — 93 min — Česky \nV době mezi svě­tový­mi válka­mi se na pevnin­ské Itálii roz­ta­ho­valy stíny dik­tatu­ry\, ale nebe nad Jader­ským mořem stále bylo světem abso­lut­ní svo­body a rytířského hrdinství. Mis­tro­vský pilot Por­co Rosso je jak hrdi­na ze starých dobro­družných filmů ital­ské či fran­couzské pro­dukce. Jeho letecké soubo­je se vzdušný­mi pirá­ty jsou plné grá­cie i nad­sázky a jeho šarm nebroušeného dia­man­tu září při decent­ních setkáních s dáma­mi i divokých kon­frontacích s padouchy. A nic na tom nemění\, že kvůli taju­plné klet­bě má hlavu jako pašík. Svě­tově uzná­vaný režisér ani­movaných filmů Hajao Mijaza­ki nikdy neskrý­val svou fasci­naci létáním. To se jako klíčový motiv ztvárněný v uhrančivých sekvencích obje­vu­je již v jeho dřívějších sním­cích jako Nauši­ka z Větrného údolí\, Lapu­ta: Nebeský zámek\, Můj soused Totoro či Doručo­vací služ­ba čar­o­dějky Kiki. Ale až ve fil­mu Por­co Rosso vytvořil vylože­nou ódu na svět neohrožených letců doby\, kdy létání ještě mělo punc dobro­družství. (Aero­films)
URL:https://karlinem.cz/event/kino-v-kasarnach-porco-rosso/
LOCATION:Kasárna Karlín\, Prvního pluku 2\, Karlín\, 18600\, Česká republika
CATEGORIES:Kino
ATTACH;FMTTYPE=image/jpeg:https://karlinem.cz/wp-content/uploads/2024/02/421837890_757340909752350_2449655109797824541_n.jpeg
ORGANIZER;CN="Kas%C3%A1rna%20Karl%C3%ADn":MAILTO:info@​kasarnakarlin.​cz
END:VEVENT
END:VCALENDAR