BEGIN:VCALENDAR
VERSION:2.0
PRODID:-//Karlinem.cz - ECPv6.2.0.1//NONSGML v1.0//EN
CALSCALE:GREGORIAN
METHOD:PUBLISH
X-WR-CALNAME:Karlinem.cz
X-ORIGINAL-URL:https://karlinem.cz
X-WR-CALDESC:Akce na Karlinem.cz
REFRESH-INTERVAL;VALUE=DURATION:PT1H
X-Robots-Tag:noindex
X-PUBLISHED-TTL:PT1H
BEGIN:VTIMEZONE
TZID:Europe/Prague
BEGIN:DAYLIGHT
TZOFFSETFROM:+0100
TZOFFSETTO:+0200
TZNAME:CEST
DTSTART:20240331T010000
END:DAYLIGHT
BEGIN:STANDARD
TZOFFSETFROM:+0200
TZOFFSETTO:+0100
TZNAME:CET
DTSTART:20241027T010000
END:STANDARD
END:VTIMEZONE
BEGIN:VEVENT
DTSTART;TZID=Europe/Prague:20240301T190000
DTEND;TZID=Europe/Prague:20240301T210000
DTSTAMP:20260426T004822
CREATED:20240225T174138Z
LAST-MODIFIED:20240225T174138Z
UID:10000413-1709319600-1709326800@karlinem.cz
SUMMARY:Kino v Kasárnách: Případ Goldman
DESCRIPTION:Pří­pad Goldman\nCédric Kahn — Fran­cie — 2023 — 115 min — Fran­couzsky CZ titulky \nPaříž\, listopad 1975. Odvolací slyšení kra­jně lev­i­cov­ého židovského aktivisty Pier­ra Gold­mana má začít. Gold­man\, odsouzený k doživ­ot­ní­mu vězení za čtyři ozbro­jené loupeže\, z nichž jed­na měla za následek smrt dvou žen\, odmítá obv­inění z vraždy. Masivně sle­dovaný soud­ní pro­ces vytvoří z Gold­mana romantick­ou postavu a hrdinu intelek­tuál­ní lev­ice\, i když vztah s jeho mladým právníkem George­sem Kiej­manem skřípe. Věčný pro­vokatér hlásající své ideá­ly\, nepo­lapitel­ný a rtuťovitý Gold­man uvrhne svůj vlast­ní pro­ces do chao­su a risku­je roz­sudek smr­ti. Pří­pad Gold­man vykres­lu­je psy­chopa­to­log­ický portrét mil­i­tant­ního rev­olu­cionáře\, ale také společnos­ti zmí­tané vzor­ci rasis­mu a nespravedl­nos­ti\, které jsou vysoce nakažlivé i dnes. (Art­cam Films)
URL:https://karlinem.cz/event/kino-v-kasarnach-pripad-goldman/
LOCATION:Kasárna Karlín\, Prvního pluku 2\, Karlín\, 18600\, Česká republika
CATEGORIES:Kino
ATTACH;FMTTYPE=image/webp:https://karlinem.cz/wp-content/uploads/2024/02/kk_kino24_web13.png.webp
END:VEVENT
END:VCALENDAR