BEGIN:VCALENDAR
VERSION:2.0
PRODID:-//Karlinem.cz - ECPv6.2.0.1//NONSGML v1.0//EN
CALSCALE:GREGORIAN
METHOD:PUBLISH
X-ORIGINAL-URL:https://karlinem.cz
X-WR-CALDESC:Akce na Karlinem.cz
REFRESH-INTERVAL;VALUE=DURATION:PT1H
X-Robots-Tag:noindex
X-PUBLISHED-TTL:PT1H
BEGIN:VTIMEZONE
TZID:Europe/Prague
BEGIN:DAYLIGHT
TZOFFSETFROM:+0100
TZOFFSETTO:+0200
TZNAME:CEST
DTSTART:20240331T010000
END:DAYLIGHT
BEGIN:STANDARD
TZOFFSETFROM:+0200
TZOFFSETTO:+0100
TZNAME:CET
DTSTART:20241027T010000
END:STANDARD
END:VTIMEZONE
BEGIN:VEVENT
DTSTART;TZID=Europe/Prague:20240306T190000
DTEND;TZID=Europe/Prague:20240306T210000
DTSTAMP:20260425T214837
CREATED:20240229T085546Z
LAST-MODIFIED:20240229T085546Z
UID:10000418-1709751600-1709758800@karlinem.cz
SUMMARY:Kino v Kasárnách: Darkland: Návrat
DESCRIPTION:Dark­land: Návrat\nFenar Ahmad — Dán­sko — 2023 — 110 min — Dán­sky CZ titulky \nPřed sed­mi lety Zaid vyh­lásil válku kodaňské­mu podsvětí\, aby pom­stil svého mrtvého bra­tra. Jeho sen o kar­iéře uzná­vaného kar­di­olo­ga a šťast­ném rodin­ném živ­otě se však roz­plývá a Zaid ve vězení trpí ztrá­tou svého syna Noa­ha\, se kterým ztratil vešk­erý kon­takt. Když Zai­da osloví police­jní agent a nabídne mu prop­uštění výmě­nou za infil­traci do kodaňského podsvětí\, Zaid to vnímá jako svou šan­ci\, jak získat zpět zbytky rodin­ného živ­ota\, o který přišel. Všech­no má však svou cenu a Zaid si uvě­do­mu­je\, že tím vážně ohrožu­je živ­ot svého syna. Když se člověk stane součástí podsvětí\, exis­tu­je pro něj vůbec ještě nějaká ces­ta ven? (Film Europe)
URL:https://karlinem.cz/event/kino-v-kasarnach-darkland-navrat/
LOCATION:Kasárna Karlín\, Prvního pluku 2\, Karlín\, 18600\, Česká republika
CATEGORIES:Kino
ATTACH;FMTTYPE=image/webp:https://karlinem.cz/wp-content/uploads/2024/02/kk_kino24_web11.png.webp
ORGANIZER;CN="Kas%C3%A1rna%20Karl%C3%ADn":MAILTO:info@​kasarnakarlin.​cz
END:VEVENT
END:VCALENDAR