BEGIN:VCALENDAR
VERSION:2.0
PRODID:-//Karlinem.cz - ECPv6.2.0.1//NONSGML v1.0//EN
CALSCALE:GREGORIAN
METHOD:PUBLISH
X-WR-CALNAME:Karlinem.cz
X-ORIGINAL-URL:https://karlinem.cz
X-WR-CALDESC:Akce na Karlinem.cz
REFRESH-INTERVAL;VALUE=DURATION:PT1H
X-Robots-Tag:noindex
X-PUBLISHED-TTL:PT1H
BEGIN:VTIMEZONE
TZID:Europe/Prague
BEGIN:DAYLIGHT
TZOFFSETFROM:+0100
TZOFFSETTO:+0200
TZNAME:CEST
DTSTART:20240331T010000
END:DAYLIGHT
BEGIN:STANDARD
TZOFFSETFROM:+0200
TZOFFSETTO:+0100
TZNAME:CET
DTSTART:20241027T010000
END:STANDARD
END:VTIMEZONE
BEGIN:VEVENT
DTSTART;TZID=Europe/Prague:20240308T190000
DTEND;TZID=Europe/Prague:20240308T210000
DTSTAMP:20260425T214642
CREATED:20240229T085828Z
LAST-MODIFIED:20240229T085828Z
UID:10000420-1709924400-1709931600@karlinem.cz
SUMMARY:Kino v Kasárnách: Železní bratři
DESCRIPTION:Železní bratři\nSean Durkin — USA/​Velká Británie — 2023 — 130 min — Anglicky CZ titulky \nBratři\, syn­ové\, šam­pi­oni. Kevin\, Ker­ry\, David a Mike Von Eri­chové zápasili nejen se soupeři v ringu\, ale i s rodin­ným prokletím. Emo­tivní příběh natočený podle skutečné události odhalu­je jejich souroze­neck­ou lásku a odd­anost rod­ině\, ale i tvrdý dril despotick­ého otce a trenéra v jed­né osobě. V rolích bra­trů\, kteří se v osmdesátých letech svý­mi výkony zap­sali do his­to­rie pro­fe­sionál­ního wrestlin­gu\, září Zac Efron\, Jere­my Allen White a Har­ris Dick­in­son. (Aero­films)
URL:https://karlinem.cz/event/kino-v-kasarnach-zelezni-bratri/
LOCATION:Kasárna Karlín\, Prvního pluku 2\, Karlín\, 18600\, Česká republika
CATEGORIES:Kino
ATTACH;FMTTYPE=image/jpeg:https://karlinem.cz/wp-content/uploads/2024/02/428475257_778790154274092_2175970173512004202_n.jpeg
ORGANIZER;CN="Kas%C3%A1rna%20Karl%C3%ADn":MAILTO:info@kasarnakarlin.cz
END:VEVENT
END:VCALENDAR