BEGIN:VCALENDAR
VERSION:2.0
PRODID:-//Karlinem.cz - ECPv6.2.0.1//NONSGML v1.0//EN
CALSCALE:GREGORIAN
METHOD:PUBLISH
X-ORIGINAL-URL:https://karlinem.cz
X-WR-CALDESC:Akce na Karlinem.cz
REFRESH-INTERVAL;VALUE=DURATION:PT1H
X-Robots-Tag:noindex
X-PUBLISHED-TTL:PT1H
BEGIN:VTIMEZONE
TZID:Europe/Prague
BEGIN:DAYLIGHT
TZOFFSETFROM:+0100
TZOFFSETTO:+0200
TZNAME:CEST
DTSTART:20240331T010000
END:DAYLIGHT
BEGIN:STANDARD
TZOFFSETFROM:+0200
TZOFFSETTO:+0100
TZNAME:CET
DTSTART:20241027T010000
END:STANDARD
END:VTIMEZONE
BEGIN:VEVENT
DTSTART;TZID=Europe/Prague:20240311T190000
DTEND;TZID=Europe/Prague:20240311T203000
DTSTAMP:20260425T214815
CREATED:20240229T090223Z
LAST-MODIFIED:20240229T090223Z
UID:10000423-1710183600-1710189000@karlinem.cz
SUMMARY:Kino v Kasárnách: Jake Gyllenhaal naslepo
DESCRIPTION:Jake Gyl­len­haal nasle­po Anglicky CZ titulky \nJake Gyl­len­haal je sáz­ka na jis­to­tu. Jeden z mála her­ců\, který se snad nikdy neob­jevil ve špat­ném fil­mu a celá jeho fil­mo­grafie sto­jí za vidění. Mrazivý thriller\, romantická kome­die nebo pořád­ný akčňák? To se dozvíte v našem třetím kině naslepo. \nPOZOR: Každý\, kdo si zak­oupí vstu­penku\, dostane vouch­er na jak­ouko­liv další pro­jek­ci v našem kině!
URL:https://karlinem.cz/event/kino-v-kasarnach-jake-gyllenhaal-naslepo/
LOCATION:Kasárna Karlín\, Prvního pluku 2\, Karlín\, 18600\, Česká republika
CATEGORIES:Kino
ATTACH;FMTTYPE=image/jpeg:https://karlinem.cz/wp-content/uploads/2024/02/425321284_778851604267947_4276993150922438981_n.jpeg
END:VEVENT
END:VCALENDAR