BEGIN:VCALENDAR
VERSION:2.0
PRODID:-//Karlinem.cz - ECPv6.2.0.1//NONSGML v1.0//EN
CALSCALE:GREGORIAN
METHOD:PUBLISH
X-ORIGINAL-URL:https://karlinem.cz
X-WR-CALDESC:Akce na Karlinem.cz
REFRESH-INTERVAL;VALUE=DURATION:PT1H
X-Robots-Tag:noindex
X-PUBLISHED-TTL:PT1H
BEGIN:VTIMEZONE
TZID:Europe/Prague
BEGIN:DAYLIGHT
TZOFFSETFROM:+0100
TZOFFSETTO:+0200
TZNAME:CEST
DTSTART:20240331T010000
END:DAYLIGHT
BEGIN:STANDARD
TZOFFSETFROM:+0200
TZOFFSETTO:+0100
TZNAME:CET
DTSTART:20241027T010000
END:STANDARD
END:VTIMEZONE
BEGIN:VEVENT
DTSTART;TZID=Europe/Prague:20240324T170000
DTEND;TZID=Europe/Prague:20240324T183000
DTSTAMP:20260426T023109
CREATED:20240229T091247Z
LAST-MODIFIED:20240229T091247Z
UID:10000430-1711299600-1711305000@karlinem.cz
SUMMARY:Kino v Kasárnách: Příběhy ze Zeměmoří
DESCRIPTION:Příběhy ze Zeměmoří\nGoró Mijaza­ki — Japon­sko — 2006 — 115 min — Japon­sky CZ titulky \nRovnováha svět­la a tem­no­ty ve světě Země­moří je vychýle­na\, lidé přicháze­jí o jis­to­ty\, přestá­va­jí věřit sami v sebe a čar­o­dějové přicháze­jí o své schop­nos­ti. Mladý princ Aren sužován úzkostí uteče za znepoko­jivých okol­nos­tí od královského dvo­ra. Jeho bezcíl­né pouti dá směr setkání s arcimágem Krahu­jcem. Na jejich společné ces­tě Aren poznává dívku Theru\, která skrývá velké tajem­ství. O Are­na se začne zají­mat Krahu­jcův dávný pro­tivník\, zlomyslný mág Pavouk převtělený do podo­by ženy\, jenž se pídí po tajem­ství věčného živ­ota. Stra­ch ze smr­ti nejprve Are­na\, podob­ně jako Pavou­ka\, přichy­lu­je k tem­notě. Hrdi­na však poznává\, že jed­iná ces­ta\, jak pře­mo­ci úzkost\, vede přes nalezení lásky k živ­o­tu. První film Góra Mijaza­k­i­ho\, syna Hajaa Mijaza­k­i­ho\, odkazu­je k jed­né z nejpop­ulárnějších ság západ­ní lit­er­atu­ry ​„Země­moří“ a vzdává hold její autorce Ursule K. Le Guinové. (Aero­films)
URL:https://karlinem.cz/event/kino-v-kasarnach-pribehy-ze-zememori-2/
LOCATION:Kasárna Karlín\, Prvního pluku 2\, Karlín\, 18600\, Česká republika
CATEGORIES:Kino
ATTACH;FMTTYPE=image/jpeg:https://karlinem.cz/wp-content/uploads/2024/02/408950131_778278977658543_43683508155622531_n.jpeg
END:VEVENT
BEGIN:VEVENT
DTSTART;TZID=Europe/Prague:20240331T170000
DTEND;TZID=Europe/Prague:20240331T190000
DTSTAMP:20260426T023109
CREATED:20240229T091701Z
LAST-MODIFIED:20240229T091701Z
UID:10000433-1711904400-1711911600@karlinem.cz
SUMMARY:Kino v Kasárnách: Laputa: Nebeský zámek
DESCRIPTION:Lapu­ta: Nebeský zámek\nHajao Mijaza­ki — Japon­sko — 1986 — 124 min — Japon­sky CZ titulky \nChlapec z hor­nick­ého městeč­ka a dív­ka\, jejíž původ je zahalen tajem­stvím\, jsou zataženi do hon­by za pok­la­dem ukry­tým v bájném léta­jícím městě Lapu­ta. Během krkolom­ných dobro­družství\, razant­ních honiček i dech­ber­oucích odhalení muse­jí čelit nejen hamižným vzdušným pirátům\, ale také armádě a tajným agen­tům. Celosvě­tově uzná­vaný režisér a scenárista Hajao Mijaza­ki do snímku promítl svou fasci­naci létáním\, vášeň pro kla­sick­ou evrop­sk­ou dobro­druž­nou prózu a pro fascin­u­jící epochu konce 19. sto­letí\, která s sebou při­nes­la roz­mach letectví a vzdu­cholodí. Díky těm­to vlivům se Lapu­ta: Nebeský zámek vyz­naču­je výrazně evrop­ským\, až ver­neovským nádechem\, ale součas­ně si uchovává kval­i­ty charak­ter­i­stické pro pro­duk­ci Stu­dia Ghi­b­li i japon­sk­ou ani­maci obec­ně. (Aero­films)
URL:https://karlinem.cz/event/kino-v-kasarnach-laputa-nebesky-zamek/
LOCATION:Kasárna Karlín\, Prvního pluku 2\, Karlín\, 18600\, Česká republika
CATEGORIES:Kino
ATTACH;FMTTYPE=image/jpeg:https://karlinem.cz/wp-content/uploads/2024/02/428497466_778279944325113_7517321671655334886_n.jpeg
END:VEVENT
END:VCALENDAR