BEGIN:VCALENDAR
VERSION:2.0
PRODID:-//Karlinem.cz - ECPv6.2.0.1//NONSGML v1.0//EN
CALSCALE:GREGORIAN
METHOD:PUBLISH
X-ORIGINAL-URL:https://karlinem.cz
X-WR-CALDESC:Akce na Karlinem.cz
REFRESH-INTERVAL;VALUE=DURATION:PT1H
X-Robots-Tag:noindex
X-PUBLISHED-TTL:PT1H
BEGIN:VTIMEZONE
TZID:Europe/Prague
BEGIN:DAYLIGHT
TZOFFSETFROM:+0100
TZOFFSETTO:+0200
TZNAME:CEST
DTSTART:20230326T010000
END:DAYLIGHT
BEGIN:STANDARD
TZOFFSETFROM:+0200
TZOFFSETTO:+0100
TZNAME:CET
DTSTART:20231029T010000
END:STANDARD
END:VTIMEZONE
BEGIN:VEVENT
DTSTART;TZID=Europe/Prague:20230416T100000
DTEND;TZID=Europe/Prague:20230416T180000
DTSTAMP:20260422T115321
CREATED:20230321T071244Z
LAST-MODIFIED:20230625T112313Z
UID:10000011-1681639200-1681668000@karlinem.cz
SUMMARY:Karlínský festival kávy
DESCRIPTION:V neděli 16. dubna od 10:00 – 18:00 bude Karlínské náměstí doslova provoněné kávou. Karlínského festivalu kávy se zúčastní ty nejlepší pražírny a kavárny\, které vám představí jak klasickou přípravu kávy\, tak i různé alternativní způsoby nebo třeba i kávové rituály. Nebude chybět ani tolik oblíbené Cold brew a mnoho dalšího. Jako vždy se můžete těšit i na skvělou nabídku jídel\, která uspokojí i ty největší gurmány.\nVe 13:00 vystoupí kapela The Brownies a celý den pro vás bude hrát DJ Hlava. Pro děti i pro dospělé bude připraven bohatý doprovodný program a tematické workshopy.\nČeká na vás nevšední zážitek\, který si rozhodně nesmíte nechat ujít.\nTěšíme se na vás.
URL:https://karlinem.cz/event/karlinsky-festival-kavy/
LOCATION:Karlínské náměstí\, Karlínské náměstí\, Karlín
CATEGORIES:Jídlo a pití,Koncert
ATTACH;FMTTYPE=image/jpeg:https://karlinem.cz/wp-content/uploads/2023/03/336579339_537785765151809_1006284043936436570_n.jpg
END:VEVENT
END:VCALENDAR