BEGIN:VCALENDAR
VERSION:2.0
PRODID:-//Karlinem.cz - ECPv6.2.0.1//NONSGML v1.0//EN
CALSCALE:GREGORIAN
METHOD:PUBLISH
X-WR-CALNAME:Karlinem.cz
X-ORIGINAL-URL:https://karlinem.cz
X-WR-CALDESC:Akce na Karlinem.cz
REFRESH-INTERVAL;VALUE=DURATION:PT1H
X-Robots-Tag:noindex
X-PUBLISHED-TTL:PT1H
BEGIN:VTIMEZONE
TZID:Europe/Prague
BEGIN:DAYLIGHT
TZOFFSETFROM:+0100
TZOFFSETTO:+0200
TZNAME:CEST
DTSTART:20230326T010000
END:DAYLIGHT
BEGIN:STANDARD
TZOFFSETFROM:+0200
TZOFFSETTO:+0100
TZNAME:CET
DTSTART:20231029T010000
END:STANDARD
END:VTIMEZONE
BEGIN:VEVENT
DTSTART;TZID=Europe/Prague:20231108T180000
DTEND;TZID=Europe/Prague:20231108T200000
DTSTAMP:20260425T032540
CREATED:20231030T041219Z
LAST-MODIFIED:20231030T041219Z
UID:10000218-1699466400-1699473600@karlinem.cz
SUMMARY:Surfskate Jam vol. III
DESCRIPTION:Přijďte si s námi zajezdit na surfskejtech ve štvanickým bowlu a ukažte\, co jste za léto natrénovali!\nZačneme v 18:15 jako vždycky\, akorát nás tam bude víc a pustíme si k tomu i muziku. Pití je možné koupit na baru ve skateparku. Když by se vám chtělo vzít nějaký drobný občerstvení\, tak vůbec neváhejte.\nVaše dovednosti budou neformálně hodnotit naši trenéři\, které znáte z pravidelných tréninků a kolem 8 hodiny vyhlásíme ty nejlepší z vás a předáme vám nějaké drobné ceny. Po vyhlášení bude v klubovně PSK (hned vedle skateparku) probíhat promítání filmu Pinang s besedou s autorem a zbytek příjemného večera ve společností lidí co to mají stejně jako ty.\nV trénincích v bowlu bychom chtěli pokračovat i přes zimu (nechte se překvapit)\, takže to berte prostě jenom jako takový hezký odpoledne/večer s kamarády v bowlu.\nTěšíme se na vás!
URL:https://karlinem.cz/event/surfskate-jam-vol-iii/
LOCATION:Pražskej serfovej klub\, Ostrov Štvanice 944\, Praha\, Česká republika
CATEGORIES:Sport
ATTACH;FMTTYPE=image/jpeg:https://karlinem.cz/wp-content/uploads/2023/10/391593080_947682986757786_2526580010476141372_n.jpeg
END:VEVENT
BEGIN:VEVENT
DTSTART;TZID=Europe/Prague:20231108T200000
DTEND;TZID=Europe/Prague:20231108T220000
DTSTAMP:20260425T032540
CREATED:20231030T041520Z
LAST-MODIFIED:20231030T041520Z
UID:10000219-1699473600-1699480800@karlinem.cz
SUMMARY:Pinang | Pražský serfový kino na Štvanici vol. II
DESCRIPTION:Surfskate jam + kino! Další díl našeho kina je spojený se surfskejtovým jamem vedle v bowlu (FB event: https://www.facebook.com/events/300224026112149 )\, takže budeme promítat trochu později. Přijď se ale nejdřív podívat do bowlu a pak se se všema přesunout do klubovny na film.\nA co to bude za film? Krátkometrážní dokument Adama Svobody z jeho cesty na\, české surfové komunitě dnes již dobře známý\, ostrov Pinang. To vše navíc s legendárním voiceoverem od Janka Moleše.\n“Náš edit vypráví právě naši cestu do oblasti Banyak Island (Sumatra) co je pro nás ekvivalent serfovyho ráje. Serfovali jsme deset dnů úplně sami na world class waves a povedlo se nám natočit takovej mini-dokumentik a rádi bysme ho pustili všem našim kámošům. Je to příběh plný zvratu\, a hlavně pořádného serfování. Před kamerou se točí David Petr\, Kid\, Já (Adam Svoboda) a Jakub Michna. Kdo přijde nebude litovat\, protože je možný\, že uvidí serfovat nahatého Davida\, a to chceš! Děkujeme hlavně moc klukům z Pinang Islandu\, který nás u sebe tenhle tejden a něco nechali a my jsme si tenhle moment mohli poradně užit a zaznamenat.”\nTohle nám o filmu řekl Adam. My už ho viděli a máte se rozhodně na co těšit!\nVstupný tentokrát naprosto dobrovolný
URL:https://karlinem.cz/event/pinang-prazsky-serfovy-kino-na-stvanici-vol-ii/
LOCATION:Pražskej serfovej klub\, Ostrov Štvanice 944\, Praha\, Česká republika
CATEGORIES:Kino
ATTACH;FMTTYPE=image/jpeg:https://karlinem.cz/wp-content/uploads/2023/10/391600193_947686246757460_6513122734947843375_n.jpeg
END:VEVENT
END:VCALENDAR