BEGIN:VCALENDAR
VERSION:2.0
PRODID:-//Karlinem.cz - ECPv6.2.0.1//NONSGML v1.0//EN
CALSCALE:GREGORIAN
METHOD:PUBLISH
X-ORIGINAL-URL:https://karlinem.cz
X-WR-CALDESC:Akce na Karlinem.cz
REFRESH-INTERVAL;VALUE=DURATION:PT1H
X-Robots-Tag:noindex
X-PUBLISHED-TTL:PT1H
BEGIN:VTIMEZONE
TZID:Europe/Prague
BEGIN:DAYLIGHT
TZOFFSETFROM:+0100
TZOFFSETTO:+0200
TZNAME:CEST
DTSTART:20230326T010000
END:DAYLIGHT
BEGIN:STANDARD
TZOFFSETFROM:+0200
TZOFFSETTO:+0100
TZNAME:CET
DTSTART:20231029T010000
END:STANDARD
END:VTIMEZONE
BEGIN:VEVENT
DTSTART;TZID=Europe/Prague:20231109T180000
DTEND;TZID=Europe/Prague:20231109T200000
DTSTAMP:20260425T015856
CREATED:20231030T042457Z
LAST-MODIFIED:20231030T042457Z
UID:10000221-1699552800-1699560000@karlinem.cz
SUMMARY:Fantastická terapie + diskuze
DESCRIPTION:Fan­ta­stická ter­apie (ČR\, 2022\, 42 min.) je doku­men­tární fil­m před­stavující velmi slib­ný způ­sob léč­by něk­terých duševních nemocí\, který je založen na psy­choter­apii a na užití psy­che­delicky působící látky\, přes­něji řečeno jde o psy­che­de­liky asis­to­vanou psy­choter­apii. Za pár let bude tato for­ma ter­apie nejspíš pevně zakotve­na mezi zave­dený­mi léčeb­ný­mi pos­tupy a už nyní ji hradí něk­teré zdravot­ní pojišťovny.\nDoku­ment byl natočen ve spoluprá­ci s PSY­ON – Psy­che­delick­ou klinikou\, která je jed­iná svého druhu v Česku. K psy­che­de­liky asis­to­vané psy­choter­apii zde legál­ně použí­va­jí látku ket­a­min.\nVys­tupu­jící psy­choter­apeu­ti\, psy­chol­o­gové a lékař zmiňu­jí i ostat­ní psy­che­delické látky\, které se v České repub­lice ofi­ciál­ně využí­va­jí zatím jen v exper­i­men­tál­ních studiích. U rezis­tent­ní dep­rese\, kde vešk­erá běžná léč­ba sel­hává\, se tato for­ma ter­apie ukazu­je jako napros­to průlo­mová. Ve snímku zazní­va­jí také výpově­di klien­tů\, kteří ket­a­minem asis­to­vanou psy­choter­apií prošli. Mlu­ví o svých zážitcích při psy­che­delick­ém sezení i o tom\, co jim léč­ba přinesla.\nPo filmu bude následovat beseda s terapeutkou psychedelické kliniky Bar­borou Šoulákovou.\nTrailer: https://youtu.be/tVmWwHpbT7g\nVstupenky: https://goout.net/…/fantasticka-terapie+diskuze/hyhv/\nStránka filmu: https://www.facebook.com/Fantastickaterapie\nSpolupořadatel: https://kasarnakarlin.cz/…/09/fantasticka-terapie-diskuze
URL:https://karlinem.cz/event/fantasticka-terapie-diskuze/
LOCATION:Kasárna Karlín\, Prvního pluku 2\, Karlín\, 18600\, Česká republika
CATEGORIES:Kino
ATTACH;FMTTYPE=image/jpeg:https://karlinem.cz/wp-content/uploads/2023/10/392793897_292132633667168_7529692512040015169_n.jpeg
END:VEVENT
END:VCALENDAR