BEGIN:VCALENDAR
VERSION:2.0
PRODID:-//Karlinem.cz - ECPv6.2.0.1//NONSGML v1.0//EN
CALSCALE:GREGORIAN
METHOD:PUBLISH
X-ORIGINAL-URL:https://karlinem.cz
X-WR-CALDESC:Akce na Karlinem.cz
REFRESH-INTERVAL;VALUE=DURATION:PT1H
X-Robots-Tag:noindex
X-PUBLISHED-TTL:PT1H
BEGIN:VTIMEZONE
TZID:Europe/Prague
BEGIN:DAYLIGHT
TZOFFSETFROM:+0100
TZOFFSETTO:+0200
TZNAME:CEST
DTSTART:20230326T010000
END:DAYLIGHT
BEGIN:STANDARD
TZOFFSETFROM:+0200
TZOFFSETTO:+0100
TZNAME:CET
DTSTART:20231029T010000
END:STANDARD
END:VTIMEZONE
BEGIN:VEVENT
DTSTART;TZID=Europe/Prague:20231111T190000
DTEND;TZID=Europe/Prague:20231111T210000
DTSTAMP:20260425T021017
CREATED:20231030T043227Z
LAST-MODIFIED:20231030T043227Z
UID:10000224-1699729200-1699736400@karlinem.cz
SUMMARY:Kino v Kasárnách: Hranice
DESCRIPTION:Agniesz­ka Hol­land — Pol­sko / Česko / Fran­cie / Bel­gie — 2023 — 147 min — CZ titulky\n—vstupenky/tickets: https://bit.ly/KK_kino_hranice\nPsy­cholož­ka Julia (Maja Ostaszews­ka) se po přestěhování do Suwal­ského kra­je stává nedo­bro­vol­nou svěd­kyní a účast­nicí dra­mat­ick­ých událostí na pol­sko-běloruské hrani­ci. Rozhodne se vzdát se svého pohodl­ného živ­ota a přidá se ke skupině aktivistů\, kteří posky­tu­jí pomoc uprch­líkům. Součas­ně s tím jsou syrská rod­i­na prcha­jící před občan­sk­ou válk­ou a její doprovod\, učitel­ka z Afghánistánu\, podve­deni Bělorusy a násil­ně převezeni do uprch­lick­ého táb­o­ra nedaleko hran­ic s Polskem. Ve snaze uni­knout se vydá­va­jí na zoufalou a nebezpeč­nou ces­tu neznámým a nepřá­tel­ským územím. V Pol­sku se jejich osud protne s osu­dem Juli­iným a mladého pohraniční­ka Jana (Tomasz Włosok). Události\, které je potka­jí\, navždy změní živ­ot nejen jim\, ale i dalším migrantům a aktivistům zapo­jeným do jejich příběhu. (Bio­scop)
URL:https://karlinem.cz/event/kino-v-kasarnach-hranice/
LOCATION:Kasárna Karlín\, Prvního pluku 2\, Karlín\, 18600\, Česká republika
CATEGORIES:Kino
ATTACH;FMTTYPE=image/jpeg:https://karlinem.cz/wp-content/uploads/2023/10/394315163_704864991666609_1839945363693617447_n.jpeg
END:VEVENT
END:VCALENDAR