BEGIN:VCALENDAR
VERSION:2.0
PRODID:-//Karlinem.cz - ECPv6.2.0.1//NONSGML v1.0//EN
CALSCALE:GREGORIAN
METHOD:PUBLISH
X-ORIGINAL-URL:https://karlinem.cz
X-WR-CALDESC:Akce na Karlinem.cz
REFRESH-INTERVAL;VALUE=DURATION:PT1H
X-Robots-Tag:noindex
X-PUBLISHED-TTL:PT1H
BEGIN:VTIMEZONE
TZID:Europe/Prague
BEGIN:DAYLIGHT
TZOFFSETFROM:+0100
TZOFFSETTO:+0200
TZNAME:CEST
DTSTART:20230326T010000
END:DAYLIGHT
BEGIN:STANDARD
TZOFFSETFROM:+0200
TZOFFSETTO:+0100
TZNAME:CET
DTSTART:20231029T010000
END:STANDARD
END:VTIMEZONE
BEGIN:VEVENT
DTSTART;TZID=Europe/Prague:20231114T190000
DTEND;TZID=Europe/Prague:20231114T220000
DTSTAMP:20260425T015826
CREATED:20231109T182605Z
LAST-MODIFIED:20231109T182605Z
UID:10000240-1699988400-1699999200@karlinem.cz
SUMMARY:Kino v Kasárnách -  Disco Boy
DESCRIPTION:Gia­co­mo Abbruzzese — Fran­cie / Bel­gie / Pol­sko / Itálie — 2023 — 92 min — CZ titulky \nAlex­ej je mladý Bělorus utíka­jící před min­u­lostí\, kter­ou musí pohřbít. Uza­vírá jak­ousi faus­tovsk­ou smlou­vu a výmě­nou za přís­lib fran­couzského občanství vstupu­je do cizi­necké legie. Daleko v deltě řeky Niger žije Jomo\, rev­oluční aktivista zapo­jený do ozbro­jeného boje na obranu své komu­ni­ty. Alex­ej je voják\, Jomo par­tyzán­ský bojovník. Kvůli další nes­myslné válce se jejich osudy prot­nou. Co je to ​„jinakost“ a jak ji vnímáme v sou­vis­losti s tím\, kým jsme\, když procházíme živ­otem\, překraču­jeme hran­ice a zjišťu­jeme\, že obýváme neustále se měnící fyz­ický a duševní pros­tor? Gia­co­mo Abbruzzese tyto otázky zkoumá s pozoruhod­ným smyslem pro bezprostřed­ní myšlení a velk­ou vynaléza­vostí ve vizuál­ně pozoruhod­ném díle\, které je plné poezie a napětí. Lidé upada­jí do tran­su\, díky němuž se o sobě dozví­da­jí nové věci a skrze otevřenější komu­nikaci s druhý­mi přestá­va­jí myslet jen na sebe. Toto mag­ické snění doprovází sil­ná hud­ba od elek­tron­ick­ého hudeb­ní­ka Vital­i­ca\, díky které se z nočního klubu stává tran­scen­dent­ní pros­tor. Dis­co se stává konečným cílem pro všech­ny\, kteří hledí upřeně na posvát­ný hor­i­zont utopie. (Film Europe) \nPOZOR\, HRA­JEME V NOVÉM SÁLE VZADU NAHOŘE!
URL:https://karlinem.cz/event/kino-v-kasarnach-disco-boy/
LOCATION:Kasárna Karlín\, Prvního pluku 2\, Karlín\, 18600\, Česká republika
CATEGORIES:Kino
ATTACH;FMTTYPE=image/jpeg:https://karlinem.cz/wp-content/uploads/2023/11/1225500-800.jpeg
ORGANIZER;CN="Kas%C3%A1rna%20Karl%C3%ADn":MAILTO:info@​kasarnakarlin.​cz
END:VEVENT
END:VCALENDAR