BEGIN:VCALENDAR
VERSION:2.0
PRODID:-//Karlinem.cz - ECPv6.2.0.1//NONSGML v1.0//EN
CALSCALE:GREGORIAN
METHOD:PUBLISH
X-WR-CALNAME:Karlinem.cz
X-ORIGINAL-URL:https://karlinem.cz
X-WR-CALDESC:Akce na Karlinem.cz
REFRESH-INTERVAL;VALUE=DURATION:PT1H
X-Robots-Tag:noindex
X-PUBLISHED-TTL:PT1H
BEGIN:VTIMEZONE
TZID:Europe/Prague
BEGIN:DAYLIGHT
TZOFFSETFROM:+0100
TZOFFSETTO:+0200
TZNAME:CEST
DTSTART:20230326T010000
END:DAYLIGHT
BEGIN:STANDARD
TZOFFSETFROM:+0200
TZOFFSETTO:+0100
TZNAME:CET
DTSTART:20231029T010000
END:STANDARD
END:VTIMEZONE
BEGIN:VEVENT
DTSTART;TZID=Europe/Prague:20231118T200000
DTEND;TZID=Europe/Prague:20231118T220000
DTSTAMP:20260425T032533
CREATED:20231109T184423Z
LAST-MODIFIED:20231109T184423Z
UID:10000244-1700337600-1700344800@karlinem.cz
SUMMARY:MC Gey + Prezident Lourajder
DESCRIPTION:MC GEY\, tatínek\, který usnul\, přijede v sobotu 18. listopadu do Kasáren Karlín zahrát Show Na Dobrou Noc (nejen) ke svému aktuálnímu albu.  Jako support zahraje Prezident Lourajder show k novému albu Interregnum: Opus Magnum 2.\n Předprodej ➜ https://goout.net/cs/listky/mc-gey/kvjv
URL:https://karlinem.cz/event/mc-gey-prezident-lourajder/
LOCATION:Kasárna Karlín\, Prvního pluku 2\, Karlín\, 18600\, Česká republika
CATEGORIES:Koncert
ATTACH;FMTTYPE=image/jpeg:https://karlinem.cz/wp-content/uploads/2023/11/399877834_886060086222952_3904041696478330754_n.jpeg
ORGANIZER;CN="Kas%C3%A1rna%20Karl%C3%ADn":MAILTO:info@kasarnakarlin.cz
END:VEVENT
END:VCALENDAR