BEGIN:VCALENDAR
VERSION:2.0
PRODID:-//Karlinem.cz - ECPv6.2.0.1//NONSGML v1.0//EN
CALSCALE:GREGORIAN
METHOD:PUBLISH
X-WR-CALNAME:Karlinem.cz
X-ORIGINAL-URL:https://karlinem.cz
X-WR-CALDESC:Akce na Karlinem.cz
REFRESH-INTERVAL;VALUE=DURATION:PT1H
X-Robots-Tag:noindex
X-PUBLISHED-TTL:PT1H
BEGIN:VTIMEZONE
TZID:Europe/Prague
BEGIN:DAYLIGHT
TZOFFSETFROM:+0100
TZOFFSETTO:+0200
TZNAME:CEST
DTSTART:20230326T010000
END:DAYLIGHT
BEGIN:STANDARD
TZOFFSETFROM:+0200
TZOFFSETTO:+0100
TZNAME:CET
DTSTART:20231029T010000
END:STANDARD
END:VTIMEZONE
BEGIN:VEVENT
DTSTART;TZID=Europe/Prague:20231123T190000
DTEND;TZID=Europe/Prague:20231123T233000
DTSTAMP:20260425T032533
CREATED:20231118T162839Z
LAST-MODIFIED:20231118T162839Z
UID:10000256-1700766000-1700782200@karlinem.cz
SUMMARY:Hard to Frame (křest alba) + support: Bloome
DESCRIPTION:Těšte se na jedineč­nou por­ci české elek­tron­iky. For­ma­ce Hard To Frame kom­bin­u­jící to nejlepší ze synťáků a aku­stick­ých nástro­jů pokřtí své druhé album Plas­tic Stars v Kasárnách Karlín. \nHARD TO FRAME\nKapelu Hard to Frame vys­ti­hu­je barevná kom­bi­nace elek­tron­ické a aku­stické hud­by s prvky jaz­zu\, podtržená křehkým hlasem zpě­vačky Karoliny. Kapela dokáže být na pódiu jem­ná\, až zas­něná a zároveň vás rozvi­bru­je hluboký­mi beaty\, které neza­přou inspiraci v dub­stepu\, d’n’b nebo min­i­mal­i­stick­ém tech­nu. Touha kom­bi­no­vat žán­ry a propo­jo­vat nástro­je aku­stické s elek­tron­ick­ý­mi se pak promítá do neza­měnitel­ného zvuku kape­ly s jas­ně čitel­ným pro­du­centským rukopisem Oczeho\, jenž skládá většinu hudby. \nPětičlen­ná for­ma­ce vydala na jaře roku 2019 své první LP Ghosts\, ze kterého se vizuál­ního ztvárnění v podobě klipu dočkaly pís­ně Mag­ic Land a Bub­bles. Sklad­by z alba můžete pravidel­ně zaslech­nout i na českých rádiích. Kapela má něko­lik záz­namů z live ses­sion jako Ledobor­ci kul­tu­ry\, Bal­cony TV\, Mladí ladí jazz\, Wom­bat Ses­sions\, Old Lamp Ses­sions a další. Zároveň si zahráli na fes­ti­valech jako Colours of Ostra­va\, Bese­da u Big­bí­tu\, Metronome Fes­ti­val aj. \nSpo­ti­fy\nFace­book\nWeb  \nLINE-UP\n19.00 – 19.30 První pivo\n19.30 – 20.30 sup­port surprise\n20.30 – 22.00 HARD TO FRAME (live band)\n22.15 – 00.00 afterparty \n\n\n\nEN \nHARD TO FRAME\nThe band Hard to Frame is char­ac­ter­ized by a colour­ful com­bi­na­tion of elec­tron­ic and acoustic music with ele­ments of jazz\, under­lined by the frag­ile voice of singer Karoli­na. The band man­ages to be sub­tle\, even dreamy on stage\, and at the same time makes you vibrate with deep beats that do not deny the inspi­ra­tion in dub­step\, d’n’b or min­i­mal­ist tech­no. The desire to com­bine gen­res and fuse acoustic and elec­tron­ic instru­ments then trans­lates into the band’s unmis­tak­able sound\, with Ocze’s pro­duc­er hand­writ­ing\, who com­pos­es most of the music\, clear­ly audible. \nThe five-piece band released their debut LP Ghosts in the spring of 2019\, from which the songs Mag­ic Land and Bub­bles received visu­al rep­re­sen­ta­tion in the form of a music video. Their songs can also be heard reg­u­lar­ly on czech radio sta­tions. The band has sev­er­al live ses­sion record­ings such as Ledobor­ci kul­tu­ry\, Bal­cony TV\, Mladí ladí jazz\, Wom­bat Ses­sions\, Old Lamp Ses­sions and more. They also played at fes­ti­vals such as Colours of Ostra­va\, Bese­da u Big­bí­tu\, Metronome Fes­ti­val\, etc.
URL:https://karlinem.cz/event/hard-to-frame-krest-alba-support-bloome/
LOCATION:Kasárna Karlín\, Prvního pluku 2\, Karlín\, 18600\, Česká republika
CATEGORIES:Koncert
ATTACH;FMTTYPE=image/jpeg:https://karlinem.cz/wp-content/uploads/2023/11/392923533_10225333662309238_7305687852274145866_n.jpeg
ORGANIZER;CN="Kas%C3%A1rna%20Karl%C3%ADn":MAILTO:info@​kasarnakarlin.​cz
END:VEVENT
END:VCALENDAR