BEGIN:VCALENDAR
VERSION:2.0
PRODID:-//Karlinem.cz - ECPv6.2.0.1//NONSGML v1.0//EN
CALSCALE:GREGORIAN
METHOD:PUBLISH
X-ORIGINAL-URL:https://karlinem.cz
X-WR-CALDESC:Akce na Karlinem.cz
REFRESH-INTERVAL;VALUE=DURATION:PT1H
X-Robots-Tag:noindex
X-PUBLISHED-TTL:PT1H
BEGIN:VTIMEZONE
TZID:Europe/Prague
BEGIN:DAYLIGHT
TZOFFSETFROM:+0100
TZOFFSETTO:+0200
TZNAME:CEST
DTSTART:20230326T010000
END:DAYLIGHT
BEGIN:STANDARD
TZOFFSETFROM:+0200
TZOFFSETTO:+0100
TZNAME:CET
DTSTART:20231029T010000
END:STANDARD
END:VTIMEZONE
BEGIN:VEVENT
DTSTART;TZID=Europe/Prague:20231126T120000
DTEND;TZID=Europe/Prague:20231126T180000
DTSTAMP:20260425T015825
CREATED:20231118T164510Z
LAST-MODIFIED:20231118T164716Z
UID:10000261-1701000000-1701021600@karlinem.cz
SUMMARY:Zimní benefiční smekáč pro všechny
DESCRIPTION:Při­jď si na zimu pořídit nové kousky do šat­níku na desátý bene­fiční smekáč pro Food Not Bombs & Jako Doma. \nPři­jď se připrav­it na zimu a pořídit si nový kabát či stylovou bun­du. Nebo sháníš out­fit na vánoční večírek? Nebo sháníš teplé pyžamo na zim­ní válení se v posteli? \nA spous­tu dalších unikát­ních kousků za férové ceny dle tvého uvážení. Výtěžek jde na kolek­tiv Food Not Bombs a orga­ni­zaci Jako doma\, kteří pomáha­jí lidem bez domo­va. Tak si při­jď užít fajn atmos­féru posled­ní listopadové neděle do Kasáren Kar­lín. Kromě nových kousků do šat­níku\, bude na místě stánek Kuchařek Bez Domo­va\, s nejlepším veg­an občer­stvením a budou nám u toho hrát DJky. \nA jestli hledáš oprav­du jedinečné kousky\, které nena­jdeš v šat­níku niko­ho dalšího\, tak se můžeš těšit na prodej jedinečných kousků šat­níku\, které pro nás vytváří umělkyně a uměl­ci\, víc info brzy. \nChceš-li se zapo­jit\, na mís­to můžete přinést šperky svého šat­níku\, které už pro tebe ztrati­ly lesk\, a přenechat je k prodeji.\nTaké uvítáme ponožky\, spod­ní prád­lo\, teplé oblečení a stany pro lidi bez domova.
URL:https://karlinem.cz/event/zimni-beneficni-smekac-pro-vsechny/
LOCATION:Kasárna Karlín\, Prvního pluku 2\, Karlín\, 18600\, Česká republika
CATEGORIES:Meet Up
ATTACH;FMTTYPE=image/jpeg:https://karlinem.cz/wp-content/uploads/2023/11/400569076_649543234011041_5935739846534120767_n.jpeg
END:VEVENT
BEGIN:VEVENT
DTSTART;TZID=Europe/Prague:20231126T173000
DTEND;TZID=Europe/Prague:20231126T230000
DTSTAMP:20260425T015825
CREATED:20231118T164312Z
LAST-MODIFIED:20231118T164312Z
UID:10000260-1701019800-1701039600@karlinem.cz
SUMMARY:Bohemia Film Awards 2023
DESCRIPTION:A cel­e­bra­tion of inde­pen­dent cin­e­ma from around the world at the Bohemia Film Awards will take place at Kasárny Kar­lín. Movies that can’t be found at main­stream cin­e­mas will be discovered. \nSched­ule: \n17.30 Wel­come Drink & Toast The evening will begin with grace with a com­pli­men­ta­ry wel­come toast and an oppor­tu­ni­ty to meet fel­low film enthu­si­asts and filmmakers. \n18.00 Inter­na­tion­al Film Screen­ings Nine care­ful­ly select­ed inter­na­tion­al films will be pre­sent­ed\, none of which last longer than 20 min­utes. These films encom­pass var­i­ous gen­res\, promis­ing a diverse and fas­ci­nat­ing screen­ing expe­ri­ence. After the screen­ings\, win­ners from each cat­e­go­ry will be revealed. \nBest Film\nBest Director\nBest Cinematography\nBest Screenplay\nBest Animation\nBest Experiment\nBest Documentary\nBest Editing\nBest Act­ing Performance \n20.30 Cel­e­bra­tion Cel­e­brate the spir­it of inde­pen­dent cin­e­ma and con­nect with film­mak­ers\, actors\, and film enthu­si­asts who share the pas­sion for film. This will be the oppor­tu­ni­ty to share thoughts and opin­ions dur­ing post-screen­ing dis­cus­sions\, and forge new con­nec­tions and friend­ships. Prac­ti­cal infor­ma­tion: Films will be screened with Eng­lish sub­ti­tles only. Tick­ets are lim­it­ed\, so it is rec­om­mend to reserve a spot in advance.
URL:https://karlinem.cz/event/bohemia-film-awards-2023/
LOCATION:Kasárna Karlín\, Prvního pluku 2\, Karlín\, 18600\, Česká republika
CATEGORIES:Kino
ATTACH;FMTTYPE=image/jpeg:https://karlinem.cz/wp-content/uploads/2023/11/392816681_122139869456010190_693569472355276538_n.jpeg
ORGANIZER;CN="Bohemia%20Film%20Awards":MAILTO:info@bohemiafilmawards.com
END:VEVENT
END:VCALENDAR