BEGIN:VCALENDAR
VERSION:2.0
PRODID:-//Karlinem.cz - ECPv6.2.0.1//NONSGML v1.0//EN
CALSCALE:GREGORIAN
METHOD:PUBLISH
X-WR-CALNAME:Karlinem.cz
X-ORIGINAL-URL:https://karlinem.cz
X-WR-CALDESC:Akce na Karlinem.cz
REFRESH-INTERVAL;VALUE=DURATION:PT1H
X-Robots-Tag:noindex
X-PUBLISHED-TTL:PT1H
BEGIN:VTIMEZONE
TZID:Europe/Prague
BEGIN:DAYLIGHT
TZOFFSETFROM:+0100
TZOFFSETTO:+0200
TZNAME:CEST
DTSTART:20230326T010000
END:DAYLIGHT
BEGIN:STANDARD
TZOFFSETFROM:+0200
TZOFFSETTO:+0100
TZNAME:CET
DTSTART:20231029T010000
END:STANDARD
END:VTIMEZONE
BEGIN:VEVENT
DTSTART;TZID=Europe/Prague:20231130T190000
DTEND;TZID=Europe/Prague:20231130T210000
DTSTAMP:20260425T003152
CREATED:20231109T185550Z
LAST-MODIFIED:20231109T185550Z
UID:10000248-1701370800-1701378000@karlinem.cz
SUMMARY:Red Bull SoundClash 2023
DESCRIPTION:Dvě pódia a dva interpreti naproti sobě\, šest kol unikátního souboje a uprostřed vy\, diváci\, rozhodující o vítězi. Dobře známé tracky\, jak jste je doposud neslyšeli. Připravte se na Red Bull Soundclash s Redzedem a Restem\, který na scénu přinese něco\, co jen tak neuvidíte. Na čtvrtek 30. listopadu chystají show\, která přinese ultimátní hudební zážitek a pořádně otestuje jejich skills za mikrofonem. Večerem vás provede Zuzana Tvarůžková a Orion. \n  \nInterpreti se utkají v šesti kolech\, v každém z nich na ně čeká jiné zadání. Jejich snahou bude získat si publikum na svou stranu. Právě vy totiž rozhodnete o vítězi. Ten\, kdo předvede větší show\, odejde domů jako vítěz!
URL:https://karlinem.cz/event/red-bull-soundclash-2023/
LOCATION:Forum Karlín\, Pernerova 51\, Praha 8\, 18600
CATEGORIES:Koncert
ATTACH;FMTTYPE=image/jpeg:https://karlinem.cz/wp-content/uploads/2023/11/Soundclash_KV_FIN_1080×1920-800x1422-1.jpeg
ORGANIZER;CN="Forum%20Karl%C3%ADn":MAILTO:info@forumkarlin.cz
END:VEVENT
BEGIN:VEVENT
DTSTART;TZID=Europe/Prague:20231130T190000
DTEND;TZID=Europe/Prague:20231130T220000
DTSTAMP:20260425T003152
CREATED:20231124T215727Z
LAST-MODIFIED:20231124T215727Z
UID:10000267-1701370800-1701381600@karlinem.cz
SUMMARY:Good Times Only (křest alba) + Mat213
DESCRIPTION:Pražský boy­band Good Times Only vydává novou desku Teď na to mys­lim\, kter­ou 30. listopadu pokřtí v Kasárnách Karlín. \nVečerem vás GTO prove­dou společně se speciál­ním hostem a neb­u­dou chy­bět promí­tané vizuá­ly od @rmngee a DJská afterparty. \nGOOD TIMES ONLY:\nČeský zpí­va­jící boy­band Good Times Only v roce 2020 zau­jal albovým debutem ​“Pěkný chvíle”\, na kterém se front­man Fil­ip Černý vyp­iso­val z roz­pada­jícího se vztahu. Min­i­mal­i­stický syn­th­pop neza­pomí­na­jící na kytary o dva roky později (dnes už pětičlen­ná) kapela pře­sunula na taneční par­ket prostřed­nictvím dvou elek­tron­icky laděných singlů. ​“Z0NA100” a ​“Tak jsme tu” bal­an­co­v­aly na hraně alter­na­tivy a main­strea­mu. Good Times Only\, kteří za šest let své exis­tence stih­li před­skako­vat jménům jako alt‑J\, Gus Dap­per­ton či Mar­cell\, vydá­va­jí 27. říj­na 2023 své druhé album naz­vané ​“Teď na to mys­lim”. O pro­duk­ci hravé nahrávky se opět postaral Laz­er Viking a GTO na ní prezen­tu­jí součas­ný pop s český­mi tex­ty tak\, jak si ho před­stavu­jí oni. Uhlazený syn­th­pop se napříč osmi sklad­ba­mi střídá s aku­stick­ý­mi kytara­mi i klavírem\, svou znovu­nalezenou ​“pís­ničkovější” polo­hou tak kapela pom­rkává po svých začátcích a deb­u­tovém EP neděl­ní Luka. Během psaní ​“Teď na to mys­lim” se mezi ref­er­enční­mi tracky byli schop­ni prostří­dat amer­ický rap­per Lil Yachty\, kapela The War On Drugs nebo sloven­ský hudeb­ník Vašo Pate­jdl. Ani čtyři ochut­návkové singly (včet­ně letošních ​“Pro tebe cool” a ​“Takhle se nedá žít”) tak nemohly napovědět\, jak bude zbytek nahrávky znít. Good Times Only se na ​“Teď na to mys­lim” ukazu­jí ve své dopo­sud nejvyzrále­jší a nejhravější formě. \nmat213:\nTrochu lo-fi pop a trochu out­sider rap\, Matěj Čech alias mat213 rozvíjí mod­erní pís­ničkářství pro ADHD gen­eraci začátku 21. sto­letí. Postin­ter­ne­tový bard s přezdívk­ou\, která odkazu­je k folk­lóru dig­itál­ní kul­tu­ry\, možná vychází z jednoduchého pís­ničkářství\, ovšem i to se pos­tup­ně mění a nabalu­je na sebe vlivy rapu\, dream popu\, hyper­popu\, stopového množství stře­dověké lout­ny i velk­ou nálož klubové i taneční hudby. \nAFTER­PAR­TY DJ:\nDJ bude ozná­men brzy! \nVstu­penky v před­prode­ji v síti GoOut.
URL:https://karlinem.cz/event/good-times-only-krest-alba-mat213/
LOCATION:Kasárna Karlín\, Prvního pluku 2\, Karlín\, 18600\, Česká republika
CATEGORIES:Koncert
ATTACH;FMTTYPE=image/jpeg:https://karlinem.cz/wp-content/uploads/2023/11/398125349_711476414338800_3571604749671302518_n.jpeg
END:VEVENT
END:VCALENDAR