BEGIN:VCALENDAR
VERSION:2.0
PRODID:-//Karlinem.cz - ECPv6.2.0.1//NONSGML v1.0//EN
CALSCALE:GREGORIAN
METHOD:PUBLISH
X-WR-CALNAME:Karlinem.cz
X-ORIGINAL-URL:https://karlinem.cz
X-WR-CALDESC:Akce na Karlinem.cz
REFRESH-INTERVAL;VALUE=DURATION:PT1H
X-Robots-Tag:noindex
X-PUBLISHED-TTL:PT1H
BEGIN:VTIMEZONE
TZID:Europe/Prague
BEGIN:DAYLIGHT
TZOFFSETFROM:+0100
TZOFFSETTO:+0200
TZNAME:CEST
DTSTART:20230326T010000
END:DAYLIGHT
BEGIN:STANDARD
TZOFFSETFROM:+0200
TZOFFSETTO:+0100
TZNAME:CET
DTSTART:20231029T010000
END:STANDARD
END:VTIMEZONE
BEGIN:VEVENT
DTSTART;TZID=Europe/Prague:20231202T190000
DTEND;TZID=Europe/Prague:20231202T210000
DTSTAMP:20260425T003149
CREATED:20231124T220412Z
LAST-MODIFIED:20231124T220412Z
UID:10000269-1701543600-1701550800@karlinem.cz
SUMMARY:Kino v Kasárnách: Svatba Jiřího Káry – remastered
DESCRIPTION:Kul­tovní doku­ment Svat­ba Jiřího Káry se dočkal vyčištěné verze a nyní mají divá­ci možnost si ten­to ​„klenot svě­tové kine­matografie“ vychut­nat v kině Kasáren Kar­lín. Krom pok­leslé zábavy\, se jed­ná i o dobročin­nou akci\, jelikož\, celý výtěžek pro­jekcí pop­utu­je na nocleženky. \nSvat­ba Jiřího Káry / Alex Skribuck­ij / Česko 2000 / 26 min – Ten­to amatérský film je záz­namem svateb­ního obřadu z roku 2000\, během kterého si řek­li své ​„ano“ Jiří Kára a Blan­ka Divišová. Aut­entický náh­led do svě­ta ​„dol­ních deseti tisíc“ si získal počet­né pub­likum přede­vším na serveru YouTube​.com\, a díky prezentaci naprosté nonkon­for­mi­ty zúčast­něných před\, během i po obřadu má dnes až kul­tovní sta­tus. Vzh­le­dem k osudům svate­bčanů lze ten­to záz­nam vní­mat také jako tragikomick­ou výpověď o živ­otě pražských alko­ho­liků a dro­gově závis­lých spoluobčanů.
URL:https://karlinem.cz/event/kino-v-kasarnach-svatba-jiriho-kary-remastered/
LOCATION:Kasárna Karlín\, Prvního pluku 2\, Karlín\, 18600\, Česká republika
CATEGORIES:Kino
ATTACH;FMTTYPE=image/jpeg:https://karlinem.cz/wp-content/uploads/2023/11/1213917-800.jpeg
END:VEVENT
END:VCALENDAR