BEGIN:VCALENDAR
VERSION:2.0
PRODID:-//Karlinem.cz - ECPv6.2.0.1//NONSGML v1.0//EN
CALSCALE:GREGORIAN
METHOD:PUBLISH
X-ORIGINAL-URL:https://karlinem.cz
X-WR-CALDESC:Akce na Karlinem.cz
REFRESH-INTERVAL;VALUE=DURATION:PT1H
X-Robots-Tag:noindex
X-PUBLISHED-TTL:PT1H
BEGIN:VTIMEZONE
TZID:Europe/Prague
BEGIN:DAYLIGHT
TZOFFSETFROM:+0100
TZOFFSETTO:+0200
TZNAME:CEST
DTSTART:20230326T010000
END:DAYLIGHT
BEGIN:STANDARD
TZOFFSETFROM:+0200
TZOFFSETTO:+0100
TZNAME:CET
DTSTART:20231029T010000
END:STANDARD
END:VTIMEZONE
BEGIN:VEVENT
DTSTART;TZID=Europe/Prague:20231203T190000
DTEND;TZID=Europe/Prague:20231203T220000
DTSTAMP:20260425T003239
CREATED:20231124T220710Z
LAST-MODIFIED:20231124T220710Z
UID:10000270-1701630000-1701640800@karlinem.cz
SUMMARY:A. A. WILLIAMS\, KALANDRA\, LYS MORKE
DESCRIPTION:Londýn­ská skla­datel­ka a zpě­vač­ka A.A. WILLIAMS je kla­sicky vzdělaná mul­ti­in­stru­men­tal­ist­ka\, v jejíž pís­ních se snoubí folk\, met­al\, post-rok i klasi­ka. Její hud­ba je tem­ná i heavy\, což nut­ně nez­na­mená\, že je hla­sitá. Je to tem­ný gospel hluboké atmos­féry s plným\, same­tovým hlasem\, který doplňu­je kytara\, klavír i vio­lon­cel­lo\, někdy i bicí. \nNa scéně v dub­nu 2019 deb­u­to­vala eponymním EP a už o necelý rok od jeho vydání vypro­dala svou první hlavní show v prestižním londýn­ském South­bank Cen­tre. Pak naváza­la spoluprá­ci s japon­ský­mi post-rock­ery MONO a podep­sala smlou­vu s Bel­la Union\, kde v čer­ven­ci 2020 vydala ohro­mu­jící debut ​„For­ev­er Blue“. Na ten v době covidu naváza­la kreativně zaranžo­vaným albem cov­erů ​„Songs From Iso­la­tion“ a v říjnu 2022 vyšla posled­ní des­ka ​„As The Moon Rests“\, která má ke kla­sick­é­mu rock­ové­mu i met­alové­mu zvuku nejblíže\, ale v jejím podání jde o půl­noční rit­uál­ní tanec se smrtí. \nKALAN­DRA je čtveřice norských a švéd­ských hudeb­níků hra­jící éter­ick­ou hud­bu\, jež má koře­ny v sev­er­ském melan­cholick­ém folku\, do jehož melodií vplé­ta­jí odrazy fan­taz­i­jních kra­jin. Nebo­jí se k tomu ale použít i drsnější\, eklek­tický zvuk kytar.\nKALAN­DRA vznikli na začátku roku 2011 a než v r. 2020 vydali debut ​„The Line“\, 10 let se věno­vali vytváření vlast­ního jedinečného zvuku\, budování stu­dia a živé­mu hraní. Jejich hud­ba je okou­zlu­jící i pod­manivá a není tak divu\, že ve svém studiu v Oslu vytvořili i hud­bu pro ser­iál sev­er­ské HBO ​„Befor­eign­ers“ či sound­track k herní sérii ​„King­dom Two Crowns“ viz jejich druhé album a druhý sound­track k fil­mu ​„Norse Lands Sound­track (Extend­ed)“. \nTřetí v ses­tavě je LYS MORKE\, vlast­ním jménem Irene Tal­ló. Španěl­ská zpě­vač­ka\, skla­datel­ka\, pro­du­cen­t­ka a výt­var­nice\, která žije v Barceloně. Prostřed­nictvím ambi­en­tu\, elek­tron­ické hud­by a tem­ného popu stírá hran­ice mezi žán­ry a posluchače zve k prozk­oumání vnitřního emo­cionál­ního svě­ta s nos­tal­gick­ým pohle­dem do 90. let i při ovlivnění součas­nou elektronikou.\nI když v 8 letech poprvé vza­la do ruky kytaru a už ji nikdy nepusti­la z ruky\, jež ji byla hlavním nástro­jem pro objevování hud­by\, nyní její for­ma­tivní nástroj ustupu­je do pozadí. Exper­i­men­továním se svou hud­bou se dnes přes folk i exper­i­men­tál­ní met­al dosta­la k mixu ambi­en­tu\, hyper­popu a tech­na\, aniž by ztrati­la koře­ny své hudeb­ní iden­ti­ty\, kde je cítit alter­na­tive a pro­gres­sive rock.
URL:https://karlinem.cz/event/a-a-williams-kalandra-lys-morke/
LOCATION:Kasárna Karlín\, Prvního pluku 2\, Karlín\, 18600\, Česká republika
CATEGORIES:Koncert
ATTACH;FMTTYPE=image/jpeg:https://karlinem.cz/wp-content/uploads/2023/11/374917334_613845207570697_4235549036027423940_n.jpeg
ORGANIZER;CN="Kas%C3%A1rna%20Karl%C3%ADn":MAILTO:info@​kasarnakarlin.​cz
END:VEVENT
END:VCALENDAR