BEGIN:VCALENDAR
VERSION:2.0
PRODID:-//Karlinem.cz - ECPv6.2.0.1//NONSGML v1.0//EN
CALSCALE:GREGORIAN
METHOD:PUBLISH
X-WR-CALNAME:Karlinem.cz
X-ORIGINAL-URL:https://karlinem.cz
X-WR-CALDESC:Akce na Karlinem.cz
REFRESH-INTERVAL;VALUE=DURATION:PT1H
X-Robots-Tag:noindex
X-PUBLISHED-TTL:PT1H
BEGIN:VTIMEZONE
TZID:Europe/Prague
BEGIN:DAYLIGHT
TZOFFSETFROM:+0100
TZOFFSETTO:+0200
TZNAME:CEST
DTSTART:20230326T010000
END:DAYLIGHT
BEGIN:STANDARD
TZOFFSETFROM:+0200
TZOFFSETTO:+0100
TZNAME:CET
DTSTART:20231029T010000
END:STANDARD
END:VTIMEZONE
BEGIN:VEVENT
DTSTART;TZID=Europe/Prague:20231029T080000
DTEND;TZID=Europe/Prague:20231029T170000
DTSTAMP:20260425T135221
CREATED:20231018T055505Z
LAST-MODIFIED:20231018T055505Z
UID:10000205-1698566400-1698598800@karlinem.cz
SUMMARY:Kino v Kasárnách - Bod obnovy
DESCRIPTION:Robert Hloz — Česko/​Slovensko/​Polsko/​Srbsko — 2023 — 116 min — česky \nPřed­stavte si\, že žijete v roce 2041\, kdy máte prá­vo být po nehodě či jiné nepřirozené smr­ti oživeni. Stačí si jen pravidel­ně vytvářet dig­itál­ní zálo­hu své osob­nos­ti – BOD OBNOVY. Agen­t­ka Em právě dostává do ruk­ou pří­pad\, kdy byla zák­lad­ní pravid­la obnovy poruše­na. Bod obnovy oběti byl smazán a Em tak má před sebou výjimečný zločin. Strhu­jící příběh zasazený do blízké budouc­nos­ti\, kdy tech­nolo­gie budou zaručo­vat lep­ší živ­ot a lidé si budou moci zaplatit jeho prod­loužení. (Bio­scop)
URL:https://karlinem.cz/event/kino-v-kasarnach-bod-obnovy/
LOCATION:Kasárna Karlín\, Prvního pluku 2\, Karlín\, 18600\, Česká republika
CATEGORIES:Kino
ATTACH;FMTTYPE=image/jpeg:https://karlinem.cz/wp-content/uploads/2023/10/384336873_690921056394336_5963150548718436705_n.jpeg
END:VEVENT
BEGIN:VEVENT
DTSTART;TZID=Europe/Prague:20231028T180000
DTEND;TZID=Europe/Prague:20231028T220000
DTSTAMP:20260425T135221
CREATED:20231015T035200Z
LAST-MODIFIED:20231015T035200Z
UID:10000203-1698516000-1698530400@karlinem.cz
SUMMARY:CIRKUS HALLOWEEN vol 3
DESCRIPTION:Halloween v Cirkus Pub vždy stojí za to!\nKdo byl\, ví. Kdo nebyl\, ten se může přesvědčit v sobotu 28.10. od 18:00.\nAkční drinky\, výzdoba\, halloweenské občerstvení\, Djs\, soutěž o nejlepší kostým – všechno bude!\nTak vezměte kámoše a dorazte zapařit v maskách do Cirkusu! 
URL:https://karlinem.cz/event/cirkus-halloween-vol-3/
LOCATION:Cirkus Pub\, Křižíkova 58\, Praha - Karlín\, 186 00
CATEGORIES:Party
ATTACH;FMTTYPE=image/jpeg:https://karlinem.cz/wp-content/uploads/2023/10/387065585_827108359205908_6771486846367125973_n.jpeg
END:VEVENT
BEGIN:VEVENT
DTSTART;TZID=Europe/Prague:20231027T180000
DTEND;TZID=Europe/Prague:20231028T233000
DTSTAMP:20260425T135221
CREATED:20231024T042321Z
LAST-MODIFIED:20231024T042321Z
UID:10000207-1698429600-1698535800@karlinem.cz
SUMMARY:Halloween Party v Arthur’s Pub
DESCRIPTION:Zveme vás na Halloween Party v Arthur’s Pub už tento víkend. 🎃👻 \nJe veřejným tajemstvím\, že Halloween je naší nejoblíbenější událostí v Arthur’s. Oslavy začínají v pátek (a také v sobotu) v 18:00. Připravte se na skvělý večer plný hudby od DJ 72HRS\, uvítací drink při příchodu\, tematickou výzdobu\, věštkyni 🔮 a speciální podzimní koktejly\, jako jsou Pumpkin Gimlet a Pumpkin Fashion. 🍸 \nA teď pozor – pokud si objednáte náš podzimní koktejl ❗️pětkrát ❗️během jedné noci\, získáte vstupenku na Bloody Sexy Halloween 2023. \nNečekejte a nenechte si tento Halloween ujít. Vstup je ZDARMA\, ale kostým je POVINNÝ. 🧟‍♀️ \nPojďme společně rozpálit tento podzim!\nStartujeme 27.10. v 18:00h. 🔥👻\n📍 Křižíkova 27\, Karlín
URL:https://karlinem.cz/event/halloween-party-v-arthurs-pub/
LOCATION:Arthur’s Pub\, Křižíkova 27\, Praha 8 - Karlín\, 186 00
CATEGORIES:Jídlo a pití,Party
ATTACH;FMTTYPE=image/png:https://karlinem.cz/wp-content/uploads/2023/10/Screenshot-at-Oct-24-17-21-17.png
END:VEVENT
BEGIN:VEVENT
DTSTART;TZID=Europe/Prague:20231025T190000
DTEND;TZID=Europe/Prague:20231025T220000
DTSTAMP:20260425T135221
CREATED:20231018T055143Z
LAST-MODIFIED:20231018T055143Z
UID:10000204-1698260400-1698271200@karlinem.cz
SUMMARY:Anishort: Nejlepší krátké animované filmy 2021
DESCRIPTION:Fes­ti­val­ové pás­mo uvede ty nejlepší krátké ani­mované filmy z celého svě­ta a filmy oceněné na mez­inárod­ních fes­ti­valech. Mix různých ani­mačních tech­nik\, žán­rů a zábavy. Celkem 18 nejlepších ani­mací z 14 zemí. Na 7. ročník se dohro­mady přih­lási­lo přes 1600 filmů z více než 100 zemí. V průměru pětimin­u­tové snímky jsou tem­at­icky i žán­rově různorodé a před­staví divákům rozličné ani­mační tech­niky a zpracování. \nCelková dél­ka pás­ma: 115 min.\nVhod­né: od 15 let
URL:https://karlinem.cz/event/anishort-nejlepsi-kratke-animovane-filmy-2021/
LOCATION:Kasárna Karlín\, Prvního pluku 2\, Karlín\, 18600\, Česká republika
CATEGORIES:Kino
ATTACH;FMTTYPE=image/jpeg:https://karlinem.cz/wp-content/uploads/2023/10/380538398_1260464261500014_8378213577642775756_n.jpeg
END:VEVENT
BEGIN:VEVENT
DTSTART;TZID=Europe/Prague:20231020T160000
DTEND;TZID=Europe/Prague:20231020T220000
DTSTAMP:20260425T135221
CREATED:20231015T034748Z
LAST-MODIFIED:20231015T034748Z
UID:10000202-1697817600-1697839200@karlinem.cz
SUMMARY:Poslední ROOFTOP BURGER party v 2023
DESCRIPTION:Máme tu říjen a to bohužel znamená\, že se musíme pomalu\, ale jistě rozloučit s grilem a letní zahrádkou.\nPřijďte si v pátek 20.10. naposledy posedět na terase\, poslechnout si deep house setík od našeho DJ MAARA a hlavně si vychutnat poslední cirkus burgery tohoto roku. \nZnovu gril rozpálíme zase až na jaře\, tak si nenechte ujít poslední šanci! \nTěšit se můžete i na nějaký ten akční drink nebo panáčka. Začínáme v 16:00
URL:https://karlinem.cz/event/posledni-rooftop-burger-party-v-2023/
LOCATION:Cirkus Pub\, Křižíkova 58\, Praha - Karlín\, 186 00
CATEGORIES:Jídlo a pití
ATTACH;FMTTYPE=image/jpeg:https://karlinem.cz/wp-content/uploads/2023/10/Screenshot-at-Oct-14-05-56-26.jpeg
END:VEVENT
BEGIN:VEVENT
DTSTART;TZID=Europe/Prague:20230923T100000
DTEND;TZID=Europe/Prague:20230923T180000
DTSTAMP:20260425T135221
CREATED:20230912T085329Z
LAST-MODIFIED:20230912T085329Z
UID:10000163-1695463200-1695492000@karlinem.cz
SUMMARY:Swap v klubu Kontejner
DESCRIPTION:Rané podzimní swapování. \nNáš swap je speciální – je teens4teens! Přijď si užít pěknou sobotu a obměnit svůj šatník. Něco pěkného dones a zase odnes. Možná potkáš knihu nebo i zajímavý šperk.
URL:https://karlinem.cz/event/swap-v-klubu-kontejner/
LOCATION:klub Kontejner\, Sokolovská 264/121\, Praha 8\, 18000
ATTACH;FMTTYPE=image/jpeg:https://karlinem.cz/wp-content/uploads/2023/09/9ab5f702-b8ba-4208-8cf2-e752e38e5e4f.jpeg
END:VEVENT
END:VCALENDAR