BEGIN:VCALENDAR
VERSION:2.0
PRODID:-//Karlinem.cz - ECPv6.2.0.1//NONSGML v1.0//EN
CALSCALE:GREGORIAN
METHOD:PUBLISH
X-WR-CALNAME:Karlinem.cz
X-ORIGINAL-URL:https://karlinem.cz
X-WR-CALDESC:Akce na Karlinem.cz
REFRESH-INTERVAL;VALUE=DURATION:PT1H
X-Robots-Tag:noindex
X-PUBLISHED-TTL:PT1H
BEGIN:VTIMEZONE
TZID:Europe/Prague
BEGIN:DAYLIGHT
TZOFFSETFROM:+0100
TZOFFSETTO:+0200
TZNAME:CEST
DTSTART:20230326T010000
END:DAYLIGHT
BEGIN:STANDARD
TZOFFSETFROM:+0200
TZOFFSETTO:+0100
TZNAME:CET
DTSTART:20231029T010000
END:STANDARD
END:VTIMEZONE
BEGIN:VEVENT
DTSTART;TZID=Europe/Prague:20230923T100000
DTEND;TZID=Europe/Prague:20230923T180000
DTSTAMP:20260425T165612
CREATED:20230912T085329Z
LAST-MODIFIED:20230912T085329Z
UID:10000163-1695463200-1695492000@karlinem.cz
SUMMARY:Swap v klubu Kontejner
DESCRIPTION:Rané podzimní swapování. \nNáš swap je speciální – je teens4teens! Přijď si užít pěknou sobotu a obměnit svůj šatník. Něco pěkného dones a zase odnes. Možná potkáš knihu nebo i zajímavý šperk.
URL:https://karlinem.cz/event/swap-v-klubu-kontejner/
LOCATION:klub Kontejner\, Sokolovská 264/121\, Praha 8\, 18000
ATTACH;FMTTYPE=image/jpeg:https://karlinem.cz/wp-content/uploads/2023/09/9ab5f702-b8ba-4208-8cf2-e752e38e5e4f.jpeg
END:VEVENT
END:VCALENDAR