BEGIN:VCALENDAR
VERSION:2.0
PRODID:-//Karlinem.cz - ECPv6.2.0.1//NONSGML v1.0//EN
CALSCALE:GREGORIAN
METHOD:PUBLISH
X-ORIGINAL-URL:https://karlinem.cz
X-WR-CALDESC:Akce na Karlinem.cz
REFRESH-INTERVAL;VALUE=DURATION:PT1H
X-Robots-Tag:noindex
X-PUBLISHED-TTL:PT1H
BEGIN:VTIMEZONE
TZID:Europe/Prague
BEGIN:DAYLIGHT
TZOFFSETFROM:+0100
TZOFFSETTO:+0200
TZNAME:CEST
DTSTART:20230326T010000
END:DAYLIGHT
BEGIN:STANDARD
TZOFFSETFROM:+0200
TZOFFSETTO:+0100
TZNAME:CET
DTSTART:20231029T010000
END:STANDARD
END:VTIMEZONE
BEGIN:VEVENT
DTSTART;TZID=Europe/Prague:20231206T200000
DTEND;TZID=Europe/Prague:20231206T220000
DTSTAMP:20260425T174706
CREATED:20231201T160743Z
LAST-MODIFIED:20231201T160743Z
UID:10000276-1701892800-1701900000@karlinem.cz
SUMMARY:Boy Wonder
DESCRIPTION:U příleži­tosti desátého výročí vydání Špinavý poet\, prvního sólového pro­jek­tu Boy Won­dera\, vychází na LP (Ty nikdy). Je to naposledy\, kdy fanouš­ci klasiku uslyší naži­vo. Bratisla­va\, Brno a Pra­ha\, fans mohou tréno­vat ​“š”\, pro­tože Špinavý poet Boy Won­der při­jede v pros­in­ci s deska­mi v batohu.
URL:https://karlinem.cz/event/boy-wonder/
LOCATION:Kasárna Karlín\, Prvního pluku 2\, Karlín\, 18600\, Česká republika
CATEGORIES:Koncert
ATTACH;FMTTYPE=image/jpeg:https://karlinem.cz/wp-content/uploads/2023/12/402624528_890972929065001_2028933697292009115_n.jpeg
END:VEVENT
BEGIN:VEVENT
DTSTART;TZID=Europe/Prague:20231207T190000
DTEND;TZID=Europe/Prague:20231207T210000
DTSTAMP:20260425T174706
CREATED:20231201T160920Z
LAST-MODIFIED:20231201T160920Z
UID:10000277-1701975600-1701982800@karlinem.cz
SUMMARY:Kino v Kasárnách: Tajemství a smysl života
DESCRIPTION:Petr Vach­ler — Česko — 2023 — 154 min — Česky \nCo je smyslem živ­ota? Co je lás­ka\, humor\, stra­ch a smrt? Je všech­no jen sen? Kdo jsme a kam směřu­jeme? Probudíme se\, vzpomen­eme si? Na tyto a další otázky se snaží nalézt odpověď celovečerní film Petra Vach­lera s názvem Tajem­ství a smysl živ­ota. (Fal­con)
URL:https://karlinem.cz/event/kino-v-kasarnach-tajemstvi-a-smysl-zivota/
LOCATION:Kasárna Karlín\, Prvního pluku 2\, Karlín\, 18600\, Česká republika
CATEGORIES:Kino
ATTACH;FMTTYPE=image/jpeg:https://karlinem.cz/wp-content/uploads/2023/12/402660196_721491033337338_5668161519813134796_n.jpeg
END:VEVENT
END:VCALENDAR