BEGIN:VCALENDAR
VERSION:2.0
PRODID:-//Karlinem.cz - ECPv6.2.0.1//NONSGML v1.0//EN
CALSCALE:GREGORIAN
METHOD:PUBLISH
X-ORIGINAL-URL:https://karlinem.cz
X-WR-CALDESC:Akce na Karlinem.cz
REFRESH-INTERVAL;VALUE=DURATION:PT1H
X-Robots-Tag:noindex
X-PUBLISHED-TTL:PT1H
BEGIN:VTIMEZONE
TZID:Europe/Prague
BEGIN:DAYLIGHT
TZOFFSETFROM:+0100
TZOFFSETTO:+0200
TZNAME:CEST
DTSTART:20230326T010000
END:DAYLIGHT
BEGIN:STANDARD
TZOFFSETFROM:+0200
TZOFFSETTO:+0100
TZNAME:CET
DTSTART:20231029T010000
END:STANDARD
BEGIN:DAYLIGHT
TZOFFSETFROM:+0100
TZOFFSETTO:+0200
TZNAME:CEST
DTSTART:20240331T010000
END:DAYLIGHT
BEGIN:STANDARD
TZOFFSETFROM:+0200
TZOFFSETTO:+0100
TZNAME:CET
DTSTART:20241027T010000
END:STANDARD
END:VTIMEZONE
BEGIN:VEVENT
DTSTART;TZID=Europe/Prague:20231231T170000
DTEND;TZID=Europe/Prague:20240101T020000
DTSTAMP:20260426T063926
CREATED:20231224T075132Z
LAST-MODIFIED:20231224T075132Z
UID:10000305-1704042000-1704074400@karlinem.cz
SUMMARY:Silvestrovská party v Revír Karlín
DESCRIPTION:Buď ready na Silvestrovskou párty v Revír baru! 🎉\n∞🥂🍹\, all night DJ´s line up\, vstup zdarma a top výhled na ohňostroj z nedaleké lávky HolKa 🎇\nPřed párty si ještě můžeš zabruslit na kluzišti @riverrinkkarlin ⛸️ Enjoy the best night of 2023! 💫\n—\nBe ready for the NYE party at Revír bar! 🎉\n∞🥂🍹\, all night DJ´s line up\, free entry and top view of fireworks from the nearby HolKa footbridge 🎇\nBefore the party\, you can skate at the nearby ice rink ⛸️ Enjoy the best night of 2023! 💫
URL:https://karlinem.cz/event/silvestrovska-party-v-revir-karlin/
LOCATION:Revír Karlín\, Karolinská 7\, Praha 8\, 186 00
CATEGORIES:Party
ATTACH;FMTTYPE=image/jpeg:https://karlinem.cz/wp-content/uploads/2023/12/412991472_122122994792055216_3950436808356519831_n.jpg
ORGANIZER;CN="Rev%C3%ADr%20Karl%C3%ADn":MAILTO:bar@revirkarlin.cz
END:VEVENT
END:VCALENDAR