BEGIN:VCALENDAR
VERSION:2.0
PRODID:-//Karlinem.cz - ECPv6.2.0.1//NONSGML v1.0//EN
CALSCALE:GREGORIAN
METHOD:PUBLISH
X-WR-CALNAME:Karlinem.cz
X-ORIGINAL-URL:https://karlinem.cz
X-WR-CALDESC:Akce na Karlinem.cz
REFRESH-INTERVAL;VALUE=DURATION:PT1H
X-Robots-Tag:noindex
X-PUBLISHED-TTL:PT1H
BEGIN:VTIMEZONE
TZID:Europe/Prague
BEGIN:DAYLIGHT
TZOFFSETFROM:+0100
TZOFFSETTO:+0200
TZNAME:CEST
DTSTART:20240331T010000
END:DAYLIGHT
BEGIN:STANDARD
TZOFFSETFROM:+0200
TZOFFSETTO:+0100
TZNAME:CET
DTSTART:20241027T010000
END:STANDARD
END:VTIMEZONE
BEGIN:VEVENT
DTSTART;TZID=Europe/Prague:20240205T190000
DTEND;TZID=Europe/Prague:20240205T220000
DTSTAMP:20260425T232203
CREATED:20240122T150415Z
LAST-MODIFIED:20240122T150458Z
UID:10000350-1707159600-1707170400@karlinem.cz
SUMMARY:Na Kvíz U Zábranských
DESCRIPTION:Na Kvízu v Karlíně. Super veliký prostor\, obří projekce\, Plzeň na čepu\, super moderátor\, velká kapacita. Pondělí po práci\, ideální start nového týdne.:)\n——\n\n\nPřijďte si to do hlavy nalít trochu jinak! Čeká vás 5 kol\, 51 otázek\, fajn ceny\, styloví moderátoři\, stovky témat.\n\n\n——\n\n\nOtestujte své znalosti z přírodních věd\, cit pro popkulturu\, povědomí o současných událostech\, znalosti České republiky\, Evropy a celého světa.\nPřijďte zjistit jak dobře jste dávali pozor na střední škole.\n\n\n——\n\n\nDoveďte si různorodý tým\, vaše šance na vítězství se tím významně zvýší. Věřte nám\, je to sranda!\nHrajeme každé liché i sudé pondělí od 19:00.\n\n\n——\n\n\nKapacita je limitovaná! Povinná rezervace: https://www.nakviz.cz/podnik/u-zabranskych/\n\n\n——\n\n\nNejlepší týmy večera hrají o tekuté ceny\, hraje se také o bonusovou cenu a body do ligové tabulky. Je to veliký!\n\n\n———\n\n\n\n\nVstupné: 100 Kč/os.\n\n  \nJarní liga 2024 probíhá od 5. 2. 2024 do 20. 6. 2024 a výsledky se sčítají za 13 nejlepších kol/her/večerů.
URL:https://karlinem.cz/event/na-kviz-k-zabranskym-2/
LOCATION:U Zábranských\, Křižíkova 89/330\, Praha 8 - Karlín\, 186 00
CATEGORIES:Meet Up
ATTACH;FMTTYPE=image/jpeg:https://karlinem.cz/wp-content/uploads/2024/01/305208809_2278696662290444_6702207063358215688_n-1.jpeg
ORGANIZER;CN="nakv%C3%ADz.cz":MAILTO:chci@nakviz.cz
END:VEVENT
BEGIN:VEVENT
DTSTART;VALUE=DATE:20240214
DTEND;VALUE=DATE:20240219
DTSTAMP:20260425T232203
CREATED:20240211T122750Z
LAST-MODIFIED:20240211T122817Z
UID:10000399-1707868800-1708300799@karlinem.cz
SUMMARY:Valentýn ve Spojce Karlín
DESCRIPTION:Milí hosté\,\n\nPřijměte naši srdečnou pozvánku na romantický gastronomický zážitek ve Spojce Karlín. Vytvoříme pro vás nezapomenutelný zážitek plný lásky a výjimečného jídla. Od 14. února do 18. února si můžete vychutnat naše speciální Valentýnské menu\, které bylo pečlivě připraveno našim šéfkuchařem Ondřejem Panošem\, jeho týmem a cukrářkou Anetou Kozákovou.V A L E N T Ý N S K É  M E N U \nPředkrm: \nSmažený závitek s konfitovanou kachnou červená kari omáčka\, marinovaná okurka\, arašídy 185\,- \nHlavní chod: \nHovězí líčka\, bramborový krém s rozmarýnem\, mrkev\, karamelizovaná cibule s hrubozrnnou hořčicí (gluten-free) 395 \,- \nDezert: \nValentýnské srdce\, šlehaná malinová ganáž s malinovým gelem a red velvet korpusem 195 \,- \nPřijďte si užít chvíle plné lahodných chutí a romantiky. Rezervujte si svůj stůl a dovolte nám\, abychom vás ponořili do atmosféry lásky a výjimečné kulinářské zkušenosti. Těšíme se na setkání ve spojce Karlín! \nS láskou\, \nTým Spojka Karlín
URL:https://karlinem.cz/event/valentyn-ve-spojce-karlin/
CATEGORIES:Jídlo a pití
ATTACH;FMTTYPE=image/jpeg:https://karlinem.cz/wp-content/uploads/2024/02/diana-polekhina-xjtfpnmn6vq-unsplash-900x600-1.jpeg
END:VEVENT
BEGIN:VEVENT
DTSTART;TZID=Europe/Prague:20240214T180000
DTEND;TZID=Europe/Prague:20240214T233000
DTSTAMP:20260425T232203
CREATED:20240211T115400Z
LAST-MODIFIED:20240211T115400Z
UID:10000398-1707933600-1707953400@karlinem.cz
SUMMARY:Antivalentýnská párty
DESCRIPTION:Unikněte klišé na naší antivalentýnské párty v Cloud 9!\nPřipojte se k nám a užijte si noc rebelské zábavy\, eklektických beatů a skvělých vibrací. \nBěhem večera pro vás máme připraveno několik opravdu vzrušujících překvapení. \n• uvítací drink – koktejl “Poison”\n• antivalentýnský fotokoutek\n• drobné občerstvení\n• DJ \nREZERVACE\ninfo@cloud9.cz
URL:https://karlinem.cz/event/antivalentynska-party/
LOCATION:Cloud 9\, Pobřežní 1\, Praha 8\, 18600
CATEGORIES:Party
ATTACH;FMTTYPE=image/png:https://karlinem.cz/wp-content/uploads/2024/02/Anti-Valentine-event-C9-1-768x432-1.png
ORGANIZER;CN="Cloud%209":MAILTO:info@cloud9.cz
END:VEVENT
BEGIN:VEVENT
DTSTART;TZID=Europe/Prague:20240214T190000
DTEND;TZID=Europe/Prague:20240214T210000
DTSTAMP:20260425T232203
CREATED:20240211T123326Z
LAST-MODIFIED:20240211T123326Z
UID:10000400-1707937200-1707944400@karlinem.cz
SUMMARY:BUBLINY + VÍNO + ČOKOLÁDA = VALENTÝN
DESCRIPTION:Ať jste zamilovaní čerstvě či dlouho\, ať svátek Svatého Valentýna slavíte či nikoli\, ať je Vám blízký či protivný\, nemůžete rozporovat\, že k tomuto dni v kalendáři zkrátka patří dobré víno\, bubliny\, ale také čokoláda. \nPokud se rozhodnete strávit večer s námi\, můžeme Vám slíbit\, že Vás nezahrneme sladkými srdíčky a nabídneme Vám skutečně jen zajímavé šumivky\, bílá\, růžová i červená vína\, a některá z nich si dovolíme doplnit vzorky zajímavých čokolád. \nVicom Wine Shop & Bar Karlín – Karlínské náměstí 5\, Praha 8 \n\nochutnávky začínají v 19:00 a končí cca ve 21:00\n690 Kč\n\nProgram degustace: \nCrémant de Bordeaux Blanc “O” 2020\, Oddysea\, Francie\, Bordeaux \nCrémant d´Alsace Rosé Brut\, Willy Gisselbrecht\, Francie\, Alsasko \nGrüner Veltliner Alte Reben 2019\, Edwin Schreibeis\, Rakousko\, Kamptal\nHořká čokoláda se zeleným pepřem a jahodami \nBardolino Chiaretto Rose 2019\, Tinazzi\, Itálie\, Veneto \nMerlot 2021\, Alfredo Roca\, Argentina\, Mendoza\nExtra hořká čokoláda 88% 1er Cru \nPrimitivo di Mandruria Mandonion 2020\, Cantolio\, Itálie\, Puglia\nMléčná čokoláda Cocoa de Maracaibo 55% \nLO Patinet 2018\, Bodegas Abanico\, Španělsko\, Montsant\nHořká čokoláda Dunkle Bitter 77% \nSpecial Reserve Ruby Porto\, Barros\, Portugalsko\, Douro\nHořká čokoláda s mangem a chili 77%
URL:https://karlinem.cz/event/bubliny-vino-cokolada-valentyn/
LOCATION:Kasárna Karlín\, Prvního pluku 2\, Karlín\, 18600\, Česká republika
CATEGORIES:Jídlo a pití
ATTACH;FMTTYPE=image/jpeg:https://karlinem.cz/wp-content/uploads/2024/02/image_65a91714e0eb3-e1707654767944.jpeg
END:VEVENT
END:VCALENDAR