BEGIN:VCALENDAR
VERSION:2.0
PRODID:-//Karlinem.cz - ECPv6.2.0.1//NONSGML v1.0//EN
CALSCALE:GREGORIAN
METHOD:PUBLISH
X-ORIGINAL-URL:https://karlinem.cz
X-WR-CALDESC:Akce na Karlinem.cz
REFRESH-INTERVAL;VALUE=DURATION:PT1H
X-Robots-Tag:noindex
X-PUBLISHED-TTL:PT1H
BEGIN:VTIMEZONE
TZID:Europe/Prague
BEGIN:DAYLIGHT
TZOFFSETFROM:+0100
TZOFFSETTO:+0200
TZNAME:CEST
DTSTART:20240331T010000
END:DAYLIGHT
BEGIN:STANDARD
TZOFFSETFROM:+0200
TZOFFSETTO:+0100
TZNAME:CET
DTSTART:20241027T010000
END:STANDARD
END:VTIMEZONE
BEGIN:VEVENT
DTSTART;TZID=Europe/Prague:20240502T190000
DTEND;TZID=Europe/Prague:20240502T210000
DTSTAMP:20260425T174514
CREATED:20240425T100324Z
LAST-MODIFIED:20240425T100324Z
UID:10000459-1714676400-1714683600@karlinem.cz
SUMMARY:Zahájení sezony v Přístavu 18600 s Rising Spirits
DESCRIPTION:Chvíle\, na kterou jste se všichni těšili\, přichází! Oblíbená karlínská městská divočina\, živý park a místo pro setkávání i útěk před ruchem velkoměsta letos vstupuje do své jubilejní 10. sezony. Buď te u toho s námi!\nTěšit se můžete na funkovo-rapové-soul-reggae-afrobeaty pražského seskupení Rising Spirits.\n>>> RISING SPIRITS\nDali se dohromady na podzim roku 2014 v sestavě Asheema a Bob\, Luke a Lukáš. U baskytary byl tehdy Mort\, dnes už to je pár let Kubassa. V různých časových obdobích a etapách část z nich proplouvala i dalšími hudebními seskupeními. Tak ses s nimi mohl potkat třeba v Lion Taxi Service\, Urban Bushman nebo Tribe Town.\nSpojuje je láska k reggae s přesahem ke kořenům soulu\, funku\, rapu nebo afrobeatu\, odkud čerpají inspiraci. Největší navigátor jejich tvorby ale stále zůstává Bob Marley. Takže pokud jej v jejich hudbě slyšíte\, nezdá se vám to. Dlouhá léta se věnují studiu jeho písní\, zvuku a postupně odkrývají genialitu skrývající se za Marleyho hudbou\, kterou se snaží přenést do své tvorby. První koncert Rising Spirits se odehrál symbolicky 5. února 2015 u příležitosti nedožitých sedmdesátin Boba Marleyho. Něžnost zpěvačky\, brutální tvrdost bubeníka\, precizní pracovitost basáka… kontrasty\, které vás nenechají chladnými. \nUžijte si soulové rytmy na stage pod stromem.  \nVstupné dobrovolné v předprodeji na GoOut.cz
URL:https://karlinem.cz/event/zahajeni-sezony-v-pristavu-18600-s-rising-spirits/
LOCATION:Přístav 18600\, Rohanský ostrov 8\, Karlín\, 18600\, Česká republika
CATEGORIES:Koncert
ATTACH;FMTTYPE=image/png:https://karlinem.cz/wp-content/uploads/2024/04/Uvodka-FB-stranka-1.png
END:VEVENT
BEGIN:VEVENT
DTSTART;TZID=Europe/Prague:20240523T180000
DTEND;TZID=Europe/Prague:20240523T210000
DTSTAMP:20260425T174514
CREATED:20240603T075833Z
LAST-MODIFIED:20240603T075833Z
UID:10000530-1716487200-1716498000@karlinem.cz
SUMMARY:Přeskopec & Foltýn wine - koncert s degustací vín
DESCRIPTION:Čtvrtek 23. května bude v Přístavu 18600 ve znamení hudby a vína. 🎵🍷\nSkalní fanoušci už možná tuší. Opět k nám zavítá pražská blues-rocková kapela Přeskopec. Koncertu bude předcházet tradiční ochutnávka vín z portfolia firmy Foltýn Wine.\n🎟️ Podpoř program Přístavu 18600 zakoupením dobrovolné vstupenky v síti Goout.cz. 👉 bit.ly/Preskopec\nKapela Přeskopec vznikla v roce 2014 a hraje hlavně původní repertoár s českými texty\, navazující na mišíkovsko-hlasovskou tradici. Po několika změnách\, včetně názvu v roce 2018 z Pražské kavárny na Přeskopec nyní hraje kapela jako septeto v osazení bicí\, basa\, 2 kytary\, saxofon\, housle a vokály (ty jsou 4 včetně instrumentalistů). Na kontě má kapela 2 desky\, třetí je v nové sestavě v přípravě.\n🎶 Harmonogram\n18:00 Degustace vín\n19:00 koncert Přeskopec
URL:https://karlinem.cz/event/preskopec-foltyn-wine-koncert-s-degustaci-vin/
LOCATION:Přístav 18600\, Rohanský ostrov 8\, Karlín\, 18600\, Česká republika
CATEGORIES:Koncert
ATTACH;FMTTYPE=image/png:https://karlinem.cz/wp-content/uploads/2024/05/AKTUALNI.png
END:VEVENT
END:VCALENDAR