BEGIN:VCALENDAR
VERSION:2.0
PRODID:-//Karlinem.cz - ECPv6.2.0.1//NONSGML v1.0//EN
CALSCALE:GREGORIAN
METHOD:PUBLISH
X-WR-CALNAME:Karlinem.cz
X-ORIGINAL-URL:https://karlinem.cz
X-WR-CALDESC:Akce na Karlinem.cz
REFRESH-INTERVAL;VALUE=DURATION:PT1H
X-Robots-Tag:noindex
X-PUBLISHED-TTL:PT1H
BEGIN:VTIMEZONE
TZID:Europe/Prague
BEGIN:DAYLIGHT
TZOFFSETFROM:+0100
TZOFFSETTO:+0200
TZNAME:CEST
DTSTART:20240331T010000
END:DAYLIGHT
BEGIN:STANDARD
TZOFFSETFROM:+0200
TZOFFSETTO:+0100
TZNAME:CET
DTSTART:20241027T010000
END:STANDARD
END:VTIMEZONE
BEGIN:VEVENT
DTSTART;TZID=Europe/Prague:20240616T160000
DTEND;TZID=Europe/Prague:20240616T203000
DTSTAMP:20260425T144950
CREATED:20240603T075834Z
LAST-MODIFIED:20240603T075834Z
UID:10000533-1718553600-1718569800@karlinem.cz
SUMMARY:PQMC: Sedět | čajový obřad s živou hudbou
DESCRIPTION:Milovníci čaje a hudby zbystřete. Zveme vás na intimní událost\, která spojuje právě tyto dvě oblasti.\nSpojení čaje a hudby sahá až ke kořenům pití čaje jakožto kontemplativního rituálu v klasické čínské kultuře. Tyto obřady byly často doprovázeny hrou na guqin (čínskou citeru). Jeho tichý\, jemný zvuk se nehodil na slavnosti ani hraní v ansámblech\, své využití měl ale při sólovem meditativním hraní.\nPrávě tuto kontemplativnost tónů\, která protéká šálkem čaje\, se snaží zachytit i Prague Quiet Music Collective ve své performanci Sedět. Improvizovaná hudební složka strukturuje časová dramaturgie přípravy čaje metodou gong fu čcha.\nDva hudebníci\, tři nálevy\, jeden společný čas.\nPředstavení trvá cca 45 minut\, poté následuje diskuze. Kapacita je 12 diváků – své místo si proto prosím rezervujte přes Goout. \nHarmonogram\nPerformance proběhne ve třech opakováních\, resp. ve třech časech:\n👉 16:00-17:00\n👉 17:30-18:30\n👉 19:30-20:30 \nPrague Quiet Music Collective vznikl s cílem prezentovat hudbu\, která věnuje zvýšenou pozornost tichu\, jemným detailům zvuku a plynutí času. Věří\, že zvláště v uspěchané době „ekonomiky pozornosti“ a přehlcení podněty má velkou hodnotu ztišení\, které nám umožňuje nahlédnout na krásu pomalosti\, pomíjení\, křehkosti i detailu. Pozornost věnuje nejen koncertní dramaturgii\, ale také vytvoření jedinečného prostředí pro poslechový zážitek.
URL:https://karlinem.cz/event/pqmc-sedet-cajovy-obrad-s-zivou-hudbou/
LOCATION:Přístav 18600\, Rohanský ostrov 8\, Karlín\, 18600\, Česká republika
CATEGORIES:Koncert
ATTACH;FMTTYPE=image/png:https://karlinem.cz/wp-content/uploads/2024/05/PQMC.png
END:VEVENT
END:VCALENDAR