BEGIN:VCALENDAR
VERSION:2.0
PRODID:-//Karlinem.cz - ECPv6.2.0.1//NONSGML v1.0//EN
CALSCALE:GREGORIAN
METHOD:PUBLISH
X-WR-CALNAME:Karlinem.cz
X-ORIGINAL-URL:https://karlinem.cz
X-WR-CALDESC:Akce na Karlinem.cz
REFRESH-INTERVAL;VALUE=DURATION:PT1H
X-Robots-Tag:noindex
X-PUBLISHED-TTL:PT1H
BEGIN:VTIMEZONE
TZID:Europe/Prague
BEGIN:DAYLIGHT
TZOFFSETFROM:+0100
TZOFFSETTO:+0200
TZNAME:CEST
DTSTART:20230326T010000
END:DAYLIGHT
BEGIN:STANDARD
TZOFFSETFROM:+0200
TZOFFSETTO:+0100
TZNAME:CET
DTSTART:20231029T010000
END:STANDARD
END:VTIMEZONE
BEGIN:VEVENT
DTSTART;TZID=Europe/Prague:20230916T140000
DTEND;TZID=Europe/Prague:20230916T210000
DTSTAMP:20260425T144959
CREATED:20230907T070940Z
LAST-MODIFIED:20230907T072028Z
UID:10000151-1694872800-1694898000@karlinem.cz
SUMMARY:Zažít Karlín jinak - Žižkovský tunel
DESCRIPTION:16. září se slepá ulička Thámova u žižkovského tunelu stane viditelnější i slyšitelnější! Zveme na koncerty vokální i rockové\, swap s oblečením a s kytkami\, čtení básní a hry\, mini-workshopy taneční i jiný. Díky místním podnikům\, chybět nebude ani občerstvení!
URL:https://karlinem.cz/event/zizkovsky-tunel-zazit-mesto-jinak/
LOCATION:Thámova\, Thámova\, Praha 8
CATEGORIES:Festival
ATTACH;FMTTYPE=image/png:https://karlinem.cz/wp-content/uploads/2023/09/fb-cover-1200-x-628-neboj-2.png
ORGANIZER;CN="AutoMat":MAILTO:zmj@auto-mat.cz
END:VEVENT
END:VCALENDAR