BEGIN:VCALENDAR
VERSION:2.0
PRODID:-//Karlinem.cz - ECPv6.2.0.1//NONSGML v1.0//EN
CALSCALE:GREGORIAN
METHOD:PUBLISH
X-WR-CALNAME:Karlinem.cz
X-ORIGINAL-URL:https://karlinem.cz
X-WR-CALDESC:Akce na Karlinem.cz
REFRESH-INTERVAL;VALUE=DURATION:PT1H
X-Robots-Tag:noindex
X-PUBLISHED-TTL:PT1H
BEGIN:VTIMEZONE
TZID:Europe/Prague
BEGIN:DAYLIGHT
TZOFFSETFROM:+0100
TZOFFSETTO:+0200
TZNAME:CEST
DTSTART:20230326T010000
END:DAYLIGHT
BEGIN:STANDARD
TZOFFSETFROM:+0200
TZOFFSETTO:+0100
TZNAME:CET
DTSTART:20231029T010000
END:STANDARD
END:VTIMEZONE
BEGIN:VEVENT
DTSTART;TZID=Europe/Prague:20230919T180000
DTEND;TZID=Europe/Prague:20230919T220000
DTSTAMP:20260425T144958
CREATED:20230819T101828Z
LAST-MODIFIED:20230819T101828Z
UID:10000126-1695146400-1695160800@karlinem.cz
SUMMARY:Afro Sunset Party at River Rink Karlín
DESCRIPTION:Afro Sunset Party v River Rinku!☀️\nKaždé úterý 18 – 22\nPřitančete do Karlína na Afro Sunset Party s Sani Pragkizerem! Oblíbená taneční party v afro rytmech pod širým nebem pokračuje i letos! Čeká na vás pozitivní vibe\, poznávání nových lidí\, vyladěné drinky a #chillureky.\nVidíme se na parketu!🔥\n// VSTUPNÉ //\nVstupné do baru: ZDARMA\nPárty: 100Kč\nPárty + lekce: 200Kč\n📍Karolinská 8\, Praha 8 \n[ENG]\nAfro Sunset Party at River Rink Karlín!☀️\nEvery Tuesday 18 – 22\nAfro Sunset party with the one and only Sani Pragkizere is back! Come with friends and family and meet new and lovely people as we dance in a beautiful and a relaxed atmosphere with positive vibes.\nSee You soon!🔥\n// ENTRY //\nBar entry: FREE\nParty: 100Kč\nParty + lesson: 200Kč\n📍Karolinská 8\, Praha 8
URL:https://karlinem.cz/event/afro-sunset-party-at-river-rink-karlin-2/2023-09-19/
LOCATION:River Rink Karlín\, Karolínská 8\, Karlín\, 18600\, Česká republika
CATEGORIES:Party
ATTACH;FMTTYPE=image/jpeg:https://karlinem.cz/wp-content/uploads/2023/08/350537536_907971980498627_2149296049821966068_n.jpeg
END:VEVENT
END:VCALENDAR