BEGIN:VCALENDAR
VERSION:2.0
PRODID:-//Karlinem.cz - ECPv6.2.0.1//NONSGML v1.0//EN
CALSCALE:GREGORIAN
METHOD:PUBLISH
X-WR-CALNAME:Karlinem.cz
X-ORIGINAL-URL:https://karlinem.cz
X-WR-CALDESC:Akce na Karlinem.cz
REFRESH-INTERVAL;VALUE=DURATION:PT1H
X-Robots-Tag:noindex
X-PUBLISHED-TTL:PT1H
BEGIN:VTIMEZONE
TZID:Europe/Prague
BEGIN:DAYLIGHT
TZOFFSETFROM:+0100
TZOFFSETTO:+0200
TZNAME:CEST
DTSTART:20230326T010000
END:DAYLIGHT
BEGIN:STANDARD
TZOFFSETFROM:+0200
TZOFFSETTO:+0100
TZNAME:CET
DTSTART:20231029T010000
END:STANDARD
END:VTIMEZONE
BEGIN:VEVENT
DTSTART;TZID=Europe/Prague:20231121T190000
DTEND;TZID=Europe/Prague:20231121T230000
DTSTAMP:20260425T015408
CREATED:20231109T181443Z
LAST-MODIFIED:20231109T181443Z
UID:10000229-1700593200-1700607600@karlinem.cz
SUMMARY:Afro Sunset Tuesdays
DESCRIPTION:Afro Sunset Party v Revíru!\nKaždé úterý 19 – 23\nPřitančete do Karlína na Afro Sunset Party se Sani Pragkizerem z Ghany\, který vás rozehřeje i v zimě! Párty v afro rytmech u řeky v Karlíně\, to si nesmíš nechat ujít! VSTUP ZDARMA!\nwww.revirkarlin.cz Karolinská 7\, Praha 8\n—\nAfro Sunset Party in Revír!\nEvery Tuesday 19 – 23\nCome to Karlin to dance at the Afro Sunset Party with Sani Pragkizer from Ghana\, who will warm you up even in the cold! Party to Afro rhythms by the river in Karlín\, you don’t want to miss it! FREE ENTRY!\nwww.revirkarlin.cz Karolinská 7\, Praha 8
URL:https://karlinem.cz/event/afro-sunset-tuesdays/2023-11-21/
LOCATION:Revír Karlín\, Karolinská 7\, Praha 8\, 186 00
CATEGORIES:Party
ATTACH;FMTTYPE=image/jpeg:https://karlinem.cz/wp-content/uploads/2023/11/397489931_122114656766055216_6243882712717194965_n.jpeg
ORGANIZER;CN="Rev%C3%ADr%20Karl%C3%ADn":MAILTO:bar@revirkarlin.cz
END:VEVENT
END:VCALENDAR