BEGIN:VCALENDAR
VERSION:2.0
PRODID:-//Karlinem.cz - ECPv6.2.0.1//NONSGML v1.0//EN
CALSCALE:GREGORIAN
METHOD:PUBLISH
X-ORIGINAL-URL:https://karlinem.cz
X-WR-CALDESC:Akce na Karlinem.cz
REFRESH-INTERVAL;VALUE=DURATION:PT1H
X-Robots-Tag:noindex
X-PUBLISHED-TTL:PT1H
BEGIN:VTIMEZONE
TZID:Europe/Prague
BEGIN:DAYLIGHT
TZOFFSETFROM:+0100
TZOFFSETTO:+0200
TZNAME:CEST
DTSTART:20230326T010000
END:DAYLIGHT
BEGIN:STANDARD
TZOFFSETFROM:+0200
TZOFFSETTO:+0100
TZNAME:CET
DTSTART:20231029T010000
END:STANDARD
END:VTIMEZONE
BEGIN:VEVENT
DTSTART;TZID=Europe/Prague:20231124T210000
DTEND;TZID=Europe/Prague:20231125T010000
DTSTAMP:20260425T015518
CREATED:20231109T182250Z
LAST-MODIFIED:20231109T184927Z
UID:10000238-1700859600-1700874000@karlinem.cz
SUMMARY:Revír The Boiler Room Fridays
DESCRIPTION:Revír the Boiling Room!\nKaždý pátek 21 – 1\nPřipravte se na explozi energie s nejžhavějším live DJ setem v okolí. Přijďte si zatancovat v rytmu house beatů až do rána v tom nejžhavějším baru v Karlíně. VSTUP ZDARMA!\nwww.revirkarlin.cz Karolinská 7\, Praha 8\n—\nRevír the Boiling Room!\nEvery Friday 21 – 1\nGet ready for an explosion of energy with the hottest live DJ set around. Come dance to the house beats until dawn in the hottest bar in Karlín. FREE ENTRY!\nwww.revirkarlin.cz Karolinská 7\, Praha 8
URL:https://karlinem.cz/event/revir-the-boiler-room-fridays/2023-11-24/
LOCATION:Revír Karlín\, Karolinská 7\, Praha 8\, 186 00
CATEGORIES:Party
ATTACH;FMTTYPE=image/jpeg:https://karlinem.cz/wp-content/uploads/2023/11/392952629_122114658506055216_3890668205065714771_n.jpeg
ORGANIZER;CN="Rev%C3%ADr%20Karl%C3%ADn":MAILTO:bar@revirkarlin.cz
END:VEVENT
BEGIN:VEVENT
DTSTART;TZID=Europe/Prague:20231125T210000
DTEND;TZID=Europe/Prague:20231126T010000
DTSTAMP:20260425T015518
CREATED:20231109T181734Z
LAST-MODIFIED:20231109T181734Z
UID:10000232-1700946000-1700960400@karlinem.cz
SUMMARY:Disco Machine Saturdays
DESCRIPTION:Disco Machine v Revíru!\nKaždou sobotu 21 – 1\nNazujte si párty střevíce a připojte se k nám v sobotu na parketu. Připravte se na zářivou noc plnou funky beatů a nekonečného tance. Buďte součástí té nejlepší sobotní události v okolí. VSTUP ZDARMA!\nwww.revirkarlin.cz I Karolinská 7\, Praha 8\n—\nDisco Machine in Revír!\nEvery Saturday 21 – 1\nPut on your party shoes and join us on the dance floor on Saturdays. Get ready for a vibrant night of funky beats and endless dancing. Be a part of the best Saturday event around. FREE ENTRY!\nwww.revirkarlin.cz I Karolinská 7\, Praha 8
URL:https://karlinem.cz/event/disco-machine-saturdays/2023-11-25/
LOCATION:Revír Karlín\, Karolinská 7\, Praha 8\, 186 00
CATEGORIES:Party
ATTACH;FMTTYPE=image/jpeg:https://karlinem.cz/wp-content/uploads/2023/11/397497980_122114660108055216_9064680055635300219_n.jpeg
ORGANIZER;CN="Rev%C3%ADr%20Karl%C3%ADn":MAILTO:bar@revirkarlin.cz
END:VEVENT
END:VCALENDAR