BEGIN:VCALENDAR
VERSION:2.0
PRODID:-//Karlinem.cz - ECPv6.2.0.1//NONSGML v1.0//EN
CALSCALE:GREGORIAN
METHOD:PUBLISH
X-WR-CALNAME:Karlinem.cz
X-ORIGINAL-URL:https://karlinem.cz
X-WR-CALDESC:Akce na Karlinem.cz
REFRESH-INTERVAL;VALUE=DURATION:PT1H
X-Robots-Tag:noindex
X-PUBLISHED-TTL:PT1H
BEGIN:VTIMEZONE
TZID:Europe/Prague
BEGIN:DAYLIGHT
TZOFFSETFROM:+0100
TZOFFSETTO:+0200
TZNAME:CEST
DTSTART:20230326T010000
END:DAYLIGHT
BEGIN:STANDARD
TZOFFSETFROM:+0200
TZOFFSETTO:+0100
TZNAME:CET
DTSTART:20231029T010000
END:STANDARD
END:VTIMEZONE
BEGIN:VEVENT
DTSTART;TZID=Europe/Prague:20231130T190000
DTEND;TZID=Europe/Prague:20231130T230000
DTSTAMP:20260424T230301
CREATED:20231109T182014Z
LAST-MODIFIED:20231109T182014Z
UID:10000235-1701370800-1701385200@karlinem.cz
SUMMARY:Caribbean Vibez Thursdays
DESCRIPTION:Caribbean Vibez v Revíru!\nKaždý čtvrtek 19 – 23\nPřitančete do Karlína na Caribbean Party\, která vás rozehřeje i v zimě! Párty v karibských rytmech u řeky v Karlíně\, to si nesmíš nechat ujít! VSTUP ZDARMA!\nwww.revirkarlin.cz Karolinská 7\,Praha 8\n—\nCaribbean Vibez at Revír bar!\nEvery Thursday 19 – 23\nCome to Karl9n for a Caribbean Party that will warm you up even in the cold! Party to Caribbean rhythms by the river in Karlín\, you don’t want to miss it! FREE ENTRY!\nwww.revirkarlin.cz Karolinská 7\,Praha 8
URL:https://karlinem.cz/event/caribbean-vibez-thursdays/2023-11-30/
LOCATION:Revír Karlín\, Karolinská 7\, Praha 8\, 186 00
CATEGORIES:Party
ATTACH;FMTTYPE=image/jpeg:https://karlinem.cz/wp-content/uploads/2023/11/367384471_122114657384055216_135587778122374146_n.jpeg
ORGANIZER;CN="Rev%C3%ADr%20Karl%C3%ADn":MAILTO:bar@revirkarlin.cz
END:VEVENT
END:VCALENDAR