BEGIN:VCALENDAR
VERSION:2.0
PRODID:-//Karlinem.cz - ECPv6.2.0.1//NONSGML v1.0//EN
CALSCALE:GREGORIAN
METHOD:PUBLISH
X-WR-CALNAME:Karlinem.cz
X-ORIGINAL-URL:https://karlinem.cz
X-WR-CALDESC:Akce na Karlinem.cz
REFRESH-INTERVAL;VALUE=DURATION:PT1H
X-Robots-Tag:noindex
X-PUBLISHED-TTL:PT1H
BEGIN:VTIMEZONE
TZID:Europe/Prague
BEGIN:DAYLIGHT
TZOFFSETFROM:+0100
TZOFFSETTO:+0200
TZNAME:CEST
DTSTART:20230326T010000
END:DAYLIGHT
BEGIN:STANDARD
TZOFFSETFROM:+0200
TZOFFSETTO:+0100
TZNAME:CET
DTSTART:20231029T010000
END:STANDARD
END:VTIMEZONE
BEGIN:VEVENT
DTSTART;TZID=Europe/Prague:20230704T180000
DTEND;TZID=Europe/Prague:20230704T190000
DTSTAMP:20260426T063836
CREATED:20230701T110642Z
LAST-MODIFIED:20230701T110707Z
UID:10000046-1688493600-1688497200@karlinem.cz
SUMMARY:Ungdomsorkester: On tour!: koncert
DESCRIPTION:𝐂𝐙: Nestihli jste dánské pošťáky v Přístavu 18600? Odense\, město\, kde pramení v celém Dánsku známá limonáda Albani\, nám proti proudu posílá další jazzový ensamble. Mladí Dánové doprovodí šum Vltavy známými jazzovými melodiemi i současnými hity jako Lady Gaga nebo soundtrackem z filmů James Bond. Přijďte si poslechnout\, jak jim to ladí.\n𝐄𝐍𝐆: Did you miss the Danish postmen in Přístav 18600? Odense\, the city where Denmark’s famous Albani lemonade originates\, sends us another jazz ensemble upstream. The young Danes accompany the sound of the Vltava River with well-known jazz tunes and contemporary hits like Lady Gaga or the soundtrack from James Bond movies. Come and hear how they are in tune.\nStage pod stromem.\nVstupné dobrovolné
URL:https://karlinem.cz/event/ungdomsorkester-on-tour-koncert/
LOCATION:Přístav 18600\, Rohanský ostrov 8\, Karlín\, 18600\, Česká republika
CATEGORIES:Koncert
ATTACH;FMTTYPE=image/jpeg:https://karlinem.cz/wp-content/uploads/2023/07/230704-Ungdomsorkester-Koncert-Karlin-Pristav-18600.jpg
END:VEVENT
BEGIN:VEVENT
DTSTART;TZID=Europe/Prague:20230707T080000
DTEND;TZID=Europe/Prague:20230707T180000
DTSTAMP:20260426T063836
CREATED:20230526T132111Z
LAST-MODIFIED:20230625T112313Z
UID:10000035-1688716800-1688752800@karlinem.cz
SUMMARY:Farmářské trhy
DESCRIPTION:V průběhu roku se u nás můžete potkávat s mnoha prodejci s nabídkou toho nejlepšího celoročního i sezonního zboží. Například: \n🥕Ovoce a zelenina Švestka\n🥖Náš chléb – řemeslná pekárna\n🌸Květiny Bystrý – květiny a sadba\n🍗Maďarské lahůdky od Zsoltiho – farmářské výpěstky a výrobky z Maďarska\n🍰Pekárna Louskáček – koláče a quiche\n🥛Farma Zedníček – mléčné bio produkty a maso\n🥚Farma Bačina – vejce\n🐝Medařství Prokešovi – med a medovina\n🫑Zelenina Součková\n🍓Kunratické jahody\n🍒Litoměřické sady – třešně\n🧀Bačova salaš – sýry\n🍺Pivovar u Přeška – pivo\, uzeniny a obědová menu\n🐟Rybí zahrada – rybí filety\, bylinky a obědová menu\n🍖Arménský šašlik – obědová menu a cukrářské výrobky\n🍷Vinařství Machových – víno\n🪴Canna Roomz – CBD výrobky\n🦴Psí pamlsky Parůžkov\n🧴Bylineo – kosmetika\n🪑Dřevotéka – výrobky ze dřeva\n📚Antikvariát Kačur – knihy \nProdejci se mohou v průběhu roku obměňovat dle sezony a aktuální nabídky.\nPodpořte vaše lokální trhy svou návštěvou a uvidíte\, že si je zamilujete❤️\nTěšíme se na vás.
URL:https://karlinem.cz/event/farmarske-trhy/2023-07-07/
LOCATION:Karlínské náměstí\, Karlínské náměstí\, Karlín
CATEGORIES:Jídlo a pití
ATTACH;FMTTYPE=image/jpeg:https://karlinem.cz/wp-content/uploads/2023/05/Farmarske-trhy-scaled.jpg
END:VEVENT
BEGIN:VEVENT
DTSTART;TZID=Europe/Prague:20230713T190000
DTEND;TZID=Europe/Prague:20230713T210000
DTSTAMP:20260426T063836
CREATED:20230701T111055Z
LAST-MODIFIED:20230701T111114Z
UID:10000047-1689274800-1689282000@karlinem.cz
SUMMARY:Karolina Beranova & Vyktoryja: koncert
DESCRIPTION:Dvě muzikantky a jeden červencový večer!\n𝐊𝐚𝐫𝐨𝐥𝐢𝐧𝐚 𝐁𝐞𝐫𝐚𝐧𝐨𝐯𝐚\n🌿 Oheň\, jemnost a sebejistota – v Praze usazená písničkářka Karolina Beranova ve svých písní vyvolává silné emoce. Při jejím poslechu se společně vydáte na nezávislou kytarovou jízdu plnou andělských vokálů\, upřímných textů a naděje. Nově se Karolina v létě představí s šesti členou kapelou.\n🇬🇧 Fire\, tenderness and confidence – the Prague-based singer-songwriter Karolina Beranova evokes strong emotions in her songs. While listening to her sound\, she will take you on an independent guitar ride full of angelic vocals\, honest lyrics and hope. Karolina will present herself with a 4-member band in the summer.\n𝐕𝐲𝐤𝐭𝐨𝐫𝐲𝐣𝐚\n🌿 Snažím se skládat minimalistickou melancholickou hudbu doprovázenou klavírem nebo orchestrem\, funguje jako takový můj deník\, žánrově připomínající indie pop. Velkou inspirací\, co se týče instrumentálu\, je například Lana nebo Jorja Smith\, baví mě hledat zajímavý kombinace a nechat se ovlivňovat různýma žánrama.\n🇬🇧 I try to create minimalist melancholic music accompanied by a piano or an orchestra\, basically it works as my diary\, reminiscent of indie pop in genre. Lana or Jorja Smith are a big inspiration for my instrumentals\, I enjoy looking for interesting combinations and being influenced by different genres.\nStage pod stromem.\n🎟 Vstupné dobrovolné na místě/v předprodeji na GoOut.
URL:https://karlinem.cz/event/karolina-beranova-vyktoryja-koncert/
LOCATION:Přístav 18600\, Rohanský ostrov 8\, Karlín\, 18600\, Česká republika
CATEGORIES:Koncert
ATTACH;FMTTYPE=image/jpeg:https://karlinem.cz/wp-content/uploads/2023/07/230713-koncert-Karolina-Beranova-Vyktoryja.jpg
END:VEVENT
BEGIN:VEVENT
DTSTART;TZID=Europe/Prague:20230714T080000
DTEND;TZID=Europe/Prague:20230714T180000
DTSTAMP:20260426T063836
CREATED:20230526T132111Z
LAST-MODIFIED:20230625T112313Z
UID:10000036-1689321600-1689357600@karlinem.cz
SUMMARY:Farmářské trhy
DESCRIPTION:V průběhu roku se u nás můžete potkávat s mnoha prodejci s nabídkou toho nejlepšího celoročního i sezonního zboží. Například: \n🥕Ovoce a zelenina Švestka\n🥖Náš chléb – řemeslná pekárna\n🌸Květiny Bystrý – květiny a sadba\n🍗Maďarské lahůdky od Zsoltiho – farmářské výpěstky a výrobky z Maďarska\n🍰Pekárna Louskáček – koláče a quiche\n🥛Farma Zedníček – mléčné bio produkty a maso\n🥚Farma Bačina – vejce\n🐝Medařství Prokešovi – med a medovina\n🫑Zelenina Součková\n🍓Kunratické jahody\n🍒Litoměřické sady – třešně\n🧀Bačova salaš – sýry\n🍺Pivovar u Přeška – pivo\, uzeniny a obědová menu\n🐟Rybí zahrada – rybí filety\, bylinky a obědová menu\n🍖Arménský šašlik – obědová menu a cukrářské výrobky\n🍷Vinařství Machových – víno\n🪴Canna Roomz – CBD výrobky\n🦴Psí pamlsky Parůžkov\n🧴Bylineo – kosmetika\n🪑Dřevotéka – výrobky ze dřeva\n📚Antikvariát Kačur – knihy \nProdejci se mohou v průběhu roku obměňovat dle sezony a aktuální nabídky.\nPodpořte vaše lokální trhy svou návštěvou a uvidíte\, že si je zamilujete❤️\nTěšíme se na vás.
URL:https://karlinem.cz/event/farmarske-trhy/2023-07-14/
LOCATION:Karlínské náměstí\, Karlínské náměstí\, Karlín
CATEGORIES:Jídlo a pití
ATTACH;FMTTYPE=image/jpeg:https://karlinem.cz/wp-content/uploads/2023/05/Farmarske-trhy-scaled.jpg
END:VEVENT
BEGIN:VEVENT
DTSTART;TZID=Europe/Prague:20230719T200000
DTEND;TZID=Europe/Prague:20230719T203000
DTSTAMP:20260426T063836
CREATED:20230701T112002Z
LAST-MODIFIED:20230701T112020Z
UID:10000048-1689796800-1689798600@karlinem.cz
SUMMARY:Manus Art Collective: The End of Blaho?: divadlo
DESCRIPTION:Co je to blaho? Chceme víc\, ale máme všechno. Blaho je touha\, návyková látka\, kterou prostě chceš. Čtyři stěny a sama v sobě. Čas plyne jinak a já se nacházím na zvláštním místě\, které tak dobře znám. Teď se všechno mění\, už jdu zase s davem a nechávám se opít BLAHEM.\nTrailer: https://www.youtube.com/watch?v=J_CbwB5eTgg\n🌿 Manus Art Collective z.s. je nově založeným uměleckým spolkem od roku 2020\, působícím na poli současné taneční scény. Jako tým mladých aktivních tvůrců a interpretů jsou součástí různých projektů současného tance a performing arts. Skupinu tvoří Štěpána Mancová\, Šimon Klus a Šárka Říhová. V roce 2020 vznikla ze státní i veřejné podpory choreografie Árbakkinn\, která byla roku 2021 zařazena do programu Nová krev organizovaného platformou Nová síť. V roce 2021 roce též vzniká za podpory MKČR a Visegrad Fund představení NomHades\, inspirované uprchlíky a útěkem. V koprodukci se Studiem ALTA vznika inscenace Košilice a Okšila podpořená MKČR a experimentální představení The End of Blaho.\nChoreografie: Jolana Šturmová\nInterpretace: Šárka Říhová a Jolana Šturmová\nKostým a scénografie: Jolana Šturmová\n📸 Ekaterina Fonina\nDivadlo Ruderál.\nVstupné dobrovolné místě hotově/online v předprodeji na GoOut.
URL:https://karlinem.cz/event/manus-art-collective-the-end-of-blaho-divadlo/
LOCATION:Přístav 18600\, Rohanský ostrov 8\, Karlín\, 18600\, Česká republika
CATEGORIES:Divadlo
ATTACH;FMTTYPE=image/jpeg:https://karlinem.cz/wp-content/uploads/2023/07/230719-Divadlo-Manus-Art-Collective-The-End-of-Blaho-.jpg
END:VEVENT
BEGIN:VEVENT
DTSTART;TZID=Europe/Prague:20230721T080000
DTEND;TZID=Europe/Prague:20230721T180000
DTSTAMP:20260426T063836
CREATED:20230526T132111Z
LAST-MODIFIED:20230625T112313Z
UID:10000037-1689926400-1689962400@karlinem.cz
SUMMARY:Farmářské trhy
DESCRIPTION:V průběhu roku se u nás můžete potkávat s mnoha prodejci s nabídkou toho nejlepšího celoročního i sezonního zboží. Například: \n🥕Ovoce a zelenina Švestka\n🥖Náš chléb – řemeslná pekárna\n🌸Květiny Bystrý – květiny a sadba\n🍗Maďarské lahůdky od Zsoltiho – farmářské výpěstky a výrobky z Maďarska\n🍰Pekárna Louskáček – koláče a quiche\n🥛Farma Zedníček – mléčné bio produkty a maso\n🥚Farma Bačina – vejce\n🐝Medařství Prokešovi – med a medovina\n🫑Zelenina Součková\n🍓Kunratické jahody\n🍒Litoměřické sady – třešně\n🧀Bačova salaš – sýry\n🍺Pivovar u Přeška – pivo\, uzeniny a obědová menu\n🐟Rybí zahrada – rybí filety\, bylinky a obědová menu\n🍖Arménský šašlik – obědová menu a cukrářské výrobky\n🍷Vinařství Machových – víno\n🪴Canna Roomz – CBD výrobky\n🦴Psí pamlsky Parůžkov\n🧴Bylineo – kosmetika\n🪑Dřevotéka – výrobky ze dřeva\n📚Antikvariát Kačur – knihy \nProdejci se mohou v průběhu roku obměňovat dle sezony a aktuální nabídky.\nPodpořte vaše lokální trhy svou návštěvou a uvidíte\, že si je zamilujete❤️\nTěšíme se na vás.
URL:https://karlinem.cz/event/farmarske-trhy/2023-07-21/
LOCATION:Karlínské náměstí\, Karlínské náměstí\, Karlín
CATEGORIES:Jídlo a pití
ATTACH;FMTTYPE=image/jpeg:https://karlinem.cz/wp-content/uploads/2023/05/Farmarske-trhy-scaled.jpg
END:VEVENT
BEGIN:VEVENT
DTSTART;TZID=Europe/Prague:20230728T080000
DTEND;TZID=Europe/Prague:20230728T180000
DTSTAMP:20260426T063836
CREATED:20230526T132111Z
LAST-MODIFIED:20230625T112313Z
UID:10000038-1690531200-1690567200@karlinem.cz
SUMMARY:Farmářské trhy
DESCRIPTION:V průběhu roku se u nás můžete potkávat s mnoha prodejci s nabídkou toho nejlepšího celoročního i sezonního zboží. Například: \n🥕Ovoce a zelenina Švestka\n🥖Náš chléb – řemeslná pekárna\n🌸Květiny Bystrý – květiny a sadba\n🍗Maďarské lahůdky od Zsoltiho – farmářské výpěstky a výrobky z Maďarska\n🍰Pekárna Louskáček – koláče a quiche\n🥛Farma Zedníček – mléčné bio produkty a maso\n🥚Farma Bačina – vejce\n🐝Medařství Prokešovi – med a medovina\n🫑Zelenina Součková\n🍓Kunratické jahody\n🍒Litoměřické sady – třešně\n🧀Bačova salaš – sýry\n🍺Pivovar u Přeška – pivo\, uzeniny a obědová menu\n🐟Rybí zahrada – rybí filety\, bylinky a obědová menu\n🍖Arménský šašlik – obědová menu a cukrářské výrobky\n🍷Vinařství Machových – víno\n🪴Canna Roomz – CBD výrobky\n🦴Psí pamlsky Parůžkov\n🧴Bylineo – kosmetika\n🪑Dřevotéka – výrobky ze dřeva\n📚Antikvariát Kačur – knihy \nProdejci se mohou v průběhu roku obměňovat dle sezony a aktuální nabídky.\nPodpořte vaše lokální trhy svou návštěvou a uvidíte\, že si je zamilujete❤️\nTěšíme se na vás.
URL:https://karlinem.cz/event/farmarske-trhy/2023-07-28/
LOCATION:Karlínské náměstí\, Karlínské náměstí\, Karlín
CATEGORIES:Jídlo a pití
ATTACH;FMTTYPE=image/jpeg:https://karlinem.cz/wp-content/uploads/2023/05/Farmarske-trhy-scaled.jpg
END:VEVENT
END:VCALENDAR