BEGIN:VCALENDAR
VERSION:2.0
PRODID:-//Karlinem.cz - ECPv6.2.0.1//NONSGML v1.0//EN
CALSCALE:GREGORIAN
METHOD:PUBLISH
X-WR-CALNAME:Karlinem.cz
X-ORIGINAL-URL:https://karlinem.cz
X-WR-CALDESC:Akce na Karlinem.cz
REFRESH-INTERVAL;VALUE=DURATION:PT1H
X-Robots-Tag:noindex
X-PUBLISHED-TTL:PT1H
BEGIN:VTIMEZONE
TZID:Europe/Prague
BEGIN:DAYLIGHT
TZOFFSETFROM:+0100
TZOFFSETTO:+0200
TZNAME:CEST
DTSTART:20230326T010000
END:DAYLIGHT
BEGIN:STANDARD
TZOFFSETFROM:+0200
TZOFFSETTO:+0100
TZNAME:CET
DTSTART:20231029T010000
END:STANDARD
END:VTIMEZONE
BEGIN:VEVENT
DTSTART;TZID=Europe/Prague:20231105T110000
DTEND;TZID=Europe/Prague:20231105T180000
DTSTAMP:20260425T185850
CREATED:20231024T042652Z
LAST-MODIFIED:20231024T042652Z
UID:10000208-1699182000-1699207200@karlinem.cz
SUMMARY:Karlínský street food festival
DESCRIPTION:Srdečně vás zveme na poslední Karlínský street food festival letošní sezony\, který se uskuteční v neděli 5. listopadu. Opět vás čeká spousty skvělého jídla a pití od těch nejlepších street food profesionálů\, se kterými jste se mohli potkat v průběhu celé sezony. Karlínské náměstí se rozvoní grilovaným masem\, exotickými vůněmi a společně to opět roztočíme. Ke skvělé náladě a parádní atmosféře jistě přispěje i koncert skupiny The Brownies\, na který se můžete těšit od 13 hodin\, a celý den pro vás budou hrát naši Djové. Nebude chybět ani zábava pro děti\, tak doražte s celou rodinou a přáteli. Těšíme se na vás.
URL:https://karlinem.cz/event/karlinsky-street-food-festival-3/
LOCATION:Karlínské náměstí\, Karlínské náměstí\, Karlín
CATEGORIES:Festival,Jídlo a pití
ATTACH;FMTTYPE=image/jpeg:https://karlinem.cz/wp-content/uploads/2023/10/386092696_906947981085968_5652348240234356423_n.jpeg
END:VEVENT
BEGIN:VEVENT
DTSTART;TZID=Europe/Prague:20231112T110000
DTEND;TZID=Europe/Prague:20231112T180000
DTSTAMP:20260425T185850
CREATED:20231030T053149Z
LAST-MODIFIED:20231030T053149Z
UID:10000227-1699786800-1699812000@karlinem.cz
SUMMARY:Karlínská husa
DESCRIPTION:Srdečně vás zveme 12. listopadu na Karlínské náměstí na skvělou akci Karlínská husa. Těšit se můžete na spousty voňavých husích specialit a samozřejmě nebudou chybět mladá a Svatomartinská vína od těch nejlepších vinařství. Do taneční nálady vás dostane kapela Lovesong Orchestra\, která pro vás vystoupí od 13:00 a jako vždy to bude párty\, jak má být\, tak si to nenechte ujít. Těšíme se na vás.
URL:https://karlinem.cz/event/karlinska-husa/
LOCATION:Karlínské náměstí\, Karlínské náměstí\, Karlín
CATEGORIES:Jídlo a pití,Koncert
ATTACH;FMTTYPE=image/jpeg:https://karlinem.cz/wp-content/uploads/2023/10/391588009_914362933677806_2718964037071856812_n.jpeg
END:VEVENT
BEGIN:VEVENT
DTSTART;TZID=Europe/Prague:20231127T160000
DTEND;TZID=Europe/Prague:20231127T190000
DTSTAMP:20260425T185850
CREATED:20231118T171319Z
LAST-MODIFIED:20231118T171319Z
UID:10000262-1701100800-1701111600@karlinem.cz
SUMMARY:Slavnostní rozsvěcení vánočního stromu - Karlínské náměstí 2023
DESCRIPTION:Městská část Praha 8 vás zve na slavnostní rozsvěcení vánočních stromů. \nVystoupí smyčcové trio String Ladies\, pěvecký sbor Joyful\, dětský pěvecký sbor Fringilla – ZUŠ Taussigova a staropražské písničky zazpívá kapela Třehusk. \nBude i živý betlém\, spousta stánků s občerstvením a vánočními dárky. \nVstup zdarma.
URL:https://karlinem.cz/event/slavnostni-rozsveceni-vanocniho-stromu-karlinske-namesti-2023/
LOCATION:Karlínské náměstí\, Karlínské náměstí\, Karlín
CATEGORIES:Koncert,Meet Up
ATTACH;FMTTYPE=image/jpeg:https://karlinem.cz/wp-content/uploads/2023/11/Rozsveceni-vanocnich-stromu-2023.jpeg
END:VEVENT
END:VCALENDAR