BEGIN:VCALENDAR
VERSION:2.0
PRODID:-//Karlinem.cz - ECPv6.2.0.1//NONSGML v1.0//EN
CALSCALE:GREGORIAN
METHOD:PUBLISH
X-ORIGINAL-URL:https://karlinem.cz
X-WR-CALDESC:Akce na Karlinem.cz
REFRESH-INTERVAL;VALUE=DURATION:PT1H
X-Robots-Tag:noindex
X-PUBLISHED-TTL:PT1H
BEGIN:VTIMEZONE
TZID:Europe/Prague
BEGIN:DAYLIGHT
TZOFFSETFROM:+0100
TZOFFSETTO:+0200
TZNAME:CEST
DTSTART:20240331T010000
END:DAYLIGHT
BEGIN:STANDARD
TZOFFSETFROM:+0200
TZOFFSETTO:+0100
TZNAME:CET
DTSTART:20241027T010000
END:STANDARD
END:VTIMEZONE
BEGIN:VEVENT
DTSTART;TZID=Europe/Prague:20240303T140000
DTEND;TZID=Europe/Prague:20240303T160000
DTSTAMP:20260425T032531
CREATED:20240201T072610Z
LAST-MODIFIED:20240201T072610Z
UID:10000390-1709474400-1709481600@karlinem.cz
SUMMARY:Open house Praha: Židovská historie Žižkova a Karlína
DESCRIPTION:Dagmar Winklerová\, skvělá vypravěčka příběhů a zasvěcená průvodkyně\, se s vámi vydá po stopách zmizelých židovských sousedů a představí památky\, které jejich staletá přítomnost zanechala ve dvou čtvrtích přiléhajících k vrchu Vítkov. Žižkov a Karlín spojuje nejen tunel\, ale i minulost spjatá s průmyslem. Přesto se tyto dvě čtvrti vyvíjely v mnohém odlišně\, a podobně rozmanité byly i osudy jejich židovských obyvatel. Na trase procházky prozkoumáme starý hřbitov se vzácnými barokními náhrobky i jedním docela moderním památníkem. \nVyslechneme si vyprávění o morových i jiných ranách\, jež zdejší židovskou komunitu časem postihly\, ale i o jejích neobyčejných podnikatelských úspěších. Projdeme se pod vítkovským kopcem a na závěr se nám naskytne unikátní možnost navštívit interiér bývalé karlínské synagogy. Církev Československá husitská\, která nyní prostor spravuje\, zde uchovává jedno umělecké dílo s mimořádnou podobou i příběhem\, které symbolicky propojuje vyznavače Staré i Nové smlouvy… \nPraktické informace:\n\nMísto setkání je u vchodu na Starý židovský hřbitov na Žižkově\, pod Žižkovskou televizní věží (Fibichova 2818/2a\, Praha 3–Žižkov).\nTelefonický kontakt na dobrovolníka bude pro případ „nouze“ uveden na vstupence.\nLektorkou komentované vycházky je Dagmar Winklerová.\nPředpokládaná délka akce je cca 2 hodiny.\nKapacita skupiny je omezená\, vstupenky je možné zakoupit pouze předem.\nNa vybraných akcích pořizujeme fotografie a/nebo videozáznamy za účelem jejich dokumentování a propagace. Více informací zde.
URL:https://karlinem.cz/event/open-house-praha-zidovska-historie-zizkova-a-karlina/
LOCATION:u vchodu na Starý židovský hřbitov na Žižkově\, Fibichova 2818/2a\, Praha 3–Žižkov
CATEGORIES:Prohlídka
ATTACH;FMTTYPE=image/jpeg:https://karlinem.cz/wp-content/uploads/2024/02/Zidovska_historie_Zizkova_a_Karlina_foto_Tomas_Sysel-016_4x3-700x525-1.jpeg
ORGANIZER;CN="Open%20House%20Praha":MAILTO:info@openhousepraha.cz
END:VEVENT
BEGIN:VEVENT
DTSTART;TZID=Europe/Prague:20240308T163000
DTEND;TZID=Europe/Prague:20240308T230000
DTSTAMP:20260425T032531
CREATED:20240229T102032Z
LAST-MODIFIED:20240229T102032Z
UID:10000445-1709915400-1709938800@karlinem.cz
SUMMARY:Kola\, ženy\, zpěv!
DESCRIPTION:Brána BKP se po zimním spánku poprvé otevře na Mezinárodní den žen pro ty\, které chtějí svoje kolo dát do pucu a uvítají pomocnou ruku a bezpečné prostředí. Ale nebude to jen o dílně\, k MDŽ u nás už tradičně patří doprovodný kulturní program a letos jsme se do toho pořádně opřely – přednáška\, promítání\, hudba\, zpěv a samozřejmě drobné občerstvení a nápoje (alko i nealko).\nProgram:\n16:30  Otevření ženské dílny (s opravami pomohou Míša a Luciš)\n19:00  Přednáška o long-distance a bikepackingu od Báry a Míši\n20:00  Promítání filmu Women Don’t Cycle (Dokumentární film\, ve kterém cyklistky na trase Brusel-Tokio dokazují pravý opak. Manon Brulard se jich s kamerou v ruce ptá\, co pro ně znamená být cyklistkou a jaký je jejich příběh. 47 min\, ENG\, CZ tit.)\n21:00  Víno\, ženy a zpěv (směle pokračujeme v hodování\, debatách a přidáváme i zpěv)\n* MDŽ je pravidelnou připomínkou boje za rovnoprávnost žen\, my však nechceme opomínat ani jiné skupiny\, na které společnost myslí méně – tato událost je proto otevřená pro ženy\, transženy\, nebinární a genderqueer osoby\, které mají zájem o svět cyklistiky. Naším cílem je vytvořit přátelské\, podpůrné a bezpečné prostředí\, kde se každá může cítit vítána a pohodlně. S láskou a respektem prosíme o pochopení\, že v zájmu udržení této otevřené a bezpečné atmosféry je tato událost speciálně určena pro výše uvedené skupiny. Těšíme se na společné sdílení zážitků a radostí z cyklistiky v prostředí plném podpory a porozumění.
URL:https://karlinem.cz/event/kola-zeny-zpev/
LOCATION:Bike Kitchen Praha\, ostrov Štvanice\, Praha 7\, 170 00
CATEGORIES:Kino,Meet Up,Přednáška
ATTACH;FMTTYPE=image/jpeg:https://karlinem.cz/wp-content/uploads/2024/02/422580593_882821453854181_6197528632807817911_n.jpeg
ORGANIZER;CN="Bike%20Kitchen%20Praha":MAILTO:bikekitchenpraha@gmail.com
END:VEVENT
BEGIN:VEVENT
DTSTART;TZID=Europe/Prague:20240324T110000
DTEND;TZID=Europe/Prague:20240324T180000
DTSTAMP:20260425T032531
CREATED:20240126T063007Z
LAST-MODIFIED:20240126T063007Z
UID:10000373-1711278000-1711303200@karlinem.cz
SUMMARY:Karlínské polívkování
DESCRIPTION:Srdečně vás zveme na další Karlínské polívkování\, které se uskuteční v neděli 24. března na Karlínském náměstí od 11:00 – 18:00\nTěšit se můžete na širokou nabídku našich klasických českých polévek\, jako je například bramboračka\, zelňačka\, kulajda\, česnečka nebo třeba dršťková polévka a mnoho dalšího.\nSamozřejmě nebudou chybět polévky z celého světa. Velmi populární Pho\, chipotle\, bouillabaisse\, indicky DHAL\, francouzská cibulačka\, americká hutná polévka s grilovaným sýrovým sandwichem a mnoho dalších různých druhů krémových polévek a vývarů.\nČekají vás živá hudební vystoupení a zábava pro malé i velké.
URL:https://karlinem.cz/event/karlinske-polivkovani-2/
LOCATION:Karlínské náměstí\, Karlínské náměstí\, Karlín
CATEGORIES:Festival,Jídlo a pití
ATTACH;FMTTYPE=image/jpeg:https://karlinem.cz/wp-content/uploads/2024/01/421354355_977984380648994_5019769785576920789_n.jpeg
END:VEVENT
END:VCALENDAR