BEGIN:VCALENDAR
VERSION:2.0
PRODID:-//Karlinem.cz - ECPv6.2.0.1//NONSGML v1.0//EN
CALSCALE:GREGORIAN
METHOD:PUBLISH
X-WR-CALNAME:Karlinem.cz
X-ORIGINAL-URL:https://karlinem.cz
X-WR-CALDESC:Akce na Karlinem.cz
REFRESH-INTERVAL;VALUE=DURATION:PT1H
X-Robots-Tag:noindex
X-PUBLISHED-TTL:PT1H
BEGIN:VTIMEZONE
TZID:Europe/Prague
BEGIN:DAYLIGHT
TZOFFSETFROM:+0100
TZOFFSETTO:+0200
TZNAME:CEST
DTSTART:20230326T010000
END:DAYLIGHT
BEGIN:STANDARD
TZOFFSETFROM:+0200
TZOFFSETTO:+0100
TZNAME:CET
DTSTART:20231029T010000
END:STANDARD
END:VTIMEZONE
BEGIN:VEVENT
DTSTART;TZID=Europe/Prague:20230813T080000
DTEND;TZID=Europe/Prague:20230813T170000
DTSTAMP:20260426T034104
CREATED:20230813T161608Z
LAST-MODIFIED:20230813T161608Z
UID:10000089-1691913600-1691946000@karlinem.cz
SUMMARY:Divadlo Brastrs kolektiv: Antiguma
DESCRIPTION:„𝙽𝚎𝚗𝚒́ 𝚟ě𝚝š𝚒́𝚑𝚘 𝚞𝚝𝚛𝚙𝚎𝚗𝚒́\, 𝚗𝚎ž 𝚔𝚍𝚢ž 𝚜𝚎 𝚖𝚒 𝚖𝚢š𝚕𝚎𝚗𝚔𝚊 𝚗𝚎𝚟𝚢𝚟𝚎𝚍𝚎 𝚟𝚎 𝚜𝚕𝚘𝚟𝚎𝚌𝚑. 𝙾𝚋č𝚊𝚜 𝚗𝚎𝚋𝚘 𝚟𝚕𝚊𝚜𝚝𝚗ě č𝚊𝚜𝚝𝚘 𝚙ř𝚎𝚖𝚢́š𝚕𝚒́𝚖 𝚗𝚊𝚑𝚕𝚊𝚜. 𝙰 𝚗𝚎𝚋𝚘 𝚙𝚘𝚝𝚒𝚌𝚑𝚞? 𝙹𝚊́ 𝚗𝚎𝚟𝚒́𝚖…“\nAutorská inscenace\, kde se diváci napřímo setkají s bizarnostmi umělé inteligence. Dovedla by AI řídit divadlo a pochopit potřebné emoce? Všechno je jen slovo a myšlenka.\nTragikomický příběh režiséra Marka a herce Petra\, kterým jde jen o jedno. Udělat dobré divadlo. Antigonu. Během divadelní zkoušky však hlavní postavy zjišťují\, kolik překážek se objeví. Nová ředitelka\, nedostatek financí a 18 600 postav pro jednoho herce. Dokáže režisér zinscenovat Antigonu tak\, jak ji ještě nikdo nikdy neviděl? Dokáže herec zahrát Antigonu tak\, jak ji ještě nikdo nikdy nezahrál? Dozvíte se po reklamních sloganech.\nHrají: Kristián Kašpar a Kryštof Švehlík\nDivadlo Ruderál.\nVstupné dobrovolné v předprodeji na GoOut/hotově na místě.
URL:https://karlinem.cz/event/divadlo-brastrs-kolektiv-antiguma/
LOCATION:Přístav 18600\, Rohanský ostrov 8\, Karlín\, 18600\, Česká republika
CATEGORIES:Divadlo
ATTACH;FMTTYPE=image/png:https://karlinem.cz/wp-content/uploads/2023/08/Pristav-18600-2021-Facebook-cover-1920x1080.pptx-3-1536x864-1.png
END:VEVENT
END:VCALENDAR