BEGIN:VCALENDAR
VERSION:2.0
PRODID:-//Karlinem.cz - ECPv6.2.0.1//NONSGML v1.0//EN
CALSCALE:GREGORIAN
METHOD:PUBLISH
X-ORIGINAL-URL:https://karlinem.cz
X-WR-CALDESC:Akce na Karlinem.cz
REFRESH-INTERVAL;VALUE=DURATION:PT1H
X-Robots-Tag:noindex
X-PUBLISHED-TTL:PT1H
BEGIN:VTIMEZONE
TZID:Europe/Prague
BEGIN:DAYLIGHT
TZOFFSETFROM:+0100
TZOFFSETTO:+0200
TZNAME:CEST
DTSTART:20230326T010000
END:DAYLIGHT
BEGIN:STANDARD
TZOFFSETFROM:+0200
TZOFFSETTO:+0100
TZNAME:CET
DTSTART:20231029T010000
END:STANDARD
END:VTIMEZONE
BEGIN:VEVENT
DTSTART;TZID=Europe/Prague:20230820T110000
DTEND;TZID=Europe/Prague:20230820T190000
DTSTAMP:20260426T051730
CREATED:20230819T101822Z
LAST-MODIFIED:20230819T101822Z
UID:10000101-1692529200-1692558000@karlinem.cz
SUMMARY:Karlínský street food festival
DESCRIPTION:Všechny vás srdečně zveme na Karlínský street food festival na Karlínské náměstí\, který se uskuteční v neděli 20. srpna od 11:00 – 19:00 hodin. Těšit se můžete jak na vaše oblíbené prodejce\, tak dorazí i několik nováčků s nabídkou moderní street food gastronomie. Bude to stát opravdu za to\, tak si to nenechte rozhodně ujít. I tentokrát bude skvělá muzika\, živé koncerty a nebude chybět ani tetovací salón Ink culture a Lady Rasta\, která vám uplete krásné copánky. Děti si užijí spousty zábavy na trampolínách a kreativních dílnách. Tak vemte celou rodinu a doražte za námi užít si krásnou letní neděli. Těšíme se na vás.
URL:https://karlinem.cz/event/karlinsky-street-food-festival-2/
LOCATION:Karlínské náměstí\, Karlínské náměstí\, Karlín
CATEGORIES:Festival,Jídlo a pití
ATTACH;FMTTYPE=image/jpeg:https://karlinem.cz/wp-content/uploads/2023/08/357408451_856415359472564_2411235143752151550_n.jpeg
END:VEVENT
END:VCALENDAR