BEGIN:VCALENDAR
VERSION:2.0
PRODID:-//Karlinem.cz - ECPv6.2.0.1//NONSGML v1.0//EN
CALSCALE:GREGORIAN
METHOD:PUBLISH
X-WR-CALNAME:Karlinem.cz
X-ORIGINAL-URL:https://karlinem.cz
X-WR-CALDESC:Akce na Karlinem.cz
REFRESH-INTERVAL;VALUE=DURATION:PT1H
X-Robots-Tag:noindex
X-PUBLISHED-TTL:PT1H
BEGIN:VTIMEZONE
TZID:Europe/Prague
BEGIN:DAYLIGHT
TZOFFSETFROM:+0100
TZOFFSETTO:+0200
TZNAME:CEST
DTSTART:20230326T010000
END:DAYLIGHT
BEGIN:STANDARD
TZOFFSETFROM:+0200
TZOFFSETTO:+0100
TZNAME:CET
DTSTART:20231029T010000
END:STANDARD
END:VTIMEZONE
BEGIN:VEVENT
DTSTART;TZID=Europe/Prague:20230831T200000
DTEND;TZID=Europe/Prague:20230831T220000
DTSTAMP:20260426T034107
CREATED:20230813T161609Z
LAST-MODIFIED:20230813T161609Z
UID:10000090-1693512000-1693519200@karlinem.cz
SUMMARY:Curryfikace: The Electric Way
DESCRIPTION:𝗖𝘂𝗿𝗿𝘆𝗳𝗶𝗸𝗮𝗰𝗲: 𝗘𝗹𝗲𝗸𝘁𝗿𝗶𝗰𝗸𝗮́ 𝗰𝗲𝘀𝘁𝗮\nV sedmdesátých letech ve Spojených Státech byly kabelové televizní stanice s více než 3500 předplatiteli povinné zpřístupnit své profesionální vysílací vybavení a kapacity veřejnosti k tvorbě nekomerčního obsahu. Tento typ vysílání byl označován jako “Public Access TV”. “The Electric Way” byl název pořadu\, který do Public access TV přinesl kolektiv umělců\, techniků a studentů spojených s Michigan State University\, které lákala představa realizovat své nápady prostřednictvím video artu; hrát si s nahrávací a vysílací technikou a vytvářet obsah\, který je narozdíl od klasického vysílání založen na experimentu a improvizaci. Vysílali půl hodiny každé úterý a většina jejich shows vznikla při skupinovém brainstormingu hodinu před před začátkem vysílání. Jejich živé vstupy tvořily z velké části různá živá performance\, doplněná o záběry natočené na portapak videokamery. Výsledný materiál by se dal stylově zařadit k psychadelickému video-artu a to zejména díky používání efektů prolínání videí klíčováním barev a zpěné vazby\, které již v té době analogové video-pulty umožňovali.\nOchutnávku experimentů\, které byli v rámci Electric Way vysílány\, ale také záběry\, které ještě nikdy uvedeny nebyly si pustíme v rámci audiovizuálního večírku Curryfikace. Digitalizovaná videa bude mixovat VJ Foolius a o zvukovou složku se postará improvizační skupina Curry Collective. Zážitek zvýrazní pálivé curry\, které se bude na místě podávat. Digitalizované záběry ze sedmdesátých let poskytla umělecká skupina IGUANA Collaborative\, jejiž členové Bonnie Sue Stein\, John K Erskine a Sherry Erskine byli součástí The Electric Way.\n𝗭𝗮́𝗯ě𝗿𝘆: IGUANA Collaborative (Bonnie Sue Stein\, Sherry Erskine and John K Erskine)\n👉 https://gohproductions.org/iguana/\n𝗩𝗝: VJ Foolius\n👉 https://www.facebook.com/FotonXperience/\n𝗛𝘂𝗱𝗯𝗮: Curry Collective\n👉 https://currycollective.bandcamp.com\n🇬🇧 In the 1970s in the United States\, cable television stations with more than 3\,500 subscribers were required to make their professional broadcast equipment and capacity available to the public for the production of non-commercial content. This type of broadcasting was referred to as „Public Access TV“.\n“The Electric Way“ was the name of a cablevision program brought to Public Access TV by Intermediary\, a multi-media collective of artists\, technicians and students associated with Michigan State University. They were fascinated by the fast development of recording technology and its possibilities to translate ideas through video art – a new medium which enabled creating content based on improvisation and experimentation unlike traditional broadcasting. They broadcast for half an hour every Tuesday and the concept for their shows was brainstormed on the spot 30 minutes before the actual showtime. Their entries were largely a variety of live performances\, supplemented by footage shot on portapak video cameras. For the video the group utilized an analog mixing console\, which enables the operator to mix different videos together by color-keying and also feeding the console’s output back to input. By using these effects the resulting material often slipped into psychedelic video-art sequences.\nA taste of the experiments that were broadcast as part of The Electric Way\, as well as footage that has never been shown before\, will be played in the audiovisual evening Curryfikace. The digitized videos will be mixed by VJ Foolius and the soundtrack will be performed by the improv group Curry Collective. The experience will be enhanced by the spicy curry that will be served on the site.\nThe digitized analog footage from the 1970s was provided by the IGUANA Collaborative\, whose members Bonnie Sue Stein\, John K Erskine and Sherry Erskine were part of The Electric Way.\nDivadlo Ruderál.\nVstupné dobrovolné.
URL:https://karlinem.cz/event/curryfikace-the-electric-way/
LOCATION:Přístav 18600\, Rohanský ostrov 8\, Karlín\, 18600\, Česká republika
ATTACH;FMTTYPE=image/png:https://karlinem.cz/wp-content/uploads/2023/08/Pristav-18600-2021-Facebook-cover-1920x1080.pptx-3-1536x864-2.png
END:VEVENT
BEGIN:VEVENT
DTSTART;TZID=Europe/Prague:20230831T210000
DTEND;TZID=Europe/Prague:20230831T230000
DTSTAMP:20260426T034107
CREATED:20230827T143604Z
LAST-MODIFIED:20230827T143604Z
UID:10000132-1693515600-1693522800@karlinem.cz
SUMMARY:Letní kino— Dobyvatelé ztracené archy | Promítání s americkým centrem
DESCRIPTION:Doby­vatelé ztra­cené archy — Steven Spiel­berg — USA — 1981 — 115 min — české titulky \nPro­fe­so­ra arche­olo­gie\, Indi­ana Jonese\, navštíví ve škole dva muži z armád­ní rozvěd­ky. Infor­mu­jí ho\, že nacisté zře­jmě objevili mís­to\, kde má být ukry­ta slavná archa úmlu­vy\, schrán­ka\, do níž Židé uložili desky s deseti přikázání­mi\, které dostal Mojžíš od Boha. Indi­ana dostává nabíd­ku\, aby archu našel a nacistům ji odve­zl pří­mo před oči­ma. Armá­da zaplatí výda­je. Indi­ana na nabíd­ku přis­toupí a odlétá do Nepálu\, kde se má nacházet u jeho známé Mary tal­is­man\, který může pomo­ci při hledání archy. Indi­ana sice Mary objeví\, ale také zjistí\, že jsou mu v patách nacisté. Ti Mary přepad­nou a snaží se ji o tal­is­man připrav­it. Naštěstí ji Indi­ana zachrání a s tal­is­man­em oba odletí do Káhiry. Tady se Indi­ana dozví od svého přítele Sal­la­ha podrob­nos­ti ohled­ně německ­ého pos­tupu vykopávek. Indy zjistí\, že s Něm­ci spolupracu­je jeho dávný nepří­tel\, Fran­couz Bel­loq. To už ale i Něm­ci vědí\, že Indy s Mary dorazili do Káhiry\, a pokusí se oba zabít. To se jim sice nepovede\, nicméně podaří se jim unést Mary. Indy a Sal­lah se vetřou na německé arche­o­log­ické nalez­iště a Indy se spustí do míst­nos­ti s mod­elem původ­ního umístění archy. Tady díky amule­tu objeví mís­to\, kde má kopat. Indy a Sal­lah se na toto mís­to v noci vypraví a za pomo­ci něko­li­ka děl­níků skutečně naj­dou hrobku\, ve které je archa ulože­na. Bohužel Něm­ci je spatří a Indy­ho a Sal­la­ha obklíčí. Počka­jí si\, až Indy a jeho lidé archu z hrobky vyzved­nou\, a násled­ně do hrobky za Indym shodí i Mary… (TV Prima) \nPromí­taní probíhá ve spoluprá­ci s Amer­ick­ým cen­trem. \n—Prodej vstu­penek na místě začíná jed­nu hod­inu před začátkem pro­jekce\, tedy v 20:30\n—Vstu­penky zak­oupené v před­prode­ji vám zajišťu­jí mís­to k sezení do 21:00\, pro­to doporuču­jeme při­jít včas\n—Neu­plat­něná vstu­pen­ka koupená přes GoOut propadá pět min­ut před zahá­jením projekce\n—Pro­jekce star­tu­je vždy se set­měním. Předtím se můžete osvěžit na baru a pohodl­ně se usa­dit do lehátka\n—V pří­padě nepříznivého počasí se promítání pře­sou­vá do vnitřních prostor
URL:https://karlinem.cz/event/letni-kino-dobyvatele-ztracene-archy-promitani-s-americkym-centrem/
LOCATION:Kasárna Karlín\, Prvního pluku 2\, Karlín\, 18600\, Česká republika
CATEGORIES:Kino
ATTACH;FMTTYPE=image/jpeg:https://karlinem.cz/wp-content/uploads/2023/08/347552453_649076557245453_7179548587804701667_n.jpeg
ORGANIZER;CN="Kas%C3%A1rna%20Karl%C3%ADn":MAILTO:info@kasarnakarlin.cz
END:VEVENT
END:VCALENDAR