BEGIN:VCALENDAR
VERSION:2.0
PRODID:-//Karlinem.cz - ECPv6.2.0.1//NONSGML v1.0//EN
CALSCALE:GREGORIAN
METHOD:PUBLISH
X-WR-CALNAME:Karlinem.cz
X-ORIGINAL-URL:https://karlinem.cz
X-WR-CALDESC:Akce na Karlinem.cz
REFRESH-INTERVAL;VALUE=DURATION:PT1H
X-Robots-Tag:noindex
X-PUBLISHED-TTL:PT1H
BEGIN:VTIMEZONE
TZID:Europe/Prague
BEGIN:DAYLIGHT
TZOFFSETFROM:+0100
TZOFFSETTO:+0200
TZNAME:CEST
DTSTART:20230326T010000
END:DAYLIGHT
BEGIN:STANDARD
TZOFFSETFROM:+0200
TZOFFSETTO:+0100
TZNAME:CET
DTSTART:20231029T010000
END:STANDARD
END:VTIMEZONE
BEGIN:VEVENT
DTSTART;TZID=Europe/Prague:20230901T190000
DTEND;TZID=Europe/Prague:20230901T220000
DTSTAMP:20260426T004824
CREATED:20230827T143605Z
LAST-MODIFIED:20230827T143605Z
UID:10000133-1693594800-1693605600@karlinem.cz
SUMMARY:Rekreace + Baro Chandel
DESCRIPTION:Ahoj všichni\,\nMoc rádi bychom Vás pozvali na koncert\, při jehož příležitosti oslavíme 30 společných let na tomto krásném světě. Život dvojčat je úžasný dar i prokletí\, člověk nikdy není sám a zároveň nemůže utéct před kritickým pohledem svého genetického zrcadla. Hádá se\, utěšuje se\, nadává si\, miluje se\, i když si to neumí říct\, hází po sobě prádelní koše\, kterými si vyráží první zuby\, přišlapává při společné koupeli slabiny toho druhého na stěnu smaltované vany\, navozuje si krvavá zranění při nelítostném souboji o zimní rukavice\, které v tíživé finanční situaci při „kopání si za barákem“ na maloměstě mají navozovat pocit finálového utkání ligy mistrů. \nTento unikátní vztah a vlastně komická situace mezi dvěma lidmi nás však dělá tím\, čím jsme. Jsme především bratry\, kteří sdílí životní hodnoty a postoje\, dobrá srdce a lásku k muzice.\nMuzika tak opět bude hlavním tématem večera\, nejdříve pro Vás zahrajeme naše rekreační písně\, bohužel nakonec nemohou vystoupit Island Mint\, bereme tak vše do vlastních rukou a budete svědky rekreace Baro Chandel.\nVelice brzy bude spuštěn předprodej vstupenek.\nMoc se na Vás těšíme!\nPéťa a Pája
URL:https://karlinem.cz/event/rekreace-baro-chandel/
LOCATION:Kasárna Karlín\, Prvního pluku 2\, Karlín\, 18600\, Česká republika
CATEGORIES:Koncert
ATTACH;FMTTYPE=image/jpeg:https://karlinem.cz/wp-content/uploads/2023/08/364090173_268003152603388_7196825820790359280_n.jpeg
ORGANIZER;CN="Kas%C3%A1rna%20Karl%C3%ADn":MAILTO:info@kasarnakarlin.cz
END:VEVENT
END:VCALENDAR