BEGIN:VCALENDAR
VERSION:2.0
PRODID:-//Karlinem.cz - ECPv6.2.0.1//NONSGML v1.0//EN
CALSCALE:GREGORIAN
METHOD:PUBLISH
X-WR-CALNAME:Karlinem.cz
X-ORIGINAL-URL:https://karlinem.cz
X-WR-CALDESC:Akce na Karlinem.cz
REFRESH-INTERVAL;VALUE=DURATION:PT1H
X-Robots-Tag:noindex
X-PUBLISHED-TTL:PT1H
BEGIN:VTIMEZONE
TZID:Europe/Prague
BEGIN:DAYLIGHT
TZOFFSETFROM:+0100
TZOFFSETTO:+0200
TZNAME:CEST
DTSTART:20230326T010000
END:DAYLIGHT
BEGIN:STANDARD
TZOFFSETFROM:+0200
TZOFFSETTO:+0100
TZNAME:CET
DTSTART:20231029T010000
END:STANDARD
END:VTIMEZONE
BEGIN:VEVENT
DTSTART;TZID=Europe/Prague:20230902T203000
DTEND;TZID=Europe/Prague:20230902T223000
DTSTAMP:20260426T051746
CREATED:20230827T143608Z
LAST-MODIFIED:20230827T143608Z
UID:10000134-1693686600-1693693800@karlinem.cz
SUMMARY:Letní kino v Kasárnách: Babí léto
DESCRIPTION:Babí léto Jan Vladimír Michálek — Česko — 2021 — 95 min — česky \nTragikomický příběh mladého pětased­mdesát­ní­ka\, věčného sníl­ka\, pábitele a rece­sisty (V. Brod­ský)\, který na rozdíl od své milo­vané\, ustarané maželky (S. Zázvorková)\, se odmítá smířit s údělem rezignu­jícího stáří a žije svůj živ­ot jako nikdy nekončící výzvu\, v níž každý den se pro něho stává báječ­nou příleži­tostí k nové­mu dobro­družství. Spolu se svým věrným a odd­aným kamará­dem z opere­ty přenáší divadel­ní role do živ­ota a splňu­je si tak své nes­plněné sny. Vys­tupu­je jako emer­it­ní člen Met­ro­pol­it­ní opere­ty\, který kupu­je zámky\, jako revi­zor\, horolezec a dobrodinec. V řadě vděčných komick­ých situ­ací\, plných jem­ného i černého humoru\, válčí s manželk­ou o svou bezs­tarost­nost a nezávis­lost\, s níž vždy zno­va dokazu­je\, co je to UMĚNÍ ŽÍT. Ten­to film o přá­tel­ství\, lásce a neumírání je věnován Vlas­tim­ilu Brod­ské­mu. (Česká televize)
URL:https://karlinem.cz/event/letni-kino-v-kasarnach-babi-leto/
LOCATION:Kasárna Karlín\, Prvního pluku 2\, Karlín\, 18600\, Česká republika
CATEGORIES:Kino
ATTACH;FMTTYPE=image/jpeg:https://karlinem.cz/wp-content/uploads/2023/08/366828627_664668392352936_276354649051731278_n.jpeg
ORGANIZER;CN="Kas%C3%A1rna%20Karl%C3%ADn":MAILTO:info@kasarnakarlin.cz
END:VEVENT
END:VCALENDAR