BEGIN:VCALENDAR
VERSION:2.0
PRODID:-//Karlinem.cz - ECPv6.2.0.1//NONSGML v1.0//EN
CALSCALE:GREGORIAN
METHOD:PUBLISH
X-WR-CALNAME:Karlinem.cz
X-ORIGINAL-URL:https://karlinem.cz
X-WR-CALDESC:Akce na Karlinem.cz
REFRESH-INTERVAL;VALUE=DURATION:PT1H
X-Robots-Tag:noindex
X-PUBLISHED-TTL:PT1H
BEGIN:VTIMEZONE
TZID:Europe/Prague
BEGIN:DAYLIGHT
TZOFFSETFROM:+0100
TZOFFSETTO:+0200
TZNAME:CEST
DTSTART:20230326T010000
END:DAYLIGHT
BEGIN:STANDARD
TZOFFSETFROM:+0200
TZOFFSETTO:+0100
TZNAME:CET
DTSTART:20231029T010000
END:STANDARD
END:VTIMEZONE
BEGIN:VEVENT
DTSTART;TZID=Europe/Prague:20230911T190000
DTEND;TZID=Europe/Prague:20230911T220000
DTSTAMP:20260426T021420
CREATED:20230901T163657Z
LAST-MODIFIED:20230901T163657Z
UID:10000144-1694458800-1694469600@karlinem.cz
SUMMARY:Člověk krve
DESCRIPTION:Zveme vás na novou kon­cert­ní sérii v rohu nád­voří Kasáren. Jednoduchý recept: intim­ní sólové kon­cer­ty pod širým nebem. \nČlověk krve\, vlast­ním jménem Jan Sen­ft\, je bás­ník a pís­ničkář ze Stříbrné Skalice. Jeho pís­ně se odehrá­va­jí v nejistém čase\, přesto však rezonu­jí s každým prožíváním v dnešní i zítře­jší době. Ve svých mag­icko-folkových sklad­bách bás­ní o své rod­né kra­jině kolem Stříbrné Skalice ležící v Posáza­ví i dalších ponurých a poloza­pomenutých místech napříč Českem.
URL:https://karlinem.cz/event/clovek-krve/
LOCATION:Kasárna Karlín\, Prvního pluku 2\, Karlín\, 18600\, Česká republika
CATEGORIES:Koncert
ORGANIZER;CN="Kas%C3%A1rna%20Karl%C3%ADn":MAILTO:info@kasarnakarlin.cz
END:VEVENT
END:VCALENDAR