BEGIN:VCALENDAR
VERSION:2.0
PRODID:-//Karlinem.cz - ECPv6.2.0.1//NONSGML v1.0//EN
CALSCALE:GREGORIAN
METHOD:PUBLISH
X-WR-CALNAME:Karlinem.cz
X-ORIGINAL-URL:https://karlinem.cz
X-WR-CALDESC:Akce na Karlinem.cz
REFRESH-INTERVAL;VALUE=DURATION:PT1H
X-Robots-Tag:noindex
X-PUBLISHED-TTL:PT1H
BEGIN:VTIMEZONE
TZID:Europe/Prague
BEGIN:DAYLIGHT
TZOFFSETFROM:+0100
TZOFFSETTO:+0200
TZNAME:CEST
DTSTART:20230326T010000
END:DAYLIGHT
BEGIN:STANDARD
TZOFFSETFROM:+0200
TZOFFSETTO:+0100
TZNAME:CET
DTSTART:20231029T010000
END:STANDARD
END:VTIMEZONE
BEGIN:VEVENT
DTSTART;TZID=Europe/Prague:20230928T203000
DTEND;TZID=Europe/Prague:20230928T223000
DTSTAMP:20260425T214635
CREATED:20230912T084402Z
LAST-MODIFIED:20230912T084402Z
UID:10000170-1695933000-1695940200@karlinem.cz
SUMMARY:Letní kino - Ukradené Vánoce
DESCRIPTION:Ukradené Vánoce — Hen­ry Selick — USA — 1993 — 76 min — české titulky \nJack Skelling­ton\, smut­ný kostlivec s tykvovou hlavou a neko­runo­vaný vlád­ce Hal­loween­ového městeč­ka\, se nudí. Vždyť koho by už vzrušo­val per­ma­nent­ní svátek Všech svatých\, který v Hal­loween­townu trvá celý rok? Ani jeho nejmile­jší prá­ci\, strašení dětí\, kter­ou vykonává svě­domitě a s invencí\, ten­to rok nikdo neoce­nil. Všech­ny poblázni­ly nové hvězdy\, pop­ulární upíři\, kteří vytvořili reko­rd v pití lid­ské krve za noc. Jed­no­ho dne se Jack náhodou ocitne v soused­ním Vánočním městě. Úplně ho uchvátí vánoční svátky\, které dosud nez­nal. Všude vládne radost dětí\, San­ta Claus\, jeho dárečky a štěstí dospělých…
URL:https://karlinem.cz/event/letni-kino-ukradene-vanoce/
LOCATION:Kasárna Karlín\, Prvního pluku 2\, Karlín\, 18600\, Česká republika
CATEGORIES:Kino
ATTACH;FMTTYPE=image/jpeg:https://karlinem.cz/wp-content/uploads/2023/09/374693052_676582707828171_750992668446056339_n.jpeg
ORGANIZER;CN="Kas%C3%A1rna%20Karl%C3%ADn":MAILTO:info@kasarnakarlin.cz
END:VEVENT
END:VCALENDAR